{"text_format":"3","workbook":"xlsx","n_sheets":6,"sheets":["Vista Principal","Cronograma","RCI","Proceso Prima de Seguro","TarifarioBD","CostoCapBD"],"not_rendered":{"images":2,"macros":1,"defined_names":5,"comments":1},"read":"whole","date_system":"1900"}

{"sheet":"Vista Principal","index":0,"n_rows":407,"n_cols":21,"rows_kept":407,"merged":[[1,2,3,8],[7,1,7,2],[37,1,37,2],[40,1,40,4]]}
{"$rows_empty":7}
[null,"Ingresar los datos del préstamo:"]
[null,"Producto","Préstamos Vehiculares (Clientes)"]
[null,"Tipo de Seguro","Seguro de Vida"]
[null,"Tarifa","TARIFA TITULAR"]
[]
[null,"Valor del Vehiculo ",{"v":108103.71,"d":"108,103.71"}]
[null,"Valor de Cuota Inicial",{"v":37290,"d":"37,290.00"},{"$f":"C14/C13","v":{"v":0.34494653328734043,"d":"34%"}}]
[null,"Monto inicial",{"$f":"C13-C14","v":{"v":70813.71,"d":"70,813.71"}}]
[null,"Seguro Desempleo",{"v":0,"d":"0.000%"}]
[null,"Monto adicional desempleo",{"$f":"C16*C15","v":0}]
[]
[null,"Prima de Seguro de Desgravamen/Vida",{"$f":"IF(C10=\"Seguro de vida\",'Proceso Prima de Seguro'!D13,'Proceso Prima de Seguro'!H16)","v":{"v":0.0314,"d":"3.1400%"}},"Más Detalle"]
[null,"Monto adicional del Seguro",{"$f":"+C19*C15","v":{"v":2223.550494,"d":"2,223.55"}}]
[null,"MAF Inicial",{"$f":"C15+C17+C20","v":{"v":73037.260494,"d":"73,037.26"}}]
[]
[null,"Empleado",{"$f":"IF(OR(C9=\"Préstamos Personales (LD Y PA) (Empleados)\",C9 = \"Préstamos Vehiculares (Empleados)\"),\"SI\",\"NO\")","v":"NO"}]
[null,"Moneda","Soles"]
[null,"Plazo (meses)",60]
[]
[null,"Fecha de Desembolso",{"$f":"TODAY()","v":"2024-08-15"}]
[null,"Fecha de 1er Pago","2024-11-30"]
[null,"Cuota Julio",2]
[null,"Cuota Diciembre",2]
[null,"TEA (De acuerdo al tarifario)",{"v":0.1,"d":"10.000%"}]
[null,"TEA TOTAL",{"$f":"+C31","v":{"v":0.1,"d":"10.000%"}}]
[null,"Monto del Bien",{"$f":"C13","v":{"v":108103.71,"d":"108,103.71"}}]
[null,"Tipo Seguro Vehicular","PC - Auto/4x4 con GPS Prov/Valor >50k"]
[null,"Tasa Seguro Vehicular (Mensual)",{"$f":"VLOOKUP('Vista Principal'!C34,TarifarioBD!N:O,2,0)","v":{"v":3.444E-3,"d":"0.3444%"}},"Más Detalle"]
[null,"Portes",0,{"$nulls":12},48]
[null,"Cuota",{"$f":"(C21+(C35*C33+C36)*P46)/O46","v":{"v":1664.493428434219,"d":"1,664.49"}}]
[null,"No te olvides presionar el botón para calcular la TCEA:"]
[null,"TCEA",{"v":0.3355518208162203,"d":"33.56%"}]
[{"$nulls":20},{"$f":"C21-U46-C17-C20","v":{"v":13751.900000000005,"d":"13,751.90"}}]
[null,"Importante: \n- Las datos del simulador son referenciales.\n- El otorgamiendo del préstamo esta sujeto a calificación.\n- La fecha de desembolso, es la fecha de solicitud que ha ingresado en este simulador."]
[]
[]
[]
[]
[{"$nulls":14},{"$f":"SUM(O48:O407)","v":{"v":54.27284643017171,"d":"54.27"}},{"$f":"SUM(P48:P407)","v":{"v":46.465509820856866,"d":"46.47"}},{"$nulls":4},{"$f":"SUM(U48:U407)","v":{"v":57061.81,"d":"57,061.81"}}]
[null,"N° Cuota","Fecha de pago","Día","Fecha de pago","Días","Dias Acumulados","Saldo Inicial","Amortización","Interés","Seguro del Bien","Portes","Cuota Constante","Saldo Final","Factor Cronograma","Factor Cronograma 2",null,"Vector i,1\nCuota","Vector i,2\nDías Acum","Vector i,3 Factor","Vector i,4\nCalculo VA"]
[null,1,{"$f":"C28","v":"2024-11-30"},{"$f":"IF(B48<=$C$25,WEEKDAY(C48,2),\"\")","v":6},{"$f":"IF(D48=7,C48+1,C48)","v":"2024-11-30"},{"$f":"E48-C27","v":107},{"$f":"F48","v":107},{"$f":"C21","v":{"v":73037.260494,"d":"73,037.26"}},{"$f":"IF(B48>C$25,\"\",M48-L48-K48-J48)","v":{"v":-806.4220637307906,"d":"-806.42"}},{"$f":"IF(B48>C$25,\"\",((1+C$31)^(F48/360)-1)*H48)","v":{"v":2098.6063149250094,"d":"2,098.61"}},{"$f":"IF(B48>C$25,\"\",C$33*C$35)","v":{"v":372.30917724,"d":"372.31"}},{"$f":"IF(B48>C$25,\"\",C$36)","v":0},{"$f":"IF(B48>C$25,\"\",IF(B48=C$25,H48+J48+K48+L48,IF(AND(C$29=2,MONTH(E48)=7),2*C$37,IF(AND(C$30=2,MONTH(E48)=12),2*C$37,C$37))))","v":{"v":1664.493428434219,"d":"1,664.49"}},{"$f":"IF(B48>C$25,\"\",H48-I48)","v":{"v":73843.68255773079,"d":"73,843.68"}},{"$f":"IFERROR(IF(AND(MONTH(E48)=7,C$29=2),2/(1+C$32)^(G48/360),IF(AND(MONTH(E48)=12,C$30=2),2/(1+C$32)^(G48/360),1/(1+C$32)^(G48/360))),\"\")","v":{"v":0.9720691807514261,"d":"0.97"}},{"$f":"IFERROR(1/(1+C$32)^(G48/360),\"\")","v":{"v":0.9720691807514261,"d":"0.97"}},null,{"$f":"IFERROR(I48+J48+K48+L48,\"\")","v":{"v":1664.493428434219,"d":"1,664.49"}},{"$f":"G48","v":107},{"$f":"IFERROR((1+C$39)^(S48/360),\"\")","v":{"v":1.0898059269686449,"d":"1.09"}},{"$f":"IFERROR(ROUND(R48/T48,2),\"\")","v":{"v":1527.33,"d":"1,527.33"}}]
[null,2,{"$f":"IF(B49>$C$25,\"\",EDATE(C48,1))","v":"2024-12-30"},1,{"$f":"IF(D49=7,C49+1,C49)","v":"2024-12-30"},{"$f":"IF(B49>C$25,\"\",E49-E48)","v":30},{"$f":"IFERROR(F49+G48,\"\")","v":137},{"$f":"IF(B49>C$25,\"\",N48)","v":{"v":73843.68255773079,"d":"73,843.68"}},{"$f":"IF(B49>C$25,\"\",M49-L49-K49-J49)","v":{"v":2367.837785125701,"d":"2,367.84"}},{"v":588.8398945027368,"d":"588.84"},{"v":372.30917724,"d":"372.31"},0,{"v":3328.986856868438,"d":"3,328.99"},{"v":71475.8447726051,"d":"71,475.84"},{"v":1.928758172978129,"d":"1.93"},{"v":0.9643790864890645,"d":"0.96"},null,{"$f":"IFERROR(I49+J49+K49+L49,\"\")","v":{"v":3328.9868568684374,"d":"3,328.99"}},137,{"v":1.1164027411415365,"d":"1.12"},{"v":2981.89,"d":"2,981.89"}]
[null,3,"2025-01-30",4,"2025-01-30",31,168,{"v":71475.8447726051,"d":"71,475.84"},{"v":703.1491401531835,"d":"703.15"},{"v":589.0351110410354,"d":"589.04"},{"v":372.30917724,"d":"372.31"},0,{"v":1664.493428434219,"d":"1,664.49"},{"v":70772.69563245191,"d":"70,772.70"},{"v":0.9564965625299195,"d":"0.96"},{"v":0.9564965625299195,"d":"0.96"},null,{"v":1664.493428434219,"d":"1,664.49"},168,{"v":1.1445682128176462,"d":"1.14"},{"v":1454.25,"d":"1,454.25"}]
[null,4,"2025-02-28",5,"2025-02-28",29,197,{"v":70772.69563245191,"d":"70,772.70"},{"v":746.7168566371254,"d":"746.72"},{"v":545.4673945570935,"d":"545.47"},{"v":372.30917724,"d":"372.31"},0,{"v":1664.493428434219,"d":"1,664.49"},{"v":70025.97877581479,"d":"70,025.98"},{"v":0.9491809269930307,"d":"0.95"},{"v":0.9491809269930307,"d":"0.95"},null,{"v":1664.493428434219,"d":"1,664.49"},197,{"v":1.1715595038862912,"d":"1.17"},{"v":1420.75,"d":"1,420.75"}]
[null,5,"2025-03-28",5,"2025-03-28",28,225,{"v":70025.97877581479,"d":"70,025.98"},{"v":771.1518670685966,"d":"771.15"},{"v":521.0323841256222,"d":"521.03"},{"v":372.30917724,"d":"372.31"},0,{"v":1664.493428434219,"d":"1,664.49"},{"v":69254.8269087462,"d":"69,254.83"},{"v":0.9421706512460326,"d":"0.94"},{"v":0.9421706512460326,"d":"0.94"},null,{"v":1664.493428434219,"d":"1,664.49"},225,{"v":1.198223864116641,"d":"1.20"},{"v":1389.13,"d":"1,389.13"}]
[null,6,"2025-04-28",1,"2025-04-28",31,256,{"v":69254.8269087462,"d":"69,254.83"},{"v":721.4526314686673,"d":"721.45"},{"v":570.7316197255516,"d":"570.73"},{"v":372.30917724,"d":"372.31"},0,{"v":1664.493428434219,"d":"1,664.49"},{"v":68533.37427727753,"d":"68,533.37"},{"v":0.9344696518816771,"d":"0.93"},{"v":0.9344696518816771,"d":"0.93"},null,{"v":1664.493428434219,"d":"1,664.49"},256,{"v":1.2284535823560527,"d":"1.23"},{"v":1354.95,"d":"1,354.95"}]
[null,7,"2025-05-28",3,"2025-05-28",30,286,{"v":68533.37427727753,"d":"68,533.37"},{"v":745.6895006405869,"d":"745.69"},{"v":546.494750553632,"d":"546.49"},{"v":372.30917724,"d":"372.31"},0,{"v":1664.493428434219,"d":"1,664.49"},{"v":67787.68477663695,"d":"67,787.68"},{"v":0.9270770096185704,"d":"0.93"},{"v":0.9270770096185704,"d":"0.93"},null,{"v":1664.493428434219,"d":"1,664.49"},286,{"v":1.258434105347728,"d":"1.26"},{"v":1322.67,"d":"1,322.67"}]
[null,8,"2025-06-28",6,"2025-06-28",31,317,{"v":67787.68477663695,"d":"67,787.68"},{"v":733.5434046725285,"d":"733.54"},{"v":558.6408465216904,"d":"558.64"},{"v":372.30917724,"d":"372.31"},0,{"v":1664.493428434219,"d":"1,664.49"},{"v":67054.14137196442,"d":"67,054.14"},{"v":0.9194993808181624,"d":"0.92"},{"v":0.9194993808181624,"d":"0.92"},null,{"v":1664.493428434219,"d":"1,664.49"},317,{"v":1.2901828541139475,"d":"1.29"},{"v":1290.12,"d":"1,290.12"}]
[null,9,"2025-07-28",1,"2025-07-28",30,347,{"v":67054.14137196442,"d":"67,054.14"},{"v":2421.978539988828,"d":"2,421.98"},{"v":534.69913963961,"d":"534.70"},{"v":372.30917724,"d":"372.31"},0,{"v":3328.986856868438,"d":"3,328.99"},{"v":64632.16283197559,"d":"64,632.16"},{"v":1.8244503384321062,"d":"1.82"},{"v":0.9122251692160531,"d":"0.91"},null,{"v":3328.986856868438,"d":"3,328.99"},347,{"v":1.3216698856768683,"d":"1.32"},{"v":2518.77,"d":"2,518.77"}]
[null,10,"2025-08-28",4,"2025-08-28",31,378,{"v":64632.16283197559,"d":"64,632.16"},{"v":759.548179082392,"d":"759.55"},{"v":532.6360721118268,"d":"532.64"},{"v":372.30917724,"d":"372.31"},0,{"v":1664.493428434219,"d":"1,664.49"},{"v":63872.6146528932,"d":"63,872.61"},{"v":0.9047689345742806,"d":"0.90"},{"v":0.9047689345742806,"d":"0.90"},null,{"v":1664.493428434219,"d":"1,664.49"},378,{"v":1.3550139956099336,"d":"1.36"},{"v":1228.4,"d":"1,228.40"}]
[null,11,"2025-09-28",7,"2025-09-29",32,410,{"v":63872.6146528932,"d":"63,872.61"},{"v":748.7557217912645,"d":"748.76"},{"v":543.4285294029544,"d":"543.43"},{"v":372.30917724,"d":"372.31"},0,{"v":1664.493428434219,"d":"1,664.49"},{"v":63123.85893110194,"d":"63,123.86"},{"v":0.8971360961185914,"d":"0.90"},{"v":0.8971360961185914,"d":"0.90"},null,{"v":1664.493428434219,"d":"1,664.49"},410,{"v":1.3903163333146824,"d":"1.39"},{"v":1197.2,"d":"1,197.20"}]
[null,12,"2025-10-28",2,"2025-10-28",29,439,{"v":63123.85893110194,"d":"63,123.86"},{"v":805.6688435523297,"d":"805.67"},{"v":486.5154076418891,"d":"486.52"},{"v":372.30917724,"d":"372.31"},0,{"v":1664.493428434219,"d":"1,664.49"},{"v":62318.19008754961,"d":"62,318.19"},{"v":0.8902744711391648,"d":"0.89"},{"v":0.8902744711391648,"d":"0.89"},null,{"v":1664.493428434219,"d":"1,664.49"},439,{"v":1.423102874483432,"d":"1.42"},{"v":1169.62,"d":"1,169.62"}]
[null,13,"2025-11-28",5,"2025-11-28",31,470,{"v":62318.19008754961,"d":"62,318.19"},{"v":778.6177150465378,"d":"778.62"},{"v":513.5665361476811,"d":"513.57"},{"v":372.30917724,"d":"372.31"},0,{"v":1664.493428434219,"d":"1,664.49"},{"v":61539.57237250307,"d":"61,539.57"},{"v":0.8829976544316209,"d":"0.88"},{"v":0.8829976544316209,"d":"0.88"},null,{"v":1664.493428434219,"d":"1,664.49"},470,{"v":1.4590060142969983,"d":"1.46"},{"v":1140.84,"d":"1,140.84"}]
[null,14,"2025-12-28",7,"2025-12-29",31,501,{"v":61539.57237250307,"d":"61,539.57"},{"v":2449.527761202451,"d":"2,449.53"},{"v":507.149918425987,"d":"507.15"},{"v":372.30917724,"d":"372.31"},0,{"v":3328.986856868438,"d":"3,328.99"},{"v":59090.04461130062,"d":"59,090.04"},{"v":1.7515606321589479,"d":"1.75"},{"v":0.8757803160794739,"d":"0.88"},null,{"v":3328.986856868438,"d":"3,328.99"},501,{"v":1.4958149462859478,"d":"1.50"},{"v":2225.53,"d":"2,225.53"}]
[null,15,"2026-01-28",3,"2026-01-28",30,531,{"v":59090.04461130062,"d":"59,090.04"},{"v":820.9919375135196,"d":"820.99"},{"v":471.19231368069927,"d":"471.19"},{"v":372.30917724,"d":"372.31"},0,{"v":1664.493428434219,"d":"1,664.49"},{"v":58269.0526737871,"d":"58,269.05"},{"v":0.868851968470957,"d":"0.87"},{"v":0.868851968470957,"d":"0.87"},null,{"v":1664.493428434219,"d":"1,664.49"},531,{"v":1.5323204480261179,"d":"1.53"},{"v":1086.26,"d":"1,086.26"}]
[null,16,"2026-02-28",6,"2026-02-28",31,562,{"v":58269.0526737871,"d":"58,269.05"},{"v":811.9868079719026,"d":"811.99"},{"v":480.1974432223162,"d":"480.20"},{"v":372.30917724,"d":"372.31"},0,{"v":1664.493428434219,"d":"1,664.49"},{"v":57457.065865815195,"d":"57,457.07"},{"v":0.8617502523985399,"d":"0.86"},{"v":0.8617502523985399,"d":"0.86"},null,{"v":1664.493428434219,"d":"1,664.49"},562,{"v":1.5709790132437855,"d":"1.57"},{"v":1059.53,"d":"1,059.53"}]
[null,17,"2026-03-28",6,"2026-03-28",28,590,{"v":57457.065865815195,"d":"57,457.07"},{"v":864.6715975150662,"d":"864.67"},{"v":427.51265367915266,"d":"427.51"},{"v":372.30917724,"d":"372.31"},0,{"v":1664.493428434219,"d":"1,664.49"},{"v":56592.39426830013,"d":"56,592.39"},{"v":0.8553857051109146,"d":"0.86"},{"v":0.8553857051109146,"d":"0.86"},null,{"v":1664.493428434219,"d":"1,664.49"},590,{"v":1.606734047609942,"d":"1.61"},{"v":1035.95,"d":"1,035.95"}]
[null,18,"2026-04-28",2,"2026-04-28",31,621,{"v":56592.39426830013,"d":"56,592.39"},{"v":825.8042126237247,"d":"825.80"},{"v":466.3800385704942,"d":"466.38"},{"v":372.30917724,"d":"372.31"},0,{"v":1664.493428434219,"d":"1,664.49"},{"v":55766.5900556764,"d":"55,766.59"},{"v":0.8483940579367789,"d":"0.85"},{"v":0.8483940579367789,"d":"0.85"},null,{"v":1664.493428434219,"d":"1,664.49"},621,{"v":1.6472699766625039,"d":"1.65"},{"v":1010.46,"d":"1,010.46"}]
[null,19,"2026-05-28",4,"2026-05-28",30,651,{"v":55766.5900556764,"d":"55,766.59"},{"v":847.493630849147,"d":"847.49"},{"v":444.6906203450718,"d":"444.69"},{"v":372.30917724,"d":"372.31"},0,{"v":1664.493428434219,"d":"1,664.49"},{"v":54919.09642482726,"d":"54,919.10"},{"v":0.8416823645652043,"d":"0.84"},{"v":0.8416823645652043,"d":"0.84"},null,{"v":1664.493428434219,"d":"1,664.49"},651,{"v":1.6874717523894374,"d":"1.69"},986.38]
[null,20,"2026-06-28",7,"2026-06-29",32,683,{"v":54919.09642482726,"d":"54,919.10"},{"v":824.9323002842826,"d":"824.93"},{"v":467.2519509099362,"d":"467.25"},{"v":372.30917724,"d":"372.31"},0,{"v":1664.493428434219,"d":"1,664.49"},{"v":54094.16412454298,"d":"54,094.16"},{"v":0.8345817388979981,"d":"0.83"},{"v":0.8345817388979981,"d":"0.83"},null,{"v":1664.493428434219,"d":"1,664.49"},683,{"v":1.7314356508163766,"d":"1.73"},961.34]
[null,21,"2026-07-28",2,"2026-07-28",29,712,{"v":54094.16412454298,"d":"54,094.16"},{"v":2539.7569660386002,"d":"2,539.76"},{"v":416.9207135898379,"d":"416.92"},{"v":372.30917724,"d":"372.31"},0,{"v":3328.986856868438,"d":"3,328.99"},{"v":51554.40715850438,"d":"51,554.41"},{"v":1.6563971050421376,"d":"1.66"},{"v":0.8281985525210688,"d":"0.83"},null,{"v":3328.986856868438,"d":"3,328.99"},712,{"v":1.7722664926084677,"d":"1.77"},{"v":1878.38,"d":"1,878.38"}]
[null,22,"2026-08-28",5,"2026-08-28",31,743,{"v":51554.40715850438,"d":"51,554.41"},{"v":867.3224528919283,"d":"867.32"},{"v":424.8617983022906,"d":"424.86"},{"v":372.30917724,"d":"372.31"},0,{"v":1664.493428434219,"d":"1,664.49"},{"v":50687.08470561245,"d":"50,687.08"},{"v":0.821429124373323,"d":"0.82"},{"v":0.821429124373323,"d":"0.82"},null,{"v":1664.493428434219,"d":"1,664.49"},743,{"v":1.8169786021909302,"d":"1.82"},916.08]
[null,23,"2026-09-28",1,"2026-09-28",31,774,{"v":50687.08470561245,"d":"50,687.08"},{"v":874.4700896770955,"d":"874.47"},{"v":417.7141615171233,"d":"417.71"},{"v":372.30917724,"d":"372.31"},0,{"v":1664.493428434219,"d":"1,664.49"},{"v":49812.61461593535,"d":"49,812.61"},{"v":0.8147150273503516,"d":"0.81"},{"v":0.8147150273503516,"d":"0.81"},null,{"v":1664.493428434219,"d":"1,664.49"},774,{"v":1.8628187434501478,"d":"1.86"},893.53]
[null,24,"2026-10-28",3,"2026-10-28",30,804,{"v":49812.61461593535,"d":"49,812.61"},{"v":894.9714671158863,"d":"894.97"},{"v":397.2127840783326,"d":"397.21"},{"v":372.30917724,"d":"372.31"},0,{"v":1664.493428434219,"d":"1,664.49"},{"v":48917.643148819465,"d":"48,917.64"},{"v":0.8082697706943968,"d":"0.81"},{"v":0.8082697706943968,"d":"0.81"},null,{"v":1664.493428434219,"d":"1,664.49"},804,{"v":1.9082810067130533,"d":"1.91"},872.25]
[null,25,"2026-11-28",6,"2026-11-28",31,835,{"v":48917.643148819465,"d":"48,917.64"},{"v":889.0521237503137,"d":"889.05"},{"v":403.1321274439051,"d":"403.13"},{"v":372.30917724,"d":"372.31"},0,{"v":1664.493428434219,"d":"1,664.49"},{"v":48028.59102506915,"d":"48,028.59"},{"v":0.8016632339888503,"d":"0.80"},{"v":0.8016632339888503,"d":"0.80"},null,{"v":1664.493428434219,"d":"1,664.49"},835,{"v":1.9564245956383877,"d":"1.96"},850.78]
[null,26,"2026-12-28",1,"2026-12-28",30,865,{"v":48028.59102506915,"d":"48,028.59"},{"v":2573.6909501921496,"d":"2,573.69"},{"v":382.9867294362884,"d":"382.99"},{"v":372.30917724,"d":"372.31"},0,{"v":3328.986856868438,"d":"3,328.99"},{"v":45454.900074877005,"d":"45,454.90"},{"v":1.5906424616165928,"d":"1.59"},{"v":0.7953212308082964,"d":"0.80"},null,{"v":3328.986856868438,"d":"3,328.99"},865,{"v":2.004171318358282,"d":"2.00"},{"v":1661.03,"d":"1,661.03"}]
[null,27,"2027-01-28",4,"2027-01-28",31,896,{"v":45454.900074877005,"d":"45,454.90"},{"v":917.5887189812669,"d":"917.59"},{"v":374.595532212952,"d":"374.60"},{"v":372.30917724,"d":"372.31"},0,{"v":1664.493428434219,"d":"1,664.49"},{"v":44537.31135589574,"d":"44,537.31"},{"v":0.7888205312961507,"d":"0.79"},{"v":0.7888205312961507,"d":"0.79"},null,{"v":1664.493428434219,"d":"1,664.49"},896,{"v":2.054734102218497,"d":"2.05"},810.08]
[null,28,"2027-02-28",7,"2027-03-01",32,928,{"v":44537.31135589574,"d":"44,537.31"},{"v":913.2605803029785,"d":"913.26"},{"v":378.9236708912404,"d":"378.92"},{"v":372.30917724,"d":"372.31"},0,{"v":1664.493428434219,"d":"1,664.49"},{"v":43624.05077559276,"d":"43,624.05"},{"v":0.7821658601908175,"d":"0.78"},{"v":0.7821658601908175,"d":"0.78"},null,{"v":1664.493428434219,"d":"1,664.49"},928,{"v":2.1082663294906814,"d":"2.11"},789.51]
[null,29,"2027-03-28",7,"2027-03-29",28,956,{"v":43624.05077559276,"d":"43,624.05"},{"v":967.5969540485128,"d":"967.60"},{"v":324.58729714570603,"d":"324.59"},{"v":372.30917724,"d":"372.31"},0,{"v":1664.493428434219,"d":"1,664.49"},{"v":42656.45382154425,"d":"42,656.45"},{"v":0.7763890918172722,"d":"0.78"},{"v":0.7763890918172722,"d":"0.78"},null,{"v":1664.493428434219,"d":"1,664.49"},956,{"v":2.1562498699635113,"d":"2.16"},771.94]
[null,30,"2027-04-28",3,"2027-04-28",30,986,{"v":42656.45382154425,"d":"42,656.45"},{"v":952.0356982221764,"d":"952.04"},{"v":340.14855297204247,"d":"340.15"},{"v":372.30917724,"d":"372.31"},0,{"v":1664.493428434219,"d":"1,664.49"},{"v":41704.41812332207,"d":"41,704.42"},{"v":0.7702470338047666,"d":"0.77"},{"v":0.7702470338047666,"d":"0.77"},null,{"v":1664.493428434219,"d":"1,664.49"},986,{"v":2.208873346935473,"d":"2.21"},753.55]
[null,31,"2027-05-28",5,"2027-05-28",30,1016,{"v":41704.41812332207,"d":"41,704.42"},{"v":959.6273645731294,"d":"959.63"},{"v":332.5568866210894,"d":"332.56"},{"v":372.30917724,"d":"372.31"},0,{"v":1664.493428434219,"d":"1,664.49"},{"v":40744.790758748946,"d":"40,744.79"},{"v":0.7641535659605495,"d":"0.76"},{"v":0.7641535659605495,"d":"0.76"},null,{"v":1664.493428434219,"d":"1,664.49"},1016,{"v":2.2627811047169986,"d":"2.26"},{"v":735.6,"d":"735.60"}]
[null,32,"2027-06-28",1,"2027-06-28",31,1047,{"v":40744.790758748946,"d":"40,744.79"},{"v":956.4049060843016,"d":"956.40"},{"v":335.77934510991724,"d":"335.78"},{"v":372.30917724,"d":"372.31"},0,{"v":1664.493428434219,"d":"1,664.49"},{"v":39788.38585266464,"d":"39,788.39"},{"v":0.757907620899589,"d":"0.76"},{"v":0.757907620899589,"d":"0.76"},null,{"v":1664.493428434219,"d":"1,664.49"},1047,{"v":2.3198682962523534,"d":"2.32"},717.49]
[null,33,"2027-07-28",3,"2027-07-28",30,1077,{"v":39788.38585266464,"d":"39,788.39"},{"v":2639.399503399882,"d":"2,639.40"},{"v":317.2781762285557,"d":"317.28"},{"v":372.30917724,"d":"372.31"},0,{"v":3328.986856868438,"d":"3,328.99"},{"v":37148.986349264764,"d":"37,148.99"},{"v":1.5038235416973915,"d":"1.50"},{"v":0.7519117708486958,"d":"0.75"},null,{"v":3328.986856868438,"d":"3,328.99"},1077,{"v":2.3764848960102865,"d":"2.38"},{"v":1400.8,"d":"1,400.80"}]
[null,34,"2027-08-28",6,"2027-08-28",31,1108,{"v":37148.986349264764,"d":"37,148.99"},{"v":986.0380647599463,"d":"986.04"},{"v":306.14618643427247,"d":"306.15"},{"v":372.30917724,"d":"372.31"},0,{"v":1664.493428434219,"d":"1,664.49"},{"v":36162.94828450482,"d":"36,162.95"},{"v":0.7457658862770428,"d":"0.75"},{"v":0.7457658862770428,"d":"0.75"},null,{"v":1664.493428434219,"d":"1,664.49"},1108,{"v":2.4364406947203814,"d":"2.44"},683.17]
[null,35,"2027-09-28",2,"2027-09-28",31,1139,{"v":36162.94828450482,"d":"36,162.95"},{"v":994.1640413442647,"d":"994.16"},{"v":298.02020984995414,"d":"298.02"},{"v":372.30917724,"d":"372.31"},0,{"v":1664.493428434219,"d":"1,664.49"},{"v":35168.78424316055,"d":"35,168.78"},{"v":0.7396702361858601,"d":"0.74"},{"v":0.7396702361858601,"d":"0.74"},null,{"v":1664.493428434219,"d":"1,664.49"},1139,{"v":2.497909104684602,"d":"2.50"},666.35]
[null,36,"2027-10-28",4,"2027-10-28",30,1169,{"v":35168.78424316055,"d":"35,168.78"},{"v":1011.7434269254386,"d":"1,011.74"},{"v":280.44082426878026,"d":"280.44"},{"v":372.30917724,"d":"372.31"},0,{"v":1664.493428434219,"d":"1,664.49"},{"v":34157.040816235116,"d":"34,157.04"},{"v":0.7338186631168162,"d":"0.73"},{"v":0.7338186631168162,"d":"0.73"},null,{"v":1664.493428434219,"d":"1,664.49"},1169,{"v":2.5588708067950567,"d":"2.56"},650.48]
[null,37,"2027-11-28",7,"2027-11-29",32,1201,{"v":34157.040816235116,"d":"34,157.04"},{"v":1001.5759746989564,"d":"1,001.58"},{"v":290.60827649526243,"d":"290.61"},{"v":372.30917724,"d":"372.31"},0,{"v":1664.493428434219,"d":"1,664.49"},{"v":33155.46484153616,"d":"33,155.46"},{"v":0.7276280003991842,"d":"0.73"},{"v":0.7276280003991842,"d":"0.73"},null,{"v":1664.493428434219,"d":"1,664.49"},1201,{"v":2.6255373664446053,"d":"2.63"},633.96]
[null,38,"2027-12-28",2,"2027-12-28",29,1230,{"v":33155.46484153616,"d":"33,155.46"},{"v":2701.1380981440034,"d":"2,701.14"},{"v":255.53958148443473,"d":"255.54"},{"v":372.30917724,"d":"372.31"},0,{"v":3328.986856868438,"d":"3,328.99"},{"v":30454.326743392157,"d":"30,454.33"},{"v":1.4441256706625734,"d":"1.44"},{"v":0.7220628353312867,"d":"0.72"},null,{"v":3328.986856868438,"d":"3,328.99"},1230,{"v":2.6874529801019627,"d":"2.69"},{"v":1238.71,"d":"1,238.71"}]
[null,39,"2028-01-28",5,"2028-01-28",31,1261,{"v":30454.326743392157,"d":"30,454.33"},{"v":1041.2090050527502,"d":"1,041.21"},{"v":250.97524614146872,"d":"250.98"},{"v":372.30917724,"d":"372.31"},0,{"v":1664.493428434219,"d":"1,664.49"},{"v":29413.117738339406,"d":"29,413.12"},{"v":0.7161609263421275,"d":"0.72"},{"v":0.7161609263421275,"d":"0.72"},null,{"v":1664.493428434219,"d":"1,664.49"},1261,{"v":2.755254122111468,"d":"2.76"},604.12]
[null,40,"2028-02-28",1,"2028-02-28",31,1292,{"v":29413.117738339406,"d":"29,413.12"},{"v":1049.7896474202432,"d":"1,049.79"},{"v":242.39460377397563,"d":"242.39"},{"v":372.30917724,"d":"372.31"},0,{"v":1664.493428434219,"d":"1,664.49"},{"v":28363.328090919164,"d":"28,363.33"},{"v":0.7103072576556287,"d":"0.71"},{"v":0.7103072576556287,"d":"0.71"},null,{"v":1664.493428434219,"d":"1,664.49"},1292,{"v":2.8247658037627192,"d":"2.82"},589.25]
[null,41,"2028-03-28",2,"2028-03-28",29,1321,{"v":28363.328090919164,"d":"28,363.33"},{"v":1073.579172830812,"d":"1,073.58"},{"v":218.6050783634069,"d":"218.61"},{"v":372.30917724,"d":"372.31"},0,{"v":1664.493428434219,"d":"1,664.49"},{"v":27289.748918088353,"d":"27,289.75"},{"v":0.7048745679630791,"d":"0.70"},{"v":0.7048745679630791,"d":"0.70"},null,{"v":1664.493428434219,"d":"1,664.49"},1321,{"v":2.8913796369587508,"d":"2.89"},575.67]
[null,42,"2028-04-28",5,"2028-04-28",31,1352,{"v":27289.748918088353,"d":"27,289.75"},{"v":1067.288409313814,"d":"1,067.29"},{"v":224.89584188040473,"d":"224.90"},{"v":372.30917724,"d":"372.31"},0,{"v":1664.493428434219,"d":"1,664.49"},{"v":26222.46050877454,"d":"26,222.46"},{"v":0.699113150333847,"d":"0.70"},{"v":0.699113150333847,"d":"0.70"},null,{"v":1664.493428434219,"d":"1,664.49"},1352,{"v":2.964325598365448,"d":"2.96"},561.51]
[null,43,"2028-05-28",7,"2028-05-29",31,1383,{"v":26222.46050877454,"d":"26,222.46"},{"v":1076.0839730275839,"d":"1,076.08"},{"v":216.1002781666349,"d":"216.10"},{"v":372.30917724,"d":"372.31"},0,{"v":1664.493428434219,"d":"1,664.49"},{"v":25146.376535746957,"d":"25,146.38"},{"v":0.6933988246761614,"d":"0.69"},{"v":0.6933988246761614,"d":"0.69"},null,{"v":1664.4934284342187,"d":"1,664.49"},1383,{"v":3.0391118968961712,"d":"3.04"},547.69]
[null,44,"2028-06-28",3,"2028-06-28",30,1413,{"v":25146.376535746957,"d":"25,146.38"},{"v":1091.6635134200822,"d":"1,091.66"},{"v":200.5207377741368,"d":"200.52"},{"v":372.30917724,"d":"372.31"},0,{"v":1664.493428434219,"d":"1,664.49"},{"v":24054.713022326876,"d":"24,054.71"},{"v":0.6879133073603583,"d":"0.69"},{"v":0.6879133073603583,"d":"0.69"},null,{"v":1664.493428434219,"d":"1,664.49"},1413,{"v":3.113281703071851,"d":"3.11"},534.64]
[null,45,"2028-07-28",5,"2028-07-28",30,1443,{"v":24054.713022326876,"d":"24,054.71"},{"v":2764.8620200114233,"d":"2,764.86"},{"v":191.8156596170146,"d":"191.82"},{"v":372.30917724,"d":"372.31"},0,{"v":3328.986856868438,"d":"3,328.99"},{"v":21289.851002315452,"d":"21,289.85"},{"v":1.3649423725645258,"d":"1.36"},{"v":0.6824711862822629,"d":"0.68"},null,{"v":3328.986856868438,"d":"3,328.99"},1443,{"v":3.189261630208777,"d":"3.19"},{"v":1043.81,"d":"1,043.81"}]
[null,46,"2028-08-28",1,"2028-08-28",31,1474,{"v":21289.851002315452,"d":"21,289.85"},{"v":1116.7337925239854,"d":"1,116.73"},{"v":175.4504586702336,"d":"175.45"},{"v":372.30917724,"d":"372.31"},0,{"v":1664.493428434219,"d":"1,664.49"},{"v":20173.117209791468,"d":"20,173.12"},{"v":0.6768928866771969,"d":"0.68"},{"v":0.6768928866771969,"d":"0.68"},null,{"v":1664.493428434219,"d":"1,664.49"},1474,{"v":3.269722788895558,"d":"3.27"},509.06]
[null,47,"2028-09-28",4,"2028-09-28",31,1505,{"v":20173.117209791468,"d":"20,173.12"},{"v":1125.93683749079,"d":"1,125.94"},{"v":166.24741370342883,"d":"166.25"},{"v":372.30917724,"d":"372.31"},0,{"v":1664.493428434219,"d":"1,664.49"},{"v":19047.180372300678,"d":"19,047.18"},{"v":0.6713601822959429,"d":"0.67"},{"v":0.6713601822959429,"d":"0.67"},null,{"v":1664.4934284342187,"d":"1,664.49"},1505,{"v":3.352213883914907,"d":"3.35"},496.54]
[null,48,"2028-10-28",6,"2028-10-28",30,1535,{"v":19047.180372300678,"d":"19,047.18"},{"v":1140.2993601308337,"d":"1,140.30"},{"v":151.88489106338508,"d":"151.88"},{"v":372.30917724,"d":"372.31"},0,{"v":1664.493428434219,"d":"1,664.49"},{"v":17906.881012169844,"d":"17,906.88"},{"v":0.6660490139263612,"d":"0.67"},{"v":0.6660490139263612,"d":"0.67"},null,{"v":1664.493428434219,"d":"1,664.49"},1535,{"v":3.4340249729647456,"d":"3.43"},484.71]
[null,49,"2028-11-28",2,"2028-11-28",31,1566,{"v":17906.881012169844,"d":"17,906.88"},{"v":1144.6129747866573,"d":"1,144.61"},{"v":147.57127640756158,"d":"147.57"},{"v":372.30917724,"d":"372.31"},0,{"v":1664.493428434219,"d":"1,664.49"},{"v":16762.268037383186,"d":"16,762.27"},{"v":0.6606049438674042,"d":"0.66"},{"v":0.6606049438674042,"d":"0.66"},null,{"v":1664.493428434219,"d":"1,664.49"},1566,{"v":3.5206612105398993,"d":"3.52"},472.78]
[null,50,"2028-12-28",4,"2028-12-28",30,1596,{"v":16762.268037383186,"d":"16,762.27"},{"v":2823.013000391419,"d":"2,823.01"},{"v":133.66467923701862,"d":"133.66"},{"v":372.30917724,"d":"372.31"},0,{"v":3328.986856868438,"d":"3,328.99"},{"v":13939.255036991766,"d":"13,939.26"},{"v":1.3107577215945436,"d":"1.31"},{"v":0.6553788607972718,"d":"0.66"},null,{"v":3328.9868568684374,"d":"3,328.99"},1596,{"v":3.606583272133837,"d":"3.61"},923.03]
[null,51,"2029-01-28",7,"2029-01-29",32,1628,{"v":13939.255036991766,"d":"13,939.26"},{"v":1173.5889986452137,"d":"1,173.59"},{"v":118.59525254900521,"d":"118.60"},{"v":372.30917724,"d":"372.31"},0,{"v":1664.493428434219,"d":"1,664.49"},{"v":12765.666038346553,"d":"12,765.67"},{"v":0.6498499342608042,"d":"0.65"},{"v":0.6498499342608042,"d":"0.65"},null,{"v":1664.493428434219,"d":"1,664.49"},1628,{"v":3.7005460068699123,"d":"3.70"},{"v":449.8,"d":"449.80"}]
[null,52,"2029-02-28",3,"2029-02-28",30,1658,{"v":12765.666038346553,"d":"12,765.67"},{"v":1190.3890375359558,"d":"1,190.39"},{"v":101.795213658263,"d":"101.80"},{"v":372.30917724,"d":"372.31"},0,{"v":1664.493428434219,"d":"1,664.49"},{"v":11575.277000810598,"d":"11,575.28"},{"v":0.6447089346798978,"d":"0.64"},{"v":0.6447089346798978,"d":"0.64"},null,{"v":1664.493428434219,"d":"1,664.49"},1658,{"v":3.790858173511109,"d":"3.79"},439.08]
[null,53,"2029-03-28",3,"2029-03-28",28,1686,{"v":11575.277000810598,"d":"11,575.28"},{"v":1206.0577267516956,"d":"1,206.06"},{"v":86.12652444252328,"d":"86.13"},{"v":372.30917724,"d":"372.31"},0,{"v":1664.493428434219,"d":"1,664.49"},{"v":10369.219274058902,"d":"10,369.22"},{"v":0.6399473689128975,"d":"0.64"},{"v":0.6399473689128975,"d":"0.64"},null,{"v":1664.493428434219,"d":"1,664.49"},1686,{"v":3.8771370245514203,"d":"3.88"},429.31]
[null,54,"2029-04-28",6,"2029-04-28",31,1717,{"v":10369.219274058902,"d":"10,369.22"},{"v":1206.731127192177,"d":"1,206.73"},{"v":85.45312400204202,"d":"85.45"},{"v":372.30917724,"d":"372.31"},0,{"v":1664.493428434219,"d":"1,664.49"},{"v":9162.488146866724,"d":"9,162.49"},{"v":0.6347166452911188,"d":"0.63"},{"v":0.6347166452911188,"d":"0.63"},null,{"v":1664.493428434219,"d":"1,664.49"},1717,{"v":3.9749524356258674,"d":"3.97"},418.75]
[null,55,"2029-05-28",1,"2029-05-28",30,1747,{"v":9162.488146866724,"d":"9,162.49"},{"v":1219.1212840329374,"d":"1,219.12"},{"v":73.06296716128148,"d":"73.06"},{"v":372.30917724,"d":"372.31"},0,{"v":1664.493428434219,"d":"1,664.49"},{"v":7943.366862833787,"d":"7,943.37"},{"v":0.6296953660150846,"d":"0.63"},{"v":0.6296953660150846,"d":"0.63"},null,{"v":1664.493428434219,"d":"1,664.49"},1747,{"v":4.071961516472486,"d":"4.07"},408.77]
[null,56,"2029-06-28",4,"2029-06-28",31,1778,{"v":7943.366862833787,"d":"7,943.37"},{"v":1226.722667676394,"d":"1,226.72"},{"v":65.46158351782496,"d":"65.46"},{"v":372.30917724,"d":"372.31"},0,{"v":1664.493428434219,"d":"1,664.49"},{"v":6716.644195157393,"d":"6,716.64"},{"v":0.624548438962107,"d":"0.62"},{"v":0.624548438962107,"d":"0.62"},null,{"v":1664.493428434219,"d":"1,664.49"},1778,{"v":4.174692110488355,"d":"4.17"},398.71]
[null,57,"2029-07-28",6,"2029-07-28",30,1808,{"v":6716.644195157393,"d":"6,716.64"},{"v":2903.118215605272,"d":"2,903.12"},{"v":53.559464023166356,"d":"53.56"},{"v":372.30917724,"d":"372.31"},0,{"v":3328.986856868438,"d":"3,328.99"},{"v":3813.5259795521215,"d":"3,813.53"},{"v":1.2392152018827687,"d":"1.24"},{"v":0.6196076009413843,"d":"0.62"},null,{"v":3328.9868568684383,"d":"3,328.99"},1808,{"v":4.276575856524258,"d":"4.28"},778.42]
[null,58,"2029-08-28",2,"2029-08-28",31,1839,{"v":3813.5259795521215,"d":"3,813.53"},{"v":1260.756840913588,"d":"1,260.76"},{"v":31.427410280631033,"d":"31.43"},{"v":372.30917724,"d":"372.31"},0,{"v":1664.493428434219,"d":"1,664.49"},{"v":2552.7691386385336,"d":"2,552.77"},{"v":0.6145431280301459,"d":"0.61"},{"v":0.6145431280301459,"d":"0.61"},null,{"v":1664.493428434219,"d":"1,664.49"},1839,{"v":4.384468619340752,"d":"4.38"},379.63]
[null,59,"2029-09-28",5,"2029-09-28",31,1870,{"v":2552.7691386385336,"d":"2,552.77"},{"v":1271.1467852107962,"d":"1,271.15"},{"v":21.037465983422646,"d":"21.04"},{"v":372.30917724,"d":"372.31"},0,{"v":1664.493428434219,"d":"1,664.49"},{"v":1281.6223534277374,"d":"1,281.62"},{"v":0.6095200504888636,"d":"0.61"},{"v":0.6095200504888636,"d":"0.61"},null,{"v":1664.493428434219,"d":"1,664.49"},1870,{"v":4.4950833842118625,"d":"4.50"},370.29]
[null,60,"2029-10-28",7,"2029-10-29",31,1901,{"v":1281.6223534277374,"d":"1,281.62"},{"v":1281.6223534277374,"d":"1,281.62"},{"v":10.561897766521014,"d":"10.56"},{"v":372.30917724,"d":"372.31"},0,{"v":1664.4934284342585,"d":"1,664.49"},0,{"v":0.6045380299651198,"d":"0.60"},{"v":0.6045380299651198,"d":"0.60"},null,{"v":1664.4934284342585,"d":"1,664.49"},1901,{"v":4.608488823910365,"d":"4.61"},361.18]
[null,61,"","","","","","","","","","","","","","",null,"","","",""]
[null,62,"","","","","","","","","","","","","","",null,"","","",""]
[null,63,"","","","","","","","","","","","","","",null,"","","",""]
[null,64,"","","","","","","","","","","","","","",null,"","","",""]
[null,65,"",{"$f":"IF(B112<=$C$25,WEEKDAY(C112,2),\"\")","v":""},"","","","","",{"$f":"IF(B112>C$25,\"\",((1+C$31)^(F112/360)-1)*H112)","v":""},{"$f":"IF(B112>C$25,\"\",C$33*C$35)","v":""},{"$f":"IF(B112>C$25,\"\",C$36)","v":""},{"$f":"IF(B112>C$25,\"\",IF(B112=C$25,H112+J112+K112+L112,IF(AND(C$29=2,MONTH(E112)=7),2*C$37,IF(AND(C$30=2,MONTH(E112)=12),2*C$37,C$37))))","v":""},{"$f":"IF(B112>C$25,\"\",H112-I112)","v":""},{"$f":"IFERROR(IF(AND(MONTH(E112)=7,C$29=2),2/(1+C$32)^(G112/360),IF(AND(MONTH(E112)=12,C$30=2),2/(1+C$32)^(G112/360),1/(1+C$32)^(G112/360))),\"\")","v":""},{"$f":"IFERROR(1/(1+C$32)^(G112/360),\"\")","v":""},null,"",{"$f":"G112","v":""},{"$f":"IFERROR((1+C$39)^(S112/360),\"\")","v":""},{"$f":"IFERROR(ROUND(R112/T112,2),\"\")","v":""}]
[null,66,{"$f":"IF(B113>$C$25,\"\",EDATE(C112,1))","v":""},"",{"$f":"IF(D113=7,C113+1,C113)","v":""},{"$f":"IF(B113>C$25,\"\",E113-E112)","v":""},{"$f":"IFERROR(F113+G112,\"\")","v":""},{"$f":"IF(B113>C$25,\"\",N112)","v":""},{"$f":"IF(B113>C$25,\"\",M113-L113-K113-J113)","v":""},"","","","","","","",null,{"$f":"IFERROR(I113+J113+K113+L113,\"\")","v":""},"","",""]
[null,67,"","","","","","","","","","","","","","",null,"","","",""]
[null,68,"","","","","","","","","","","","","","",null,"","","",""]
[null,69,"","","","","","","","","","","","","","",null,"","","",""]
[null,70,"","","","","","","","","","","","","","",null,"","","",""]
[null,71,"","","","","","","","","","","","","","",null,"","","",""]
[null,72,"","","","","","","","","","","","","","",null,"","","",""]
[null,73,"","","","","","","","","","","","","","",null,"","","",""]
[null,74,"","","","","","","","","","","","","","",null,"","","",""]
[null,75,"","","","","","","","","","","","","","",null,"","","",""]
[null,76,"","","","","","","","","","","","","","",null,"","","",""]
[null,77,"","","","","","","","","","","","","","",null,"","","",""]
[null,78,"","","","","","","","","","","","","","",null,"","","",""]
[null,79,"","","","","","","","","","","","","","",null,"","","",""]
[null,80,"","","","","","","","","","","","","","",null,"","","",""]
[null,81,"","","","","","","","","","","","","","",null,"","","",""]
[null,82,"","","","","","","","","","","","","","",null,"","","",""]
[null,83,"","","","","","","","","","","","","","",null,"","","",""]
[null,84,"","","","","","","","","","","","","","",null,"","","",""]
[null,85,"","","","","","","","","","","","","","",null,"","","",""]
[null,86,"","","","","","","","","","","","","","",null,"","","",""]
[null,87,"","","","","","","","","","","","","","",null,"","","",""]
[null,88,"","","","","","","","","","","","","","",null,"","","",""]
[null,89,"","","","","","","","","","","","","","",null,"","","",""]
[null,90,"","","","","","","","","","","","","","",null,"","","",""]
[null,91,"","","","","","","","","","","","","","",null,"","","",""]
[null,92,"","","","","","","","","","","","","","",null,"","","",""]
[null,93,"","","","","","","","","","","","","","",null,"","","",""]
[null,94,"","","","","","","","","","","","","","",null,"","","",""]
[null,95,"","","","","","","","","","","","","","",null,"","","",""]
[null,96,"","","","","","","","","","","","","","",null,"","","",""]
[null,97,"","","","","","","","","","","","","","",null,"","","",""]
[null,98,"","","","","","","","","","","","","","",null,"","","",""]
[null,99,"","","","","","","","","","","","","","",null,"","","",""]
[null,100,"","","","","","","","","","","","","","",null,"","","",""]
[null,101,"","","","","","","","","","","","","","",null,"","","",""]
[null,102,"","","","","","","","","","","","","","",null,"","","",""]
[null,103,"","","","","","","","","","","","","","",null,"","","",""]
[null,104,"","","","","","","","","","","","","","",null,"","","",""]
[null,105,"","","","","","","","","","","","","","",null,"","","",""]
[null,106,"","","","","","","","","","","","","","",null,"","","",""]
[null,107,"","","","","","","","","","","","","","",null,"","","",""]
[null,108,"","","","","","","","","","","","","","",null,"","","",""]
[null,109,"","","","","","","","","","","","","","",null,"","","",""]
[null,110,"","","","","","","","","","","","","","",null,"","","",""]
[null,111,"","","","","","","","","","","","","","",null,"","","",""]
[null,112,"","","","","","","","","","","","","","",null,"","","",""]
[null,113,"","","","","","","","","","","","","","",null,"","","",""]
[null,114,"","","","","","","","","","","","","","",null,"","","",""]
[null,115,"","","","","","","","","","","","","","",null,"","","",""]
[null,116,"","","","","","","","","","","","","","",null,"","","",""]
[null,117,"","","","","","","","","","","","","","",null,"","","",""]
[null,118,"","","","","","","","","","","","","","",null,"","","",""]
[null,119,"","","","","","","","","","","","","","",null,"","","",""]
[null,120,"","","","","","","","","","","","","","",null,"","","",""]
[null,121,"","","","","","","","","","","","","","",null,"","","",""]
[null,122,"","","","","","","","","","","","","","",null,"","","",""]
[null,123,"","","","","","","","","","","","","","",null,"","","",""]
[null,124,"","","","","","","","","","","","","","",null,"","","",""]
[null,125,"","","","","","","","","","","","","","",null,"","","",""]
[null,126,"","","","","","","","","","","","","","",null,"","","",""]
[null,127,"","","","","","","","","","","","","","",null,"","","",""]
[null,128,"","","","","","","","","","","","","","",null,"","","",""]
[null,129,"",{"$f":"IF(B176<=$C$25,WEEKDAY(C176,2),\"\")","v":""},"","","","","",{"$f":"IF(B176>C$25,\"\",((1+C$31)^(F176/360)-1)*H176)","v":""},{"$f":"IF(B176>C$25,\"\",C$33*C$35)","v":""},{"$f":"IF(B176>C$25,\"\",C$36)","v":""},{"$f":"IF(B176>C$25,\"\",IF(B176=C$25,H176+J176+K176+L176,IF(AND(C$29=2,MONTH(E176)=7),2*C$37,IF(AND(C$30=2,MONTH(E176)=12),2*C$37,C$37))))","v":""},{"$f":"IF(B176>C$25,\"\",H176-I176)","v":""},{"$f":"IFERROR(IF(AND(MONTH(E176)=7,C$29=2),2/(1+C$32)^(G176/360),IF(AND(MONTH(E176)=12,C$30=2),2/(1+C$32)^(G176/360),1/(1+C$32)^(G176/360))),\"\")","v":""},{"$f":"IFERROR(1/(1+C$32)^(G176/360),\"\")","v":""},null,"",{"$f":"G176","v":""},{"$f":"IFERROR((1+C$39)^(S176/360),\"\")","v":""},{"$f":"IFERROR(ROUND(R176/T176,2),\"\")","v":""}]
[null,130,{"$f":"IF(B177>$C$25,\"\",EDATE(C176,1))","v":""},"",{"$f":"IF(D177=7,C177+1,C177)","v":""},{"$f":"IF(B177>C$25,\"\",E177-E176)","v":""},{"$f":"IFERROR(F177+G176,\"\")","v":""},{"$f":"IF(B177>C$25,\"\",N176)","v":""},{"$f":"IF(B177>C$25,\"\",M177-L177-K177-J177)","v":""},"","","","","","","",null,{"$f":"IFERROR(I177+J177+K177+L177,\"\")","v":""},"","",""]
[null,131,"","","","","","","","","","","","","","",null,"","","",""]
[null,132,"","","","","","","","","","","","","","",null,"","","",""]
[null,133,"","","","","","","","","","","","","","",null,"","","",""]
[null,134,"","","","","","","","","","","","","","",null,"","","",""]
[null,135,"","","","","","","","","","","","","","",null,"","","",""]
[null,136,"","","","","","","","","","","","","","",null,"","","",""]
[null,137,"","","","","","","","","","","","","","",null,"","","",""]
[null,138,"","","","","","","","","","","","","","",null,"","","",""]
[null,139,"","","","","","","","","","","","","","",null,"","","",""]
[null,140,"","","","","","","","","","","","","","",null,"","","",""]
[null,141,"","","","","","","","","","","","","","",null,"","","",""]
[null,142,"","","","","","","","","","","","","","",null,"","","",""]
[null,143,"","","","","","","","","","","","","","",null,"","","",""]
[null,144,"","","","","","","","","","","","","","",null,"","","",""]
[null,145,"","","","","","","","","","","","","","",null,"","","",""]
[null,146,"","","","","","","","","","","","","","",null,"","","",""]
[null,147,"","","","","","","","","","","","","","",null,"","","",""]
[null,148,"","","","","","","","","","","","","","",null,"","","",""]
[null,149,"","","","","","","","","","","","","","",null,"","","",""]
[null,150,"","","","","","","","","","","","","","",null,"","","",""]
[null,151,"","","","","","","","","","","","","","",null,"","","",""]
[null,152,"","","","","","","","","","","","","","",null,"","","",""]
[null,153,"","","","","","","","","","","","","","",null,"","","",""]
[null,154,"","","","","","","","","","","","","","",null,"","","",""]
[null,155,"","","","","","","","","","","","","","",null,"","","",""]
[null,156,"","","","","","","","","","","","","","",null,"","","",""]
[null,157,"","","","","","","","","","","","","","",null,"","","",""]
[null,158,"","","","","","","","","","","","","","",null,"","","",""]
[null,159,"","","","","","","","","","","","","","",null,"","","",""]
[null,160,"","","","","","","","","","","","","","",null,"","","",""]
[null,161,"","","","","","","","","","","","","","",null,"","","",""]
[null,162,"","","","","","","","","","","","","","",null,"","","",""]
[null,163,"","","","","","","","","","","","","","",null,"","","",""]
[null,164,"","","","","","","","","","","","","","",null,"","","",""]
[null,165,"","","","","","","","","","","","","","",null,"","","",""]
[null,166,"","","","","","","","","","","","","","",null,"","","",""]
[null,167,"","","","","","","","","","","","","","",null,"","","",""]
[null,168,"","","","","","","","","","","","","","",null,"","","",""]
[null,169,"","","","","","","","","","","","","","",null,"","","",""]
[null,170,"","","","","","","","","","","","","","",null,"","","",""]
[null,171,"","","","","","","","","","","","","","",null,"","","",""]
[null,172,"","","","","","","","","","","","","","",null,"","","",""]
[null,173,"","","","","","","","","","","","","","",null,"","","",""]
[null,174,"","","","","","","","","","","","","","",null,"","","",""]
[null,175,"","","","","","","","","","","","","","",null,"","","",""]
[null,176,"","","","","","","","","","","","","","",null,"","","",""]
[null,177,"","","","","","","","","","","","","","",null,"","","",""]
[null,178,"","","","","","","","","","","","","","",null,"","","",""]
[null,179,"","","","","","","","","","","","","","",null,"","","",""]
[null,180,"","","","","","","","","","","","","","",null,"","","",""]
[null,181,"","","","","","","","","","","","","","",null,"","","",""]
[null,182,"","","","","","","","","","","","","","",null,"","","",""]
[null,183,"","","","","","","","","","","","","","",null,"","","",""]
[null,184,"","","","","","","","","","","","","","",null,"","","",""]
[null,185,"","","","","","","","","","","","","","",null,"","","",""]
[null,186,"","","","","","","","","","","","","","",null,"","","",""]
[null,187,"","","","","","","","","","","","","","",null,"","","",""]
[null,188,"","","","","","","","","","","","","","",null,"","","",""]
[null,189,"","","","","","","","","","","","","","",null,"","","",""]
[null,190,"","","","","","","","","","","","","","",null,"","","",""]
[null,191,"","","","","","","","","","","","","","",null,"","","",""]
[null,192,"","","","","","","","","","","","","","",null,"","","",""]
[null,193,"",{"$f":"IF(B240<=$C$25,WEEKDAY(C240,2),\"\")","v":""},"","","","","",{"$f":"IF(B240>C$25,\"\",((1+C$31)^(F240/360)-1)*H240)","v":""},{"$f":"IF(B240>C$25,\"\",C$33*C$35)","v":""},{"$f":"IF(B240>C$25,\"\",C$36)","v":""},{"$f":"IF(B240>C$25,\"\",IF(B240=C$25,H240+J240+K240+L240,IF(AND(C$29=2,MONTH(E240)=7),2*C$37,IF(AND(C$30=2,MONTH(E240)=12),2*C$37,C$37))))","v":""},{"$f":"IF(B240>C$25,\"\",H240-I240)","v":""},{"$f":"IFERROR(IF(AND(MONTH(E240)=7,C$29=2),2/(1+C$32)^(G240/360),IF(AND(MONTH(E240)=12,C$30=2),2/(1+C$32)^(G240/360),1/(1+C$32)^(G240/360))),\"\")","v":""},{"$f":"IFERROR(1/(1+C$32)^(G240/360),\"\")","v":""},null,"",{"$f":"G240","v":""},{"$f":"IFERROR((1+C$39)^(S240/360),\"\")","v":""},{"$f":"IFERROR(ROUND(R240/T240,2),\"\")","v":""}]
[null,194,{"$f":"IF(B241>$C$25,\"\",EDATE(C240,1))","v":""},"",{"$f":"IF(D241=7,C241+1,C241)","v":""},{"$f":"IF(B241>C$25,\"\",E241-E240)","v":""},{"$f":"IFERROR(F241+G240,\"\")","v":""},{"$f":"IF(B241>C$25,\"\",N240)","v":""},{"$f":"IF(B241>C$25,\"\",M241-L241-K241-J241)","v":""},"","","","","","","",null,{"$f":"IFERROR(I241+J241+K241+L241,\"\")","v":""},"","",""]
[null,195,"","","","","","","","","","","","","","",null,"","","",""]
[null,196,"","","","","","","","","","","","","","",null,"","","",""]
[null,197,"","","","","","","","","","","","","","",null,"","","",""]
[null,198,"","","","","","","","","","","","","","",null,"","","",""]
[null,199,"","","","","","","","","","","","","","",null,"","","",""]
[null,200,"","","","","","","","","","","","","","",null,"","","",""]
[null,201,"","","","","","","","","","","","","","",null,"","","",""]
[null,202,"","","","","","","","","","","","","","",null,"","","",""]
[null,203,"","","","","","","","","","","","","","",null,"","","",""]
[null,204,"","","","","","","","","","","","","","",null,"","","",""]
[null,205,"","","","","","","","","","","","","","",null,"","","",""]
[null,206,"","","","","","","","","","","","","","",null,"","","",""]
[null,207,"","","","","","","","","","","","","","",null,"","","",""]
[null,208,"","","","","","","","","","","","","","",null,"","","",""]
[null,209,"","","","","","","","","","","","","","",null,"","","",""]
[null,210,"","","","","","","","","","","","","","",null,"","","",""]
[null,211,"","","","","","","","","","","","","","",null,"","","",""]
[null,212,"","","","","","","","","","","","","","",null,"","","",""]
[null,213,"","","","","","","","","","","","","","",null,"","","",""]
[null,214,"","","","","","","","","","","","","","",null,"","","",""]
[null,215,"","","","","","","","","","","","","","",null,"","","",""]
[null,216,"","","","","","","","","","","","","","",null,"","","",""]
[null,217,"","","","","","","","","","","","","","",null,"","","",""]
[null,218,"","","","","","","","","","","","","","",null,"","","",""]
[null,219,"","","","","","","","","","","","","","",null,"","","",""]
[null,220,"","","","","","","","","","","","","","",null,"","","",""]
[null,221,"","","","","","","","","","","","","","",null,"","","",""]
[null,222,"","","","","","","","","","","","","","",null,"","","",""]
[null,223,"","","","","","","","","","","","","","",null,"","","",""]
[null,224,"","","","","","","","","","","","","","",null,"","","",""]
[null,225,"","","","","","","","","","","","","","",null,"","","",""]
[null,226,"","","","","","","","","","","","","","",null,"","","",""]
[null,227,"","","","","","","","","","","","","","",null,"","","",""]
[null,228,"","","","","","","","","","","","","","",null,"","","",""]
[null,229,"","","","","","","","","","","","","","",null,"","","",""]
[null,230,"","","","","","","","","","","","","","",null,"","","",""]
[null,231,"","","","","","","","","","","","","","",null,"","","",""]
[null,232,"","","","","","","","","","","","","","",null,"","","",""]
[null,233,"","","","","","","","","","","","","","",null,"","","",""]
[null,234,"","","","","","","","","","","","","","",null,"","","",""]
[null,235,"","","","","","","","","","","","","","",null,"","","",""]
[null,236,"","","","","","","","","","","","","","",null,"","","",""]
[null,237,"","","","","","","","","","","","","","",null,"","","",""]
[null,238,"","","","","","","","","","","","","","",null,"","","",""]
[null,239,"","","","","","","","","","","","","","",null,"","","",""]
[null,240,"","","","","","","","","","","","","","",null,"","","",""]
[null,241,"","","","","","","","","","","","","","",null,"","","",""]
[null,242,"","","","","","","","","","","","","","",null,"","","",""]
[null,243,"","","","","","","","","","","","","","",null,"","","",""]
[null,244,"","","","","","","","","","","","","","",null,"","","",""]
[null,245,"","","","","","","","","","","","","","",null,"","","",""]
[null,246,"","","","","","","","","","","","","","",null,"","","",""]
[null,247,"","","","","","","","","","","","","","",null,"","","",""]
[null,248,"","","","","","","","","","","","","","",null,"","","",""]
[null,249,"","","","","","","","","","","","","","",null,"","","",""]
[null,250,"","","","","","","","","","","","","","",null,"","","",""]
[null,251,"","","","","","","","","","","","","","",null,"","","",""]
[null,252,"","","","","","","","","","","","","","",null,"","","",""]
[null,253,"","","","","","","","","","","","","","",null,"","","",""]
[null,254,"","","","","","","","","","","","","","",null,"","","",""]
[null,255,"","","","","","","","","","","","","","",null,"","","",""]
[null,256,"","","","","","","","","","","","","","",null,"","","",""]
[null,257,"",{"$f":"IF(B304<=$C$25,WEEKDAY(C304,2),\"\")","v":""},"","","","","",{"$f":"IF(B304>C$25,\"\",((1+C$31)^(F304/360)-1)*H304)","v":""},{"$f":"IF(B304>C$25,\"\",C$33*C$35)","v":""},{"$f":"IF(B304>C$25,\"\",C$36)","v":""},{"$f":"IF(B304>C$25,\"\",IF(B304=C$25,H304+J304+K304+L304,IF(AND(C$29=2,MONTH(E304)=7),2*C$37,IF(AND(C$30=2,MONTH(E304)=12),2*C$37,C$37))))","v":""},{"$f":"IF(B304>C$25,\"\",H304-I304)","v":""},{"$f":"IFERROR(IF(AND(MONTH(E304)=7,C$29=2),2/(1+C$32)^(G304/360),IF(AND(MONTH(E304)=12,C$30=2),2/(1+C$32)^(G304/360),1/(1+C$32)^(G304/360))),\"\")","v":""},{"$f":"IFERROR(1/(1+C$32)^(G304/360),\"\")","v":""},null,"",{"$f":"G304","v":""},{"$f":"IFERROR((1+C$39)^(S304/360),\"\")","v":""},{"$f":"IFERROR(ROUND(R304/T304,2),\"\")","v":""}]
[null,258,{"$f":"IF(B305>$C$25,\"\",EDATE(C304,1))","v":""},"",{"$f":"IF(D305=7,C305+1,C305)","v":""},{"$f":"IF(B305>C$25,\"\",E305-E304)","v":""},{"$f":"IFERROR(F305+G304,\"\")","v":""},{"$f":"IF(B305>C$25,\"\",N304)","v":""},{"$f":"IF(B305>C$25,\"\",M305-L305-K305-J305)","v":""},"","","","","","","",null,{"$f":"IFERROR(I305+J305+K305+L305,\"\")","v":""},"","",""]
[null,259,"","","","","","","","","","","","","","",null,"","","",""]
[null,260,"","","","","","","","","","","","","","",null,"","","",""]
[null,261,"","","","","","","","","","","","","","",null,"","","",""]
[null,262,"","","","","","","","","","","","","","",null,"","","",""]
[null,263,"","","","","","","","","","","","","","",null,"","","",""]
[null,264,"","","","","","","","","","","","","","",null,"","","",""]
[null,265,"","","","","","","","","","","","","","",null,"","","",""]
[null,266,"","","","","","","","","","","","","","",null,"","","",""]
[null,267,"","","","","","","","","","","","","","",null,"","","",""]
[null,268,"","","","","","","","","","","","","","",null,"","","",""]
[null,269,"","","","","","","","","","","","","","",null,"","","",""]
[null,270,"","","","","","","","","","","","","","",null,"","","",""]
[null,271,"","","","","","","","","","","","","","",null,"","","",""]
[null,272,"","","","","","","","","","","","","","",null,"","","",""]
[null,273,"","","","","","","","","","","","","","",null,"","","",""]
[null,274,"","","","","","","","","","","","","","",null,"","","",""]
[null,275,"","","","","","","","","","","","","","",null,"","","",""]
[null,276,"","","","","","","","","","","","","","",null,"","","",""]
[null,277,"","","","","","","","","","","","","","",null,"","","",""]
[null,278,"","","","","","","","","","","","","","",null,"","","",""]
[null,279,"","","","","","","","","","","","","","",null,"","","",""]
[null,280,"","","","","","","","","","","","","","",null,"","","",""]
[null,281,"","","","","","","","","","","","","","",null,"","","",""]
[null,282,"","","","","","","","","","","","","","",null,"","","",""]
[null,283,"","","","","","","","","","","","","","",null,"","","",""]
[null,284,"","","","","","","","","","","","","","",null,"","","",""]
[null,285,"","","","","","","","","","","","","","",null,"","","",""]
[null,286,"","","","","","","","","","","","","","",null,"","","",""]
[null,287,"","","","","","","","","","","","","","",null,"","","",""]
[null,288,"","","","","","","","","","","","","","",null,"","","",""]
[null,289,"","","","","","","","","","","","","","",null,"","","",""]
[null,290,"","","","","","","","","","","","","","",null,"","","",""]
[null,291,"","","","","","","","","","","","","","",null,"","","",""]
[null,292,"","","","","","","","","","","","","","",null,"","","",""]
[null,293,"","","","","","","","","","","","","","",null,"","","",""]
[null,294,"","","","","","","","","","","","","","",null,"","","",""]
[null,295,"","","","","","","","","","","","","","",null,"","","",""]
[null,296,"","","","","","","","","","","","","","",null,"","","",""]
[null,297,"","","","","","","","","","","","","","",null,"","","",""]
[null,298,"","","","","","","","","","","","","","",null,"","","",""]
[null,299,"","","","","","","","","","","","","","",null,"","","",""]
[null,300,"","","","","","","","","","","","","","",null,"","","",""]
[null,301,"","","","","","","","","","","","","","",null,"","","",""]
[null,302,"","","","","","","","","","","","","","",null,"","","",""]
[null,303,"","","","","","","","","","","","","","",null,"","","",""]
[null,304,"","","","","","","","","","","","","","",null,"","","",""]
[null,305,"","","","","","","","","","","","","","",null,"","","",""]
[null,306,"","","","","","","","","","","","","","",null,"","","",""]
[null,307,"","","","","","","","","","","","","","",null,"","","",""]
[null,308,"","","","","","","","","","","","","","",null,"","","",""]
[null,309,"","","","","","","","","","","","","","",null,"","","",""]
[null,310,"","","","","","","","","","","","","","",null,"","","",""]
[null,311,"","","","","","","","","","","","","","",null,"","","",""]
[null,312,"","","","","","","","","","","","","","",null,"","","",""]
[null,313,"","","","","","","","","","","","","","",null,"","","",""]
[null,314,"","","","","","","","","","","","","","",null,"","","",""]
[null,315,"","","","","","","","","","","","","","",null,"","","",""]
[null,316,"","","","","","","","","","","","","","",null,"","","",""]
[null,317,"","","","","","","","","","","","","","",null,"","","",""]
[null,318,"","","","","","","","","","","","","","",null,"","","",""]
[null,319,"","","","","","","","","","","","","","",null,"","","",""]
[null,320,"","","","","","","","","","","","","","",null,"","","",""]
[null,321,"",{"$f":"IF(B368<=$C$25,WEEKDAY(C368,2),\"\")","v":""},"","","","","",{"$f":"IF(B368>C$25,\"\",((1+C$31)^(F368/360)-1)*H368)","v":""},{"$f":"IF(B368>C$25,\"\",C$33*C$35)","v":""},{"$f":"IF(B368>C$25,\"\",C$36)","v":""},{"$f":"IF(B368>C$25,\"\",IF(B368=C$25,H368+J368+K368+L368,IF(AND(C$29=2,MONTH(E368)=7),2*C$37,IF(AND(C$30=2,MONTH(E368)=12),2*C$37,C$37))))","v":""},{"$f":"IF(B368>C$25,\"\",H368-I368)","v":""},{"$f":"IFERROR(IF(AND(MONTH(E368)=7,C$29=2),2/(1+C$32)^(G368/360),IF(AND(MONTH(E368)=12,C$30=2),2/(1+C$32)^(G368/360),1/(1+C$32)^(G368/360))),\"\")","v":""},{"$f":"IFERROR(1/(1+C$32)^(G368/360),\"\")","v":""},null,"",{"$f":"G368","v":""},{"$f":"IFERROR((1+C$39)^(S368/360),\"\")","v":""},{"$f":"IFERROR(ROUND(R368/T368,2),\"\")","v":""}]
[null,322,{"$f":"IF(B369>$C$25,\"\",EDATE(C368,1))","v":""},"",{"$f":"IF(D369=7,C369+1,C369)","v":""},{"$f":"IF(B369>C$25,\"\",E369-E368)","v":""},{"$f":"IFERROR(F369+G368,\"\")","v":""},{"$f":"IF(B369>C$25,\"\",N368)","v":""},{"$f":"IF(B369>C$25,\"\",M369-L369-K369-J369)","v":""},"","","","","","","",null,{"$f":"IFERROR(I369+J369+K369+L369,\"\")","v":""},"","",""]
[null,323,"","","","","","","","","","","","","","",null,"","","",""]
[null,324,"","","","","","","","","","","","","","",null,"","","",""]
[null,325,"","","","","","","","","","","","","","",null,"","","",""]
[null,326,"","","","","","","","","","","","","","",null,"","","",""]
[null,327,"","","","","","","","","","","","","","",null,"","","",""]
[null,328,"","","","","","","","","","","","","","",null,"","","",""]
[null,329,"","","","","","","","","","","","","","",null,"","","",""]
[null,330,"","","","","","","","","","","","","","",null,"","","",""]
[null,331,"","","","","","","","","","","","","","",null,"","","",""]
[null,332,"","","","","","","","","","","","","","",null,"","","",""]
[null,333,"","","","","","","","","","","","","","",null,"","","",""]
[null,334,"","","","","","","","","","","","","","",null,"","","",""]
[null,335,"","","","","","","","","","","","","","",null,"","","",""]
[null,336,"","","","","","","","","","","","","","",null,"","","",""]
[null,337,"","","","","","","","","","","","","","",null,"","","",""]
[null,338,"","","","","","","","","","","","","","",null,"","","",""]
[null,339,"","","","","","","","","","","","","","",null,"","","",""]
[null,340,"","","","","","","","","","","","","","",null,"","","",""]
[null,341,"","","","","","","","","","","","","","",null,"","","",""]
[null,342,"","","","","","","","","","","","","","",null,"","","",""]
[null,343,"","","","","","","","","","","","","","",null,"","","",""]
[null,344,"","","","","","","","","","","","","","",null,"","","",""]
[null,345,"","","","","","","","","","","","","","",null,"","","",""]
[null,346,"","","","","","","","","","","","","","",null,"","","",""]
[null,347,"","","","","","","","","","","","","","",null,"","","",""]
[null,348,"","","","","","","","","","","","","","",null,"","","",""]
[null,349,"","","","","","","","","","","","","","",null,"","","",""]
[null,350,"","","","","","","","","","","","","","",null,"","","",""]
[null,351,"","","","","","","","","","","","","","",null,"","","",""]
[null,352,"","","","","","","","","","","","","","",null,"","","",""]
[null,353,"","","","","","","","","","","","","","",null,"","","",""]
[null,354,"","","","","","","","","","","","","","",null,"","","",""]
[null,355,"","","","","","","","","","","","","","",null,"","","",""]
[null,356,"","","","","","","","","","","","","","",null,"","","",""]
[null,357,"","","","","","","","","","","","","","",null,"","","",""]
[null,358,"","","","","","","","","","","","","","",null,"","","",""]
[null,359,"","","","","","","","","","","","","","",null,"","","",""]
[null,360,"","","","","","","","","","","","","","",null,"","","",""]

{"sheet":"Cronograma","index":1,"n_rows":79,"n_cols":14,"rows_kept":79,"hidden":true,"merged":[[4,1,4,13]]}
[]
[]
[]
[]
[null,"Importante: \n- Las datos del simulador son referenciales.\n- El otorgamiendo del préstamo esta sujeto a calificación.\n- La fecha de desembolso, es la fecha de solicitud que ha ingresado en este simulador."]
[]
[null,{"$f":"+'Vista Principal'!B47","v":"N° Cuota"},{"$f":"+'Vista Principal'!C47","v":"Fecha de pago"},{"$f":"+'Vista Principal'!D47","v":"Día"},{"$f":"+'Vista Principal'!E47","v":"Fecha de pago"},{"$f":"+'Vista Principal'!F47","v":"Días"},{"$f":"+'Vista Principal'!G47","v":"Dias Acumulados"},{"$f":"+'Vista Principal'!H47","v":"Saldo Inicial"},{"$f":"+'Vista Principal'!I47","v":"Amortización"},{"$f":"+'Vista Principal'!J47","v":"Interés"},{"$f":"+'Vista Principal'!K47","v":"Seguro del Bien"},{"$f":"+'Vista Principal'!L47","v":"Portes"},{"$f":"+'Vista Principal'!M47","v":"Cuota Constante"},{"$f":"+'Vista Principal'!N47","v":"Saldo Final"}]
[null,{"$f":"+'Vista Principal'!B48","v":1},{"$f":"+'Vista Principal'!C48","v":"2024-11-30"},{"$f":"+'Vista Principal'!D48","v":6},{"$f":"+'Vista Principal'!E48","v":"2024-11-30"},{"$f":"+'Vista Principal'!F48","v":107},{"$f":"+'Vista Principal'!G48","v":107},{"$f":"+'Vista Principal'!H48","v":73037.260494},{"$f":"+'Vista Principal'!I48","v":-806.4220637307906},{"$f":"+'Vista Principal'!J48","v":2098.6063149250094},{"$f":"+'Vista Principal'!K48","v":372.30917724},{"$f":"+'Vista Principal'!L48","v":0},{"$f":"+'Vista Principal'!M48","v":1664.493428434219},{"$f":"+'Vista Principal'!N48","v":73843.68255773079}]
[null,{"$f":"+'Vista Principal'!B49","v":2},{"$f":"+'Vista Principal'!C49","v":"2024-12-30"},{"$f":"+'Vista Principal'!D49","v":1},{"$f":"+'Vista Principal'!E49","v":"2024-12-30"},{"$f":"+'Vista Principal'!F49","v":30},{"$f":"+'Vista Principal'!G49","v":137},{"$f":"+'Vista Principal'!H49","v":73843.68255773079},{"$f":"+'Vista Principal'!I49","v":2367.837785125701},{"$f":"+'Vista Principal'!J49","v":588.8398945027368},{"$f":"+'Vista Principal'!K49","v":372.30917724},{"$f":"+'Vista Principal'!L49","v":0},{"$f":"+'Vista Principal'!M49","v":3328.986856868438},{"$f":"+'Vista Principal'!N49","v":71475.8447726051}]
[null,{"$f":"+'Vista Principal'!B50","v":3},{"$f":"+'Vista Principal'!C50","v":"2025-01-30"},{"$f":"+'Vista Principal'!D50","v":4},{"$f":"+'Vista Principal'!E50","v":"2025-01-30"},{"$f":"+'Vista Principal'!F50","v":31},{"$f":"+'Vista Principal'!G50","v":168},{"$f":"+'Vista Principal'!H50","v":71475.8447726051},{"$f":"+'Vista Principal'!I50","v":703.1491401531835},{"$f":"+'Vista Principal'!J50","v":589.0351110410354},{"$f":"+'Vista Principal'!K50","v":372.30917724},{"$f":"+'Vista Principal'!L50","v":0},{"$f":"+'Vista Principal'!M50","v":1664.493428434219},{"$f":"+'Vista Principal'!N50","v":70772.69563245191}]
[null,{"$f":"+'Vista Principal'!B51","v":4},{"$f":"+'Vista Principal'!C51","v":"2025-02-28"},{"$f":"+'Vista Principal'!D51","v":5},{"$f":"+'Vista Principal'!E51","v":"2025-02-28"},{"$f":"+'Vista Principal'!F51","v":29},{"$f":"+'Vista Principal'!G51","v":197},{"$f":"+'Vista Principal'!H51","v":70772.69563245191},{"$f":"+'Vista Principal'!I51","v":746.7168566371254},{"$f":"+'Vista Principal'!J51","v":545.4673945570935},{"$f":"+'Vista Principal'!K51","v":372.30917724},{"$f":"+'Vista Principal'!L51","v":0},{"$f":"+'Vista Principal'!M51","v":1664.493428434219},{"$f":"+'Vista Principal'!N51","v":70025.97877581479}]
[null,{"$f":"+'Vista Principal'!B52","v":5},{"$f":"+'Vista Principal'!C52","v":"2025-03-28"},{"$f":"+'Vista Principal'!D52","v":5},{"$f":"+'Vista Principal'!E52","v":"2025-03-28"},{"$f":"+'Vista Principal'!F52","v":28},{"$f":"+'Vista Principal'!G52","v":225},{"$f":"+'Vista Principal'!H52","v":70025.97877581479},{"$f":"+'Vista Principal'!I52","v":771.1518670685966},{"$f":"+'Vista Principal'!J52","v":521.0323841256222},{"$f":"+'Vista Principal'!K52","v":372.30917724},{"$f":"+'Vista Principal'!L52","v":0},{"$f":"+'Vista Principal'!M52","v":1664.493428434219},{"$f":"+'Vista Principal'!N52","v":69254.8269087462}]
[null,{"$f":"+'Vista Principal'!B53","v":6},{"$f":"+'Vista Principal'!C53","v":"2025-04-28"},{"$f":"+'Vista Principal'!D53","v":1},{"$f":"+'Vista Principal'!E53","v":"2025-04-28"},{"$f":"+'Vista Principal'!F53","v":31},{"$f":"+'Vista Principal'!G53","v":256},{"$f":"+'Vista Principal'!H53","v":69254.8269087462},{"$f":"+'Vista Principal'!I53","v":721.4526314686673},{"$f":"+'Vista Principal'!J53","v":570.7316197255516},{"$f":"+'Vista Principal'!K53","v":372.30917724},{"$f":"+'Vista Principal'!L53","v":0},{"$f":"+'Vista Principal'!M53","v":1664.493428434219},{"$f":"+'Vista Principal'!N53","v":68533.37427727753}]
[null,{"$f":"+'Vista Principal'!B54","v":7},{"$f":"+'Vista Principal'!C54","v":"2025-05-28"},{"$f":"+'Vista Principal'!D54","v":3},{"$f":"+'Vista Principal'!E54","v":"2025-05-28"},{"$f":"+'Vista Principal'!F54","v":30},{"$f":"+'Vista Principal'!G54","v":286},{"$f":"+'Vista Principal'!H54","v":68533.37427727753},{"$f":"+'Vista Principal'!I54","v":745.6895006405869},{"$f":"+'Vista Principal'!J54","v":546.494750553632},{"$f":"+'Vista Principal'!K54","v":372.30917724},{"$f":"+'Vista Principal'!L54","v":0},{"$f":"+'Vista Principal'!M54","v":1664.493428434219},{"$f":"+'Vista Principal'!N54","v":67787.68477663695}]
[null,{"$f":"+'Vista Principal'!B55","v":8},{"$f":"+'Vista Principal'!C55","v":"2025-06-28"},{"$f":"+'Vista Principal'!D55","v":6},{"$f":"+'Vista Principal'!E55","v":"2025-06-28"},{"$f":"+'Vista Principal'!F55","v":31},{"$f":"+'Vista Principal'!G55","v":317},{"$f":"+'Vista Principal'!H55","v":67787.68477663695},{"$f":"+'Vista Principal'!I55","v":733.5434046725285},{"$f":"+'Vista Principal'!J55","v":558.6408465216904},{"$f":"+'Vista Principal'!K55","v":372.30917724},{"$f":"+'Vista Principal'!L55","v":0},{"$f":"+'Vista Principal'!M55","v":1664.493428434219},{"$f":"+'Vista Principal'!N55","v":67054.14137196442}]
[null,{"$f":"+'Vista Principal'!B56","v":9},{"$f":"+'Vista Principal'!C56","v":"2025-07-28"},{"$f":"+'Vista Principal'!D56","v":1},{"$f":"+'Vista Principal'!E56","v":"2025-07-28"},{"$f":"+'Vista Principal'!F56","v":30},{"$f":"+'Vista Principal'!G56","v":347},{"$f":"+'Vista Principal'!H56","v":67054.14137196442},{"$f":"+'Vista Principal'!I56","v":2421.978539988828},{"$f":"+'Vista Principal'!J56","v":534.69913963961},{"$f":"+'Vista Principal'!K56","v":372.30917724},{"$f":"+'Vista Principal'!L56","v":0},{"$f":"+'Vista Principal'!M56","v":3328.986856868438},{"$f":"+'Vista Principal'!N56","v":64632.16283197559}]
[null,{"$f":"+'Vista Principal'!B57","v":10},{"$f":"+'Vista Principal'!C57","v":"2025-08-28"},{"$f":"+'Vista Principal'!D57","v":4},{"$f":"+'Vista Principal'!E57","v":"2025-08-28"},{"$f":"+'Vista Principal'!F57","v":31},{"$f":"+'Vista Principal'!G57","v":378},{"$f":"+'Vista Principal'!H57","v":64632.16283197559},{"$f":"+'Vista Principal'!I57","v":759.548179082392},{"$f":"+'Vista Principal'!J57","v":532.6360721118268},{"$f":"+'Vista Principal'!K57","v":372.30917724},{"$f":"+'Vista Principal'!L57","v":0},{"$f":"+'Vista Principal'!M57","v":1664.493428434219},{"$f":"+'Vista Principal'!N57","v":63872.6146528932}]
[null,{"$f":"+'Vista Principal'!B58","v":11},{"$f":"+'Vista Principal'!C58","v":"2025-09-28"},{"$f":"+'Vista Principal'!D58","v":7},{"$f":"+'Vista Principal'!E58","v":"2025-09-29"},{"$f":"+'Vista Principal'!F58","v":32},{"$f":"+'Vista Principal'!G58","v":410},{"$f":"+'Vista Principal'!H58","v":63872.6146528932},{"$f":"+'Vista Principal'!I58","v":748.7557217912645},{"$f":"+'Vista Principal'!J58","v":543.4285294029544},{"$f":"+'Vista Principal'!K58","v":372.30917724},{"$f":"+'Vista Principal'!L58","v":0},{"$f":"+'Vista Principal'!M58","v":1664.493428434219},{"$f":"+'Vista Principal'!N58","v":63123.85893110194}]
[null,{"$f":"+'Vista Principal'!B59","v":12},{"$f":"+'Vista Principal'!C59","v":"2025-10-28"},{"$f":"+'Vista Principal'!D59","v":2},{"$f":"+'Vista Principal'!E59","v":"2025-10-28"},{"$f":"+'Vista Principal'!F59","v":29},{"$f":"+'Vista Principal'!G59","v":439},{"$f":"+'Vista Principal'!H59","v":63123.85893110194},{"$f":"+'Vista Principal'!I59","v":805.6688435523297},{"$f":"+'Vista Principal'!J59","v":486.5154076418891},{"$f":"+'Vista Principal'!K59","v":372.30917724},{"$f":"+'Vista Principal'!L59","v":0},{"$f":"+'Vista Principal'!M59","v":1664.493428434219},{"$f":"+'Vista Principal'!N59","v":62318.19008754961}]
[null,{"$f":"+'Vista Principal'!B60","v":13},{"$f":"+'Vista Principal'!C60","v":"2025-11-28"},{"$f":"+'Vista Principal'!D60","v":5},{"$f":"+'Vista Principal'!E60","v":"2025-11-28"},{"$f":"+'Vista Principal'!F60","v":31},{"$f":"+'Vista Principal'!G60","v":470},{"$f":"+'Vista Principal'!H60","v":62318.19008754961},{"$f":"+'Vista Principal'!I60","v":778.6177150465378},{"$f":"+'Vista Principal'!J60","v":513.5665361476811},{"$f":"+'Vista Principal'!K60","v":372.30917724},{"$f":"+'Vista Principal'!L60","v":0},{"$f":"+'Vista Principal'!M60","v":1664.493428434219},{"$f":"+'Vista Principal'!N60","v":61539.57237250307}]
[null,{"$f":"+'Vista Principal'!B61","v":14},{"$f":"+'Vista Principal'!C61","v":"2025-12-28"},{"$f":"+'Vista Principal'!D61","v":7},{"$f":"+'Vista Principal'!E61","v":"2025-12-29"},{"$f":"+'Vista Principal'!F61","v":31},{"$f":"+'Vista Principal'!G61","v":501},{"$f":"+'Vista Principal'!H61","v":61539.57237250307},{"$f":"+'Vista Principal'!I61","v":2449.527761202451},{"$f":"+'Vista Principal'!J61","v":507.149918425987},{"$f":"+'Vista Principal'!K61","v":372.30917724},{"$f":"+'Vista Principal'!L61","v":0},{"$f":"+'Vista Principal'!M61","v":3328.986856868438},{"$f":"+'Vista Principal'!N61","v":59090.04461130062}]
[null,{"$f":"+'Vista Principal'!B62","v":15},{"$f":"+'Vista Principal'!C62","v":"2026-01-28"},{"$f":"+'Vista Principal'!D62","v":3},{"$f":"+'Vista Principal'!E62","v":"2026-01-28"},{"$f":"+'Vista Principal'!F62","v":30},{"$f":"+'Vista Principal'!G62","v":531},{"$f":"+'Vista Principal'!H62","v":59090.04461130062},{"$f":"+'Vista Principal'!I62","v":820.9919375135196},{"$f":"+'Vista Principal'!J62","v":471.19231368069927},{"$f":"+'Vista Principal'!K62","v":372.30917724},{"$f":"+'Vista Principal'!L62","v":0},{"$f":"+'Vista Principal'!M62","v":1664.493428434219},{"$f":"+'Vista Principal'!N62","v":58269.0526737871}]
[null,{"$f":"+'Vista Principal'!B63","v":16},{"$f":"+'Vista Principal'!C63","v":"2026-02-28"},{"$f":"+'Vista Principal'!D63","v":6},{"$f":"+'Vista Principal'!E63","v":"2026-02-28"},{"$f":"+'Vista Principal'!F63","v":31},{"$f":"+'Vista Principal'!G63","v":562},{"$f":"+'Vista Principal'!H63","v":58269.0526737871},{"$f":"+'Vista Principal'!I63","v":811.9868079719026},{"$f":"+'Vista Principal'!J63","v":480.1974432223162},{"$f":"+'Vista Principal'!K63","v":372.30917724},{"$f":"+'Vista Principal'!L63","v":0},{"$f":"+'Vista Principal'!M63","v":1664.493428434219},{"$f":"+'Vista Principal'!N63","v":57457.065865815195}]
[null,{"$f":"+'Vista Principal'!B64","v":17},{"$f":"+'Vista Principal'!C64","v":"2026-03-28"},{"$f":"+'Vista Principal'!D64","v":6},{"$f":"+'Vista Principal'!E64","v":"2026-03-28"},{"$f":"+'Vista Principal'!F64","v":28},{"$f":"+'Vista Principal'!G64","v":590},{"$f":"+'Vista Principal'!H64","v":57457.065865815195},{"$f":"+'Vista Principal'!I64","v":864.6715975150662},{"$f":"+'Vista Principal'!J64","v":427.51265367915266},{"$f":"+'Vista Principal'!K64","v":372.30917724},{"$f":"+'Vista Principal'!L64","v":0},{"$f":"+'Vista Principal'!M64","v":1664.493428434219},{"$f":"+'Vista Principal'!N64","v":56592.39426830013}]
[null,{"$f":"+'Vista Principal'!B65","v":18},{"$f":"+'Vista Principal'!C65","v":"2026-04-28"},{"$f":"+'Vista Principal'!D65","v":2},{"$f":"+'Vista Principal'!E65","v":"2026-04-28"},{"$f":"+'Vista Principal'!F65","v":31},{"$f":"+'Vista Principal'!G65","v":621},{"$f":"+'Vista Principal'!H65","v":56592.39426830013},{"$f":"+'Vista Principal'!I65","v":825.8042126237247},{"$f":"+'Vista Principal'!J65","v":466.3800385704942},{"$f":"+'Vista Principal'!K65","v":372.30917724},{"$f":"+'Vista Principal'!L65","v":0},{"$f":"+'Vista Principal'!M65","v":1664.493428434219},{"$f":"+'Vista Principal'!N65","v":55766.5900556764}]
[null,{"$f":"+'Vista Principal'!B66","v":19},{"$f":"+'Vista Principal'!C66","v":"2026-05-28"},{"$f":"+'Vista Principal'!D66","v":4},{"$f":"+'Vista Principal'!E66","v":"2026-05-28"},{"$f":"+'Vista Principal'!F66","v":30},{"$f":"+'Vista Principal'!G66","v":651},{"$f":"+'Vista Principal'!H66","v":55766.5900556764},{"$f":"+'Vista Principal'!I66","v":847.493630849147},{"$f":"+'Vista Principal'!J66","v":444.6906203450718},{"$f":"+'Vista Principal'!K66","v":372.30917724},{"$f":"+'Vista Principal'!L66","v":0},{"$f":"+'Vista Principal'!M66","v":1664.493428434219},{"$f":"+'Vista Principal'!N66","v":54919.09642482726}]
[null,{"$f":"+'Vista Principal'!B67","v":20},{"$f":"+'Vista Principal'!C67","v":"2026-06-28"},{"$f":"+'Vista Principal'!D67","v":7},{"$f":"+'Vista Principal'!E67","v":"2026-06-29"},{"$f":"+'Vista Principal'!F67","v":32},{"$f":"+'Vista Principal'!G67","v":683},{"$f":"+'Vista Principal'!H67","v":54919.09642482726},{"$f":"+'Vista Principal'!I67","v":824.9323002842826},{"$f":"+'Vista Principal'!J67","v":467.2519509099362},{"$f":"+'Vista Principal'!K67","v":372.30917724},{"$f":"+'Vista Principal'!L67","v":0},{"$f":"+'Vista Principal'!M67","v":1664.493428434219},{"$f":"+'Vista Principal'!N67","v":54094.16412454298}]
[null,{"$f":"+'Vista Principal'!B68","v":21},{"$f":"+'Vista Principal'!C68","v":"2026-07-28"},{"$f":"+'Vista Principal'!D68","v":2},{"$f":"+'Vista Principal'!E68","v":"2026-07-28"},{"$f":"+'Vista Principal'!F68","v":29},{"$f":"+'Vista Principal'!G68","v":712},{"$f":"+'Vista Principal'!H68","v":54094.16412454298},{"$f":"+'Vista Principal'!I68","v":2539.7569660386002},{"$f":"+'Vista Principal'!J68","v":416.9207135898379},{"$f":"+'Vista Principal'!K68","v":372.30917724},{"$f":"+'Vista Principal'!L68","v":0},{"$f":"+'Vista Principal'!M68","v":3328.986856868438},{"$f":"+'Vista Principal'!N68","v":51554.40715850438}]
[null,{"$f":"+'Vista Principal'!B69","v":22},{"$f":"+'Vista Principal'!C69","v":"2026-08-28"},{"$f":"+'Vista Principal'!D69","v":5},{"$f":"+'Vista Principal'!E69","v":"2026-08-28"},{"$f":"+'Vista Principal'!F69","v":31},{"$f":"+'Vista Principal'!G69","v":743},{"$f":"+'Vista Principal'!H69","v":51554.40715850438},{"$f":"+'Vista Principal'!I69","v":867.3224528919283},{"$f":"+'Vista Principal'!J69","v":424.8617983022906},{"$f":"+'Vista Principal'!K69","v":372.30917724},{"$f":"+'Vista Principal'!L69","v":0},{"$f":"+'Vista Principal'!M69","v":1664.493428434219},{"$f":"+'Vista Principal'!N69","v":50687.08470561245}]
[null,{"$f":"+'Vista Principal'!B70","v":23},{"$f":"+'Vista Principal'!C70","v":"2026-09-28"},{"$f":"+'Vista Principal'!D70","v":1},{"$f":"+'Vista Principal'!E70","v":"2026-09-28"},{"$f":"+'Vista Principal'!F70","v":31},{"$f":"+'Vista Principal'!G70","v":774},{"$f":"+'Vista Principal'!H70","v":50687.08470561245},{"$f":"+'Vista Principal'!I70","v":874.4700896770955},{"$f":"+'Vista Principal'!J70","v":417.7141615171233},{"$f":"+'Vista Principal'!K70","v":372.30917724},{"$f":"+'Vista Principal'!L70","v":0},{"$f":"+'Vista Principal'!M70","v":1664.493428434219},{"$f":"+'Vista Principal'!N70","v":49812.61461593535}]
[null,{"$f":"+'Vista Principal'!B71","v":24},{"$f":"+'Vista Principal'!C71","v":"2026-10-28"},{"$f":"+'Vista Principal'!D71","v":3},{"$f":"+'Vista Principal'!E71","v":"2026-10-28"},{"$f":"+'Vista Principal'!F71","v":30},{"$f":"+'Vista Principal'!G71","v":804},{"$f":"+'Vista Principal'!H71","v":49812.61461593535},{"$f":"+'Vista Principal'!I71","v":894.9714671158863},{"$f":"+'Vista Principal'!J71","v":397.2127840783326},{"$f":"+'Vista Principal'!K71","v":372.30917724},{"$f":"+'Vista Principal'!L71","v":0},{"$f":"+'Vista Principal'!M71","v":1664.493428434219},{"$f":"+'Vista Principal'!N71","v":48917.643148819465}]
[null,{"$f":"+'Vista Principal'!B72","v":25},{"$f":"+'Vista Principal'!C72","v":"2026-11-28"},{"$f":"+'Vista Principal'!D72","v":6},{"$f":"+'Vista Principal'!E72","v":"2026-11-28"},{"$f":"+'Vista Principal'!F72","v":31},{"$f":"+'Vista Principal'!G72","v":835},{"$f":"+'Vista Principal'!H72","v":48917.643148819465},{"$f":"+'Vista Principal'!I72","v":889.0521237503137},{"$f":"+'Vista Principal'!J72","v":403.1321274439051},{"$f":"+'Vista Principal'!K72","v":372.30917724},{"$f":"+'Vista Principal'!L72","v":0},{"$f":"+'Vista Principal'!M72","v":1664.493428434219},{"$f":"+'Vista Principal'!N72","v":48028.59102506915}]
[null,{"$f":"+'Vista Principal'!B73","v":26},{"$f":"+'Vista Principal'!C73","v":"2026-12-28"},{"$f":"+'Vista Principal'!D73","v":1},{"$f":"+'Vista Principal'!E73","v":"2026-12-28"},{"$f":"+'Vista Principal'!F73","v":30},{"$f":"+'Vista Principal'!G73","v":865},{"$f":"+'Vista Principal'!H73","v":48028.59102506915},{"$f":"+'Vista Principal'!I73","v":2573.6909501921496},{"$f":"+'Vista Principal'!J73","v":382.9867294362884},{"$f":"+'Vista Principal'!K73","v":372.30917724},{"$f":"+'Vista Principal'!L73","v":0},{"$f":"+'Vista Principal'!M73","v":3328.986856868438},{"$f":"+'Vista Principal'!N73","v":45454.900074877005}]
[null,{"$f":"+'Vista Principal'!B74","v":27},{"$f":"+'Vista Principal'!C74","v":"2027-01-28"},{"$f":"+'Vista Principal'!D74","v":4},{"$f":"+'Vista Principal'!E74","v":"2027-01-28"},{"$f":"+'Vista Principal'!F74","v":31},{"$f":"+'Vista Principal'!G74","v":896},{"$f":"+'Vista Principal'!H74","v":45454.900074877005},{"$f":"+'Vista Principal'!I74","v":917.5887189812669},{"$f":"+'Vista Principal'!J74","v":374.595532212952},{"$f":"+'Vista Principal'!K74","v":372.30917724},{"$f":"+'Vista Principal'!L74","v":0},{"$f":"+'Vista Principal'!M74","v":1664.493428434219},{"$f":"+'Vista Principal'!N74","v":44537.31135589574}]
[null,{"$f":"+'Vista Principal'!B75","v":28},{"$f":"+'Vista Principal'!C75","v":"2027-02-28"},{"$f":"+'Vista Principal'!D75","v":7},{"$f":"+'Vista Principal'!E75","v":"2027-03-01"},{"$f":"+'Vista Principal'!F75","v":32},{"$f":"+'Vista Principal'!G75","v":928},{"$f":"+'Vista Principal'!H75","v":44537.31135589574},{"$f":"+'Vista Principal'!I75","v":913.2605803029785},{"$f":"+'Vista Principal'!J75","v":378.9236708912404},{"$f":"+'Vista Principal'!K75","v":372.30917724},{"$f":"+'Vista Principal'!L75","v":0},{"$f":"+'Vista Principal'!M75","v":1664.493428434219},{"$f":"+'Vista Principal'!N75","v":43624.05077559276}]
[null,{"$f":"+'Vista Principal'!B76","v":29},{"$f":"+'Vista Principal'!C76","v":"2027-03-28"},{"$f":"+'Vista Principal'!D76","v":7},{"$f":"+'Vista Principal'!E76","v":"2027-03-29"},{"$f":"+'Vista Principal'!F76","v":28},{"$f":"+'Vista Principal'!G76","v":956},{"$f":"+'Vista Principal'!H76","v":43624.05077559276},{"$f":"+'Vista Principal'!I76","v":967.5969540485128},{"$f":"+'Vista Principal'!J76","v":324.58729714570603},{"$f":"+'Vista Principal'!K76","v":372.30917724},{"$f":"+'Vista Principal'!L76","v":0},{"$f":"+'Vista Principal'!M76","v":1664.493428434219},{"$f":"+'Vista Principal'!N76","v":42656.45382154425}]
[null,{"$f":"+'Vista Principal'!B77","v":30},{"$f":"+'Vista Principal'!C77","v":"2027-04-28"},{"$f":"+'Vista Principal'!D77","v":3},{"$f":"+'Vista Principal'!E77","v":"2027-04-28"},{"$f":"+'Vista Principal'!F77","v":30},{"$f":"+'Vista Principal'!G77","v":986},{"$f":"+'Vista Principal'!H77","v":42656.45382154425},{"$f":"+'Vista Principal'!I77","v":952.0356982221764},{"$f":"+'Vista Principal'!J77","v":340.14855297204247},{"$f":"+'Vista Principal'!K77","v":372.30917724},{"$f":"+'Vista Principal'!L77","v":0},{"$f":"+'Vista Principal'!M77","v":1664.493428434219},{"$f":"+'Vista Principal'!N77","v":41704.41812332207}]
[null,{"$f":"+'Vista Principal'!B78","v":31},{"$f":"+'Vista Principal'!C78","v":"2027-05-28"},{"$f":"+'Vista Principal'!D78","v":5},{"$f":"+'Vista Principal'!E78","v":"2027-05-28"},{"$f":"+'Vista Principal'!F78","v":30},{"$f":"+'Vista Principal'!G78","v":1016},{"$f":"+'Vista Principal'!H78","v":41704.41812332207},{"$f":"+'Vista Principal'!I78","v":959.6273645731294},{"$f":"+'Vista Principal'!J78","v":332.5568866210894},{"$f":"+'Vista Principal'!K78","v":372.30917724},{"$f":"+'Vista Principal'!L78","v":0},{"$f":"+'Vista Principal'!M78","v":1664.493428434219},{"$f":"+'Vista Principal'!N78","v":40744.790758748946}]
[null,{"$f":"+'Vista Principal'!B79","v":32},{"$f":"+'Vista Principal'!C79","v":"2027-06-28"},{"$f":"+'Vista Principal'!D79","v":1},{"$f":"+'Vista Principal'!E79","v":"2027-06-28"},{"$f":"+'Vista Principal'!F79","v":31},{"$f":"+'Vista Principal'!G79","v":1047},{"$f":"+'Vista Principal'!H79","v":40744.790758748946},{"$f":"+'Vista Principal'!I79","v":956.4049060843016},{"$f":"+'Vista Principal'!J79","v":335.77934510991724},{"$f":"+'Vista Principal'!K79","v":372.30917724},{"$f":"+'Vista Principal'!L79","v":0},{"$f":"+'Vista Principal'!M79","v":1664.493428434219},{"$f":"+'Vista Principal'!N79","v":39788.38585266464}]
[null,{"$f":"+'Vista Principal'!B80","v":33},{"$f":"+'Vista Principal'!C80","v":"2027-07-28"},{"$f":"+'Vista Principal'!D80","v":3},{"$f":"+'Vista Principal'!E80","v":"2027-07-28"},{"$f":"+'Vista Principal'!F80","v":30},{"$f":"+'Vista Principal'!G80","v":1077},{"$f":"+'Vista Principal'!H80","v":39788.38585266464},{"$f":"+'Vista Principal'!I80","v":2639.399503399882},{"$f":"+'Vista Principal'!J80","v":317.2781762285557},{"$f":"+'Vista Principal'!K80","v":372.30917724},{"$f":"+'Vista Principal'!L80","v":0},{"$f":"+'Vista Principal'!M80","v":3328.986856868438},{"$f":"+'Vista Principal'!N80","v":37148.986349264764}]
[null,{"$f":"+'Vista Principal'!B81","v":34},{"$f":"+'Vista Principal'!C81","v":"2027-08-28"},{"$f":"+'Vista Principal'!D81","v":6},{"$f":"+'Vista Principal'!E81","v":"2027-08-28"},{"$f":"+'Vista Principal'!F81","v":31},{"$f":"+'Vista Principal'!G81","v":1108},{"$f":"+'Vista Principal'!H81","v":37148.986349264764},{"$f":"+'Vista Principal'!I81","v":986.0380647599463},{"$f":"+'Vista Principal'!J81","v":306.14618643427247},{"$f":"+'Vista Principal'!K81","v":372.30917724},{"$f":"+'Vista Principal'!L81","v":0},{"$f":"+'Vista Principal'!M81","v":1664.493428434219},{"$f":"+'Vista Principal'!N81","v":36162.94828450482}]
[null,{"$f":"+'Vista Principal'!B82","v":35},{"$f":"+'Vista Principal'!C82","v":"2027-09-28"},{"$f":"+'Vista Principal'!D82","v":2},{"$f":"+'Vista Principal'!E82","v":"2027-09-28"},{"$f":"+'Vista Principal'!F82","v":31},{"$f":"+'Vista Principal'!G82","v":1139},{"$f":"+'Vista Principal'!H82","v":36162.94828450482},{"$f":"+'Vista Principal'!I82","v":994.1640413442647},{"$f":"+'Vista Principal'!J82","v":298.02020984995414},{"$f":"+'Vista Principal'!K82","v":372.30917724},{"$f":"+'Vista Principal'!L82","v":0},{"$f":"+'Vista Principal'!M82","v":1664.493428434219},{"$f":"+'Vista Principal'!N82","v":35168.78424316055}]
[null,{"$f":"+'Vista Principal'!B83","v":36},{"$f":"+'Vista Principal'!C83","v":"2027-10-28"},{"$f":"+'Vista Principal'!D83","v":4},{"$f":"+'Vista Principal'!E83","v":"2027-10-28"},{"$f":"+'Vista Principal'!F83","v":30},{"$f":"+'Vista Principal'!G83","v":1169},{"$f":"+'Vista Principal'!H83","v":35168.78424316055},{"$f":"+'Vista Principal'!I83","v":1011.7434269254386},{"$f":"+'Vista Principal'!J83","v":280.44082426878026},{"$f":"+'Vista Principal'!K83","v":372.30917724},{"$f":"+'Vista Principal'!L83","v":0},{"$f":"+'Vista Principal'!M83","v":1664.493428434219},{"$f":"+'Vista Principal'!N83","v":34157.040816235116}]
[null,{"$f":"+'Vista Principal'!B84","v":37},{"$f":"+'Vista Principal'!C84","v":"2027-11-28"},{"$f":"+'Vista Principal'!D84","v":7},{"$f":"+'Vista Principal'!E84","v":"2027-11-29"},{"$f":"+'Vista Principal'!F84","v":32},{"$f":"+'Vista Principal'!G84","v":1201},{"$f":"+'Vista Principal'!H84","v":34157.040816235116},{"$f":"+'Vista Principal'!I84","v":1001.5759746989564},{"$f":"+'Vista Principal'!J84","v":290.60827649526243},{"$f":"+'Vista Principal'!K84","v":372.30917724},{"$f":"+'Vista Principal'!L84","v":0},{"$f":"+'Vista Principal'!M84","v":1664.493428434219},{"$f":"+'Vista Principal'!N84","v":33155.46484153616}]
[null,{"$f":"+'Vista Principal'!B85","v":38},{"$f":"+'Vista Principal'!C85","v":"2027-12-28"},{"$f":"+'Vista Principal'!D85","v":2},{"$f":"+'Vista Principal'!E85","v":"2027-12-28"},{"$f":"+'Vista Principal'!F85","v":29},{"$f":"+'Vista Principal'!G85","v":1230},{"$f":"+'Vista Principal'!H85","v":33155.46484153616},{"$f":"+'Vista Principal'!I85","v":2701.1380981440034},{"$f":"+'Vista Principal'!J85","v":255.53958148443473},{"$f":"+'Vista Principal'!K85","v":372.30917724},{"$f":"+'Vista Principal'!L85","v":0},{"$f":"+'Vista Principal'!M85","v":3328.986856868438},{"$f":"+'Vista Principal'!N85","v":30454.326743392157}]
[null,{"$f":"+'Vista Principal'!B86","v":39},{"$f":"+'Vista Principal'!C86","v":"2028-01-28"},{"$f":"+'Vista Principal'!D86","v":5},{"$f":"+'Vista Principal'!E86","v":"2028-01-28"},{"$f":"+'Vista Principal'!F86","v":31},{"$f":"+'Vista Principal'!G86","v":1261},{"$f":"+'Vista Principal'!H86","v":30454.326743392157},{"$f":"+'Vista Principal'!I86","v":1041.2090050527502},{"$f":"+'Vista Principal'!J86","v":250.97524614146872},{"$f":"+'Vista Principal'!K86","v":372.30917724},{"$f":"+'Vista Principal'!L86","v":0},{"$f":"+'Vista Principal'!M86","v":1664.493428434219},{"$f":"+'Vista Principal'!N86","v":29413.117738339406}]
[null,{"$f":"+'Vista Principal'!B87","v":40},{"$f":"+'Vista Principal'!C87","v":"2028-02-28"},{"$f":"+'Vista Principal'!D87","v":1},{"$f":"+'Vista Principal'!E87","v":"2028-02-28"},{"$f":"+'Vista Principal'!F87","v":31},{"$f":"+'Vista Principal'!G87","v":1292},{"$f":"+'Vista Principal'!H87","v":29413.117738339406},{"$f":"+'Vista Principal'!I87","v":1049.7896474202432},{"$f":"+'Vista Principal'!J87","v":242.39460377397563},{"$f":"+'Vista Principal'!K87","v":372.30917724},{"$f":"+'Vista Principal'!L87","v":0},{"$f":"+'Vista Principal'!M87","v":1664.493428434219},{"$f":"+'Vista Principal'!N87","v":28363.328090919164}]
[null,{"$f":"+'Vista Principal'!B88","v":41},{"$f":"+'Vista Principal'!C88","v":"2028-03-28"},{"$f":"+'Vista Principal'!D88","v":2},{"$f":"+'Vista Principal'!E88","v":"2028-03-28"},{"$f":"+'Vista Principal'!F88","v":29},{"$f":"+'Vista Principal'!G88","v":1321},{"$f":"+'Vista Principal'!H88","v":28363.328090919164},{"$f":"+'Vista Principal'!I88","v":1073.579172830812},{"$f":"+'Vista Principal'!J88","v":218.6050783634069},{"$f":"+'Vista Principal'!K88","v":372.30917724},{"$f":"+'Vista Principal'!L88","v":0},{"$f":"+'Vista Principal'!M88","v":1664.493428434219},{"$f":"+'Vista Principal'!N88","v":27289.748918088353}]
[null,{"$f":"+'Vista Principal'!B89","v":42},{"$f":"+'Vista Principal'!C89","v":"2028-04-28"},{"$f":"+'Vista Principal'!D89","v":5},{"$f":"+'Vista Principal'!E89","v":"2028-04-28"},{"$f":"+'Vista Principal'!F89","v":31},{"$f":"+'Vista Principal'!G89","v":1352},{"$f":"+'Vista Principal'!H89","v":27289.748918088353},{"$f":"+'Vista Principal'!I89","v":1067.288409313814},{"$f":"+'Vista Principal'!J89","v":224.89584188040473},{"$f":"+'Vista Principal'!K89","v":372.30917724},{"$f":"+'Vista Principal'!L89","v":0},{"$f":"+'Vista Principal'!M89","v":1664.493428434219},{"$f":"+'Vista Principal'!N89","v":26222.46050877454}]
[null,{"$f":"+'Vista Principal'!B90","v":43},{"$f":"+'Vista Principal'!C90","v":"2028-05-28"},{"$f":"+'Vista Principal'!D90","v":7},{"$f":"+'Vista Principal'!E90","v":"2028-05-29"},{"$f":"+'Vista Principal'!F90","v":31},{"$f":"+'Vista Principal'!G90","v":1383},{"$f":"+'Vista Principal'!H90","v":26222.46050877454},{"$f":"+'Vista Principal'!I90","v":1076.0839730275839},{"$f":"+'Vista Principal'!J90","v":216.1002781666349},{"$f":"+'Vista Principal'!K90","v":372.30917724},{"$f":"+'Vista Principal'!L90","v":0},{"$f":"+'Vista Principal'!M90","v":1664.493428434219},{"$f":"+'Vista Principal'!N90","v":25146.376535746957}]
[null,{"$f":"+'Vista Principal'!B91","v":44},{"$f":"+'Vista Principal'!C91","v":"2028-06-28"},{"$f":"+'Vista Principal'!D91","v":3},{"$f":"+'Vista Principal'!E91","v":"2028-06-28"},{"$f":"+'Vista Principal'!F91","v":30},{"$f":"+'Vista Principal'!G91","v":1413},{"$f":"+'Vista Principal'!H91","v":25146.376535746957},{"$f":"+'Vista Principal'!I91","v":1091.6635134200822},{"$f":"+'Vista Principal'!J91","v":200.5207377741368},{"$f":"+'Vista Principal'!K91","v":372.30917724},{"$f":"+'Vista Principal'!L91","v":0},{"$f":"+'Vista Principal'!M91","v":1664.493428434219},{"$f":"+'Vista Principal'!N91","v":24054.713022326876}]
[null,{"$f":"+'Vista Principal'!B92","v":45},{"$f":"+'Vista Principal'!C92","v":"2028-07-28"},{"$f":"+'Vista Principal'!D92","v":5},{"$f":"+'Vista Principal'!E92","v":"2028-07-28"},{"$f":"+'Vista Principal'!F92","v":30},{"$f":"+'Vista Principal'!G92","v":1443},{"$f":"+'Vista Principal'!H92","v":24054.713022326876},{"$f":"+'Vista Principal'!I92","v":2764.8620200114233},{"$f":"+'Vista Principal'!J92","v":191.8156596170146},{"$f":"+'Vista Principal'!K92","v":372.30917724},{"$f":"+'Vista Principal'!L92","v":0},{"$f":"+'Vista Principal'!M92","v":3328.986856868438},{"$f":"+'Vista Principal'!N92","v":21289.851002315452}]
[null,{"$f":"+'Vista Principal'!B93","v":46},{"$f":"+'Vista Principal'!C93","v":"2028-08-28"},{"$f":"+'Vista Principal'!D93","v":1},{"$f":"+'Vista Principal'!E93","v":"2028-08-28"},{"$f":"+'Vista Principal'!F93","v":31},{"$f":"+'Vista Principal'!G93","v":1474},{"$f":"+'Vista Principal'!H93","v":21289.851002315452},{"$f":"+'Vista Principal'!I93","v":1116.7337925239854},{"$f":"+'Vista Principal'!J93","v":175.4504586702336},{"$f":"+'Vista Principal'!K93","v":372.30917724},{"$f":"+'Vista Principal'!L93","v":0},{"$f":"+'Vista Principal'!M93","v":1664.493428434219},{"$f":"+'Vista Principal'!N93","v":20173.117209791468}]
[null,{"$f":"+'Vista Principal'!B94","v":47},{"$f":"+'Vista Principal'!C94","v":"2028-09-28"},{"$f":"+'Vista Principal'!D94","v":4},{"$f":"+'Vista Principal'!E94","v":"2028-09-28"},{"$f":"+'Vista Principal'!F94","v":31},{"$f":"+'Vista Principal'!G94","v":1505},{"$f":"+'Vista Principal'!H94","v":20173.117209791468},{"$f":"+'Vista Principal'!I94","v":1125.93683749079},{"$f":"+'Vista Principal'!J94","v":166.24741370342883},{"$f":"+'Vista Principal'!K94","v":372.30917724},{"$f":"+'Vista Principal'!L94","v":0},{"$f":"+'Vista Principal'!M94","v":1664.493428434219},{"$f":"+'Vista Principal'!N94","v":19047.180372300678}]
[null,{"$f":"+'Vista Principal'!B95","v":48},{"$f":"+'Vista Principal'!C95","v":"2028-10-28"},{"$f":"+'Vista Principal'!D95","v":6},{"$f":"+'Vista Principal'!E95","v":"2028-10-28"},{"$f":"+'Vista Principal'!F95","v":30},{"$f":"+'Vista Principal'!G95","v":1535},{"$f":"+'Vista Principal'!H95","v":19047.180372300678},{"$f":"+'Vista Principal'!I95","v":1140.2993601308337},{"$f":"+'Vista Principal'!J95","v":151.88489106338508},{"$f":"+'Vista Principal'!K95","v":372.30917724},{"$f":"+'Vista Principal'!L95","v":0},{"$f":"+'Vista Principal'!M95","v":1664.493428434219},{"$f":"+'Vista Principal'!N95","v":17906.881012169844}]
[null,{"$f":"+'Vista Principal'!B96","v":49},{"$f":"+'Vista Principal'!C96","v":"2028-11-28"},{"$f":"+'Vista Principal'!D96","v":2},{"$f":"+'Vista Principal'!E96","v":"2028-11-28"},{"$f":"+'Vista Principal'!F96","v":31},{"$f":"+'Vista Principal'!G96","v":1566},{"$f":"+'Vista Principal'!H96","v":17906.881012169844},{"$f":"+'Vista Principal'!I96","v":1144.6129747866573},{"$f":"+'Vista Principal'!J96","v":147.57127640756158},{"$f":"+'Vista Principal'!K96","v":372.30917724},{"$f":"+'Vista Principal'!L96","v":0},{"$f":"+'Vista Principal'!M96","v":1664.493428434219},{"$f":"+'Vista Principal'!N96","v":16762.268037383186}]
[null,{"$f":"+'Vista Principal'!B97","v":50},{"$f":"+'Vista Principal'!C97","v":"2028-12-28"},{"$f":"+'Vista Principal'!D97","v":4},{"$f":"+'Vista Principal'!E97","v":"2028-12-28"},{"$f":"+'Vista Principal'!F97","v":30},{"$f":"+'Vista Principal'!G97","v":1596},{"$f":"+'Vista Principal'!H97","v":16762.268037383186},{"$f":"+'Vista Principal'!I97","v":2823.013000391419},{"$f":"+'Vista Principal'!J97","v":133.66467923701862},{"$f":"+'Vista Principal'!K97","v":372.30917724},{"$f":"+'Vista Principal'!L97","v":0},{"$f":"+'Vista Principal'!M97","v":3328.986856868438},{"$f":"+'Vista Principal'!N97","v":13939.255036991766}]
[null,{"$f":"+'Vista Principal'!B98","v":51},{"$f":"+'Vista Principal'!C98","v":"2029-01-28"},{"$f":"+'Vista Principal'!D98","v":7},{"$f":"+'Vista Principal'!E98","v":"2029-01-29"},{"$f":"+'Vista Principal'!F98","v":32},{"$f":"+'Vista Principal'!G98","v":1628},{"$f":"+'Vista Principal'!H98","v":13939.255036991766},{"$f":"+'Vista Principal'!I98","v":1173.5889986452137},{"$f":"+'Vista Principal'!J98","v":118.59525254900521},{"$f":"+'Vista Principal'!K98","v":372.30917724},{"$f":"+'Vista Principal'!L98","v":0},{"$f":"+'Vista Principal'!M98","v":1664.493428434219},{"$f":"+'Vista Principal'!N98","v":12765.666038346553}]
[null,{"$f":"+'Vista Principal'!B99","v":52},{"$f":"+'Vista Principal'!C99","v":"2029-02-28"},{"$f":"+'Vista Principal'!D99","v":3},{"$f":"+'Vista Principal'!E99","v":"2029-02-28"},{"$f":"+'Vista Principal'!F99","v":30},{"$f":"+'Vista Principal'!G99","v":1658},{"$f":"+'Vista Principal'!H99","v":12765.666038346553},{"$f":"+'Vista Principal'!I99","v":1190.3890375359558},{"$f":"+'Vista Principal'!J99","v":101.795213658263},{"$f":"+'Vista Principal'!K99","v":372.30917724},{"$f":"+'Vista Principal'!L99","v":0},{"$f":"+'Vista Principal'!M99","v":1664.493428434219},{"$f":"+'Vista Principal'!N99","v":11575.277000810598}]
[null,{"$f":"+'Vista Principal'!B100","v":53},{"$f":"+'Vista Principal'!C100","v":"2029-03-28"},{"$f":"+'Vista Principal'!D100","v":3},{"$f":"+'Vista Principal'!E100","v":"2029-03-28"},{"$f":"+'Vista Principal'!F100","v":28},{"$f":"+'Vista Principal'!G100","v":1686},{"$f":"+'Vista Principal'!H100","v":11575.277000810598},{"$f":"+'Vista Principal'!I100","v":1206.0577267516956},{"$f":"+'Vista Principal'!J100","v":86.12652444252328},{"$f":"+'Vista Principal'!K100","v":372.30917724},{"$f":"+'Vista Principal'!L100","v":0},{"$f":"+'Vista Principal'!M100","v":1664.493428434219},{"$f":"+'Vista Principal'!N100","v":10369.219274058902}]
[null,{"$f":"+'Vista Principal'!B101","v":54},{"$f":"+'Vista Principal'!C101","v":"2029-04-28"},{"$f":"+'Vista Principal'!D101","v":6},{"$f":"+'Vista Principal'!E101","v":"2029-04-28"},{"$f":"+'Vista Principal'!F101","v":31},{"$f":"+'Vista Principal'!G101","v":1717},{"$f":"+'Vista Principal'!H101","v":10369.219274058902},{"$f":"+'Vista Principal'!I101","v":1206.731127192177},{"$f":"+'Vista Principal'!J101","v":85.45312400204202},{"$f":"+'Vista Principal'!K101","v":372.30917724},{"$f":"+'Vista Principal'!L101","v":0},{"$f":"+'Vista Principal'!M101","v":1664.493428434219},{"$f":"+'Vista Principal'!N101","v":9162.488146866724}]
[null,{"$f":"+'Vista Principal'!B102","v":55},{"$f":"+'Vista Principal'!C102","v":"2029-05-28"},{"$f":"+'Vista Principal'!D102","v":1},{"$f":"+'Vista Principal'!E102","v":"2029-05-28"},{"$f":"+'Vista Principal'!F102","v":30},{"$f":"+'Vista Principal'!G102","v":1747},{"$f":"+'Vista Principal'!H102","v":9162.488146866724},{"$f":"+'Vista Principal'!I102","v":1219.1212840329374},{"$f":"+'Vista Principal'!J102","v":73.06296716128148},{"$f":"+'Vista Principal'!K102","v":372.30917724},{"$f":"+'Vista Principal'!L102","v":0},{"$f":"+'Vista Principal'!M102","v":1664.493428434219},{"$f":"+'Vista Principal'!N102","v":7943.366862833787}]
[null,{"$f":"+'Vista Principal'!B103","v":56},{"$f":"+'Vista Principal'!C103","v":"2029-06-28"},{"$f":"+'Vista Principal'!D103","v":4},{"$f":"+'Vista Principal'!E103","v":"2029-06-28"},{"$f":"+'Vista Principal'!F103","v":31},{"$f":"+'Vista Principal'!G103","v":1778},{"$f":"+'Vista Principal'!H103","v":7943.366862833787},{"$f":"+'Vista Principal'!I103","v":1226.722667676394},{"$f":"+'Vista Principal'!J103","v":65.46158351782496},{"$f":"+'Vista Principal'!K103","v":372.30917724},{"$f":"+'Vista Principal'!L103","v":0},{"$f":"+'Vista Principal'!M103","v":1664.493428434219},{"$f":"+'Vista Principal'!N103","v":6716.644195157393}]
[null,{"$f":"+'Vista Principal'!B104","v":57},{"$f":"+'Vista Principal'!C104","v":"2029-07-28"},{"$f":"+'Vista Principal'!D104","v":6},{"$f":"+'Vista Principal'!E104","v":"2029-07-28"},{"$f":"+'Vista Principal'!F104","v":30},{"$f":"+'Vista Principal'!G104","v":1808},{"$f":"+'Vista Principal'!H104","v":6716.644195157393},{"$f":"+'Vista Principal'!I104","v":2903.118215605272},{"$f":"+'Vista Principal'!J104","v":53.559464023166356},{"$f":"+'Vista Principal'!K104","v":372.30917724},{"$f":"+'Vista Principal'!L104","v":0},{"$f":"+'Vista Principal'!M104","v":3328.986856868438},{"$f":"+'Vista Principal'!N104","v":3813.5259795521215}]
[null,{"$f":"+'Vista Principal'!B105","v":58},{"$f":"+'Vista Principal'!C105","v":"2029-08-28"},{"$f":"+'Vista Principal'!D105","v":2},{"$f":"+'Vista Principal'!E105","v":"2029-08-28"},{"$f":"+'Vista Principal'!F105","v":31},{"$f":"+'Vista Principal'!G105","v":1839},{"$f":"+'Vista Principal'!H105","v":3813.5259795521215},{"$f":"+'Vista Principal'!I105","v":1260.756840913588},{"$f":"+'Vista Principal'!J105","v":31.427410280631033},{"$f":"+'Vista Principal'!K105","v":372.30917724},{"$f":"+'Vista Principal'!L105","v":0},{"$f":"+'Vista Principal'!M105","v":1664.493428434219},{"$f":"+'Vista Principal'!N105","v":2552.7691386385336}]
[null,{"$f":"+'Vista Principal'!B106","v":59},{"$f":"+'Vista Principal'!C106","v":"2029-09-28"},{"$f":"+'Vista Principal'!D106","v":5},{"$f":"+'Vista Principal'!E106","v":"2029-09-28"},{"$f":"+'Vista Principal'!F106","v":31},{"$f":"+'Vista Principal'!G106","v":1870},{"$f":"+'Vista Principal'!H106","v":2552.7691386385336},{"$f":"+'Vista Principal'!I106","v":1271.1467852107962},{"$f":"+'Vista Principal'!J106","v":21.037465983422646},{"$f":"+'Vista Principal'!K106","v":372.30917724},{"$f":"+'Vista Principal'!L106","v":0},{"$f":"+'Vista Principal'!M106","v":1664.493428434219},{"$f":"+'Vista Principal'!N106","v":1281.6223534277374}]
[null,{"$f":"+'Vista Principal'!B107","v":60},{"$f":"+'Vista Principal'!C107","v":"2029-10-28"},{"$f":"+'Vista Principal'!D107","v":7},{"$f":"+'Vista Principal'!E107","v":"2029-10-29"},{"$f":"+'Vista Principal'!F107","v":31},{"$f":"+'Vista Principal'!G107","v":1901},{"$f":"+'Vista Principal'!H107","v":1281.6223534277374},{"$f":"+'Vista Principal'!I107","v":1281.6223534277374},{"$f":"+'Vista Principal'!J107","v":10.561897766521014},{"$f":"+'Vista Principal'!K107","v":372.30917724},{"$f":"+'Vista Principal'!L107","v":0},{"$f":"+'Vista Principal'!M107","v":1664.4934284342585},{"$f":"+'Vista Principal'!N107","v":0}]
[null,{"$f":"+'Vista Principal'!B108","v":61},{"$f":"+'Vista Principal'!C108","v":""},{"$f":"+'Vista Principal'!D108","v":""},{"$f":"+'Vista Principal'!E108","v":""},{"$f":"+'Vista Principal'!F108","v":""},{"$f":"+'Vista Principal'!G108","v":""},{"$f":"+'Vista Principal'!H108","v":""},{"$f":"+'Vista Principal'!I108","v":""},{"$f":"+'Vista Principal'!J108","v":""},{"$f":"+'Vista Principal'!K108","v":""},{"$f":"+'Vista Principal'!L108","v":""},{"$f":"+'Vista Principal'!M108","v":""},{"$f":"+'Vista Principal'!N108","v":""}]
[null,{"$f":"+'Vista Principal'!B109","v":62},{"$f":"+'Vista Principal'!C109","v":""},{"$f":"+'Vista Principal'!D109","v":""},{"$f":"+'Vista Principal'!E109","v":""},{"$f":"+'Vista Principal'!F109","v":""},{"$f":"+'Vista Principal'!G109","v":""},{"$f":"+'Vista Principal'!H109","v":""},{"$f":"+'Vista Principal'!I109","v":""},{"$f":"+'Vista Principal'!J109","v":""},{"$f":"+'Vista Principal'!K109","v":""},{"$f":"+'Vista Principal'!L109","v":""},{"$f":"+'Vista Principal'!M109","v":""},{"$f":"+'Vista Principal'!N109","v":""}]
[null,{"$f":"+'Vista Principal'!B110","v":63},{"$f":"+'Vista Principal'!C110","v":""},{"$f":"+'Vista Principal'!D110","v":""},{"$f":"+'Vista Principal'!E110","v":""},{"$f":"+'Vista Principal'!F110","v":""},{"$f":"+'Vista Principal'!G110","v":""},{"$f":"+'Vista Principal'!H110","v":""},{"$f":"+'Vista Principal'!I110","v":""},{"$f":"+'Vista Principal'!J110","v":""},{"$f":"+'Vista Principal'!K110","v":""},{"$f":"+'Vista Principal'!L110","v":""},{"$f":"+'Vista Principal'!M110","v":""},{"$f":"+'Vista Principal'!N110","v":""}]
[null,{"$f":"+'Vista Principal'!B111","v":64},{"$f":"+'Vista Principal'!C111","v":""},{"$f":"+'Vista Principal'!D111","v":""},{"$f":"+'Vista Principal'!E111","v":""},{"$f":"+'Vista Principal'!F111","v":""},{"$f":"+'Vista Principal'!G111","v":""},{"$f":"+'Vista Principal'!H111","v":""},{"$f":"+'Vista Principal'!I111","v":""},{"$f":"+'Vista Principal'!J111","v":""},{"$f":"+'Vista Principal'!K111","v":""},{"$f":"+'Vista Principal'!L111","v":""},{"$f":"+'Vista Principal'!M111","v":""},{"$f":"+'Vista Principal'!N111","v":""}]
[null,{"$f":"+'Vista Principal'!B112","v":65},{"$f":"+'Vista Principal'!C112","v":""},{"$f":"+'Vista Principal'!D112","v":""},{"$f":"+'Vista Principal'!E112","v":""},{"$f":"+'Vista Principal'!F112","v":""},{"$f":"+'Vista Principal'!G112","v":""},{"$f":"+'Vista Principal'!H112","v":""},{"$f":"+'Vista Principal'!I112","v":""},{"$f":"+'Vista Principal'!J112","v":""},{"$f":"+'Vista Principal'!K112","v":""},{"$f":"+'Vista Principal'!L112","v":""},{"$f":"+'Vista Principal'!M112","v":""},{"$f":"+'Vista Principal'!N112","v":""}]
[null,{"$f":"+'Vista Principal'!B113","v":66},{"$f":"+'Vista Principal'!C113","v":""},{"$f":"+'Vista Principal'!D113","v":""},{"$f":"+'Vista Principal'!E113","v":""},{"$f":"+'Vista Principal'!F113","v":""},{"$f":"+'Vista Principal'!G113","v":""},{"$f":"+'Vista Principal'!H113","v":""},{"$f":"+'Vista Principal'!I113","v":""},{"$f":"+'Vista Principal'!J113","v":""},{"$f":"+'Vista Principal'!K113","v":""},{"$f":"+'Vista Principal'!L113","v":""},{"$f":"+'Vista Principal'!M113","v":""},{"$f":"+'Vista Principal'!N113","v":""}]
[null,{"$f":"+'Vista Principal'!B114","v":67},{"$f":"+'Vista Principal'!C114","v":""},{"$f":"+'Vista Principal'!D114","v":""},{"$f":"+'Vista Principal'!E114","v":""},{"$f":"+'Vista Principal'!F114","v":""},{"$f":"+'Vista Principal'!G114","v":""},{"$f":"+'Vista Principal'!H114","v":""},{"$f":"+'Vista Principal'!I114","v":""},{"$f":"+'Vista Principal'!J114","v":""},{"$f":"+'Vista Principal'!K114","v":""},{"$f":"+'Vista Principal'!L114","v":""},{"$f":"+'Vista Principal'!M114","v":""},{"$f":"+'Vista Principal'!N114","v":""}]
[null,{"$f":"+'Vista Principal'!B115","v":68},{"$f":"+'Vista Principal'!C115","v":""},{"$f":"+'Vista Principal'!D115","v":""},{"$f":"+'Vista Principal'!E115","v":""},{"$f":"+'Vista Principal'!F115","v":""},{"$f":"+'Vista Principal'!G115","v":""},{"$f":"+'Vista Principal'!H115","v":""},{"$f":"+'Vista Principal'!I115","v":""},{"$f":"+'Vista Principal'!J115","v":""},{"$f":"+'Vista Principal'!K115","v":""},{"$f":"+'Vista Principal'!L115","v":""},{"$f":"+'Vista Principal'!M115","v":""},{"$f":"+'Vista Principal'!N115","v":""}]
[null,{"$f":"+'Vista Principal'!B116","v":69},{"$f":"+'Vista Principal'!C116","v":""},{"$f":"+'Vista Principal'!D116","v":""},{"$f":"+'Vista Principal'!E116","v":""},{"$f":"+'Vista Principal'!F116","v":""},{"$f":"+'Vista Principal'!G116","v":""},{"$f":"+'Vista Principal'!H116","v":""},{"$f":"+'Vista Principal'!I116","v":""},{"$f":"+'Vista Principal'!J116","v":""},{"$f":"+'Vista Principal'!K116","v":""},{"$f":"+'Vista Principal'!L116","v":""},{"$f":"+'Vista Principal'!M116","v":""},{"$f":"+'Vista Principal'!N116","v":""}]
[null,{"$f":"+'Vista Principal'!B117","v":70},{"$f":"+'Vista Principal'!C117","v":""},{"$f":"+'Vista Principal'!D117","v":""},{"$f":"+'Vista Principal'!E117","v":""},{"$f":"+'Vista Principal'!F117","v":""},{"$f":"+'Vista Principal'!G117","v":""},{"$f":"+'Vista Principal'!H117","v":""},{"$f":"+'Vista Principal'!I117","v":""},{"$f":"+'Vista Principal'!J117","v":""},{"$f":"+'Vista Principal'!K117","v":""},{"$f":"+'Vista Principal'!L117","v":""},{"$f":"+'Vista Principal'!M117","v":""},{"$f":"+'Vista Principal'!N117","v":""}]
[null,{"$f":"+'Vista Principal'!B118","v":71},{"$f":"+'Vista Principal'!C118","v":""},{"$f":"+'Vista Principal'!D118","v":""},{"$f":"+'Vista Principal'!E118","v":""},{"$f":"+'Vista Principal'!F118","v":""},{"$f":"+'Vista Principal'!G118","v":""},{"$f":"+'Vista Principal'!H118","v":""},{"$f":"+'Vista Principal'!I118","v":""},{"$f":"+'Vista Principal'!J118","v":""},{"$f":"+'Vista Principal'!K118","v":""},{"$f":"+'Vista Principal'!L118","v":""},{"$f":"+'Vista Principal'!M118","v":""},{"$f":"+'Vista Principal'!N118","v":""}]
[null,{"$f":"+'Vista Principal'!B119","v":72},{"$f":"+'Vista Principal'!C119","v":""},{"$f":"+'Vista Principal'!D119","v":""},{"$f":"+'Vista Principal'!E119","v":""},{"$f":"+'Vista Principal'!F119","v":""},{"$f":"+'Vista Principal'!G119","v":""},{"$f":"+'Vista Principal'!H119","v":""},{"$f":"+'Vista Principal'!I119","v":""},{"$f":"+'Vista Principal'!J119","v":""},{"$f":"+'Vista Principal'!K119","v":""},{"$f":"+'Vista Principal'!L119","v":""},{"$f":"+'Vista Principal'!M119","v":""},{"$f":"+'Vista Principal'!N119","v":""}]

{"sheet":"RCI","index":2,"n_rows":14,"n_cols":9,"rows_kept":14,"hidden":true}
[]
[]
[]
[]
["Cuotas de Reporte de Deuda",{"$nulls":3},"Tipo de Cuota simulada",null,null,"Cálculo de RCI"]
["Ingresar datos de cuotas de reporte de ISTS",{"$nulls":3},"Ingresar dato de Ingreso Neto del cliente de ISTS"]
[]
[null,"Importe Cuota 1",{"v":1978,"d":"1,978.00"},null,"TIPO DE CUOTA",{"$f":"+'Vista Principal'!C11","v":"TARIFA TITULAR"},null,"RCI estimado",{"$f":"(C14+F9)/F13","v":{"v":0.6070822380723698,"d":"60.71%"}}]
[null,"Importe Cuota 2",{"v":0,"d":"0.00"},null,"VALOR CUOTA",{"$f":"+'Vista Principal'!C37","v":1664.493428434219}]
[null,"Importe Cuota 3",{"v":0,"d":"0.00"}]
[null,"Importe Cuota 4",{"v":0,"d":"0.00"},null,"Ingreso Neto del Cliente"]
[null,"Importe Cuota 5",{"v":0,"d":"0.00"},null,"Ingresar dato de Ingreso Neto del cliente de ISTS"]
[null,"Importe Cuota 6",{"v":0,"d":"0.00"},null,"INGRESO NETO DEL CLIENTE",{"v":6000,"d":"6,000.00"}]
[null,"TOTAL CUOTAS",{"$f":"SUM(C8:C13)","v":{"v":1978,"d":"1,978.00"}}]

{"sheet":"Proceso Prima de Seguro","index":3,"n_rows":395,"n_cols":25,"rows_kept":395,"hidden":true,"merged":[[1,3,3,9]]}
[]
[{"$nulls":3},"Proceso de Cálculo de la Prima de Seguros"]
[]
[]
[]
[]
[null,"1) Datos esenciales del préstamo",{"$nulls":4},"3) Calculo del valor presente del Seguro"]
[]
[null,"Producto",null,{"$f":"'Vista Principal'!C9","v":"Préstamos Vehiculares (Clientes)"},null,null,"Suma de Prima Mensual",{"$f":"SUM(L36:L395)","v":{"v":105793.88999014124,"d":"105,793.89"}}]
[null,"Tipo de Seguro",null,{"$f":"'Vista Principal'!C10","v":"Seguro de Vida"},null,null,"VPN - Valor Presente",{"$f":"NPV(D16,L36:L395)","v":{"v":99288.07096591244,"d":"99,288.07"}}]
[null,"Tarifa",null,{"$f":"'Vista Principal'!C11","v":"TARIFA TITULAR"}]
[null,"Monto inicial",null,{"$f":"'Vista Principal'!C15","v":{"v":70813.71,"d":"70,813.71"}},null,null,"4) Calculo del Monto Adicional del Seguro y MAF"]
[null,{"$f":"D10","v":"Seguro de Vida"},{"$f":"+CONCATENATE(D11,D9,D10)","v":"TARIFA TITULARPréstamos Vehiculares (Clientes)Seguro de Vida"},{"$f":"VLOOKUP(C13,capuccinomoreno,2,0)","v":{"v":0.0314,"d":"3.1400%"}}]
[null,"Monto adicional Seguro de Desgravamen/ Vida",{"$nulls":4},"Monto inicial",{"$f":"D12","v":{"v":70813.71,"d":"70,813.71"}}]
[null,"MAF Inicial",null,{"$f":"D12+D14","v":{"v":70813.71,"d":"70,814"}},null,null,"Monto adicional de Desgravamen / Vida",{"$f":"H10","v":{"v":99288.07096591244,"d":"99,288.07"}}]
[null,"Costo Capital",null,{"$f":"INDEX(_xlfn._xlws.FILTER(Tabla2[],Tabla2[TARIFA]=D11),0,2)","v":{"v":0.002871,"d":"0.2871%"}},null,null,"Prima de Seguro de Desgravamen / Vida",{"$f":"H15/H14","v":{"v":1.4021023748919867,"d":"140.2102%"}}]
[null,"Moneda",null,{"$f":"'Vista Principal'!C24","v":"Soles"},null,null,"MAF Inicial",{"$f":"H14+H15","v":{"v":170101.78096591245,"d":"170,101.78"}}]
[null,"Plazo Remanente Meses",null,{"$f":"'Vista Principal'!C25","v":60}]
[null,"Fecha de Desembolso",null,{"$f":"'Vista Principal'!C27","v":"2024-08-15"}]
[null,"Fecha de 1er Pago",null,{"$f":"'Vista Principal'!C28","v":"2024-11-30"}]
[null,"Cuota Julio",null,{"$f":"'Vista Principal'!C29","v":2}]
[null,"Cuota Diciembre",null,{"$f":"'Vista Principal'!C30","v":2}]
[null,"TEA",null,{"$f":"'Vista Principal'!C31","v":{"v":0.1,"d":"10.00%"}}]
[null,"TEA TOTAL",null,{"$f":"(1+(((1+D23)^(30/360)-1)+D13))^12-1","v":{"v":0.5895086248344752,"d":"58.95%"}}]
[null,"Monto del Bien",null,{"$f":"+'Vista Principal'!C33","v":{"v":108103.71,"d":"108,103.71"}}]
[null,"Seguro del Bien",null,{"$f":"+'Vista Principal'!C35","v":{"v":3.444E-3,"d":"0.3444%"}}]
[null,"Portes",null,0]
[null,"Cuota",null,{"$f":"(D15+(D26*D25+D27)*R34)/Q34","v":{"v":3249.614625960953,"d":"3,249.61"}}]
[]
[null,"TCEA",null,{"v":0.18895454764056716,"d":"18.90%"}]
[{"$nulls":22},{"$f":"D15-W34-D14","v":{"v":-73850.46999999999,"d":"-73,850.47"}}]
[]
[null,"2) Creación de Cronograma de prima mensual"]
[{"$nulls":16},{"$f":"SUM(Q36:Q395)","v":{"v":24.14943008551814,"d":"24.15"}},{"$f":"SUM(R36:R395)","v":{"v":20.581365389179453,"d":"20.58"}},{"$nulls":4},{"$f":"SUM(W36:W395)","v":{"v":144664.18,"d":"144,664.18"}}]
[null,"N° Cuota",null,"Fecha de pago","Día","Fecha de pago","Días","Dias Acumulados","Saldo Inicial","Amortización","Interés","Seguro Desgravamen","Seguro del Bien","Portes","Cuota Constante","Saldo Final","Factor Cronograma","Factor Cronograma 2",null,"Vector i,1\nCuota","Vector i,2\nDías Acum","Vector i,3 Factor","Vector i,4\nCalculo VA","VPN - Valor Presente","VPN - Valor Presente"]
[null,1,null,{"$f":"D20","v":"2024-11-30"},{"$f":"IF(B36<=$D$18,WEEKDAY(D36,2),\"\")","v":6},{"$f":"IF(E36=7,D36+1,D36)","v":"2024-11-30"},{"$f":"F36-D19","v":107},{"$f":"G36","v":107},{"$f":"D15","v":{"v":70813.71,"d":"70,813.71"}},{"$f":"IF(B36>D$18,\"\",O36-N36-M36-L36-K36)","v":{"v":-7412.917144343775,"d":"-7,412.92"}},{"$f":"IF(B36>D$18,\"\",((1+D$23)^(G36/360)-1)*I36)","v":{"v":2034.7162254460052,"d":"2,034.72"}},{"$f":"IF(B36>D$18,\"\",((1+D$13)^(G36/30)-1)*I36)","v":{"v":8255.506367618724,"d":"8,255.51"}},{"$f":"IF(B36>D$18,\"\",D$25*D$26)","v":{"v":372.30917724,"d":"372.31"}},{"$f":"IF(B36>D$18,\"\",D$27)","v":0},{"$f":"IF(B36>D$18,\"\",IF(B36=D$18,I36+K36+L36+M36+N36,IF(AND(D$21=2,MONTH(F36)=7),2*D$28,IF(AND(D$22=2,MONTH(F36)=12),2*D$28,D$28))))","v":{"v":3249.614625960953,"d":"3,249.61"}},{"$f":"IF(B36>D$18,\"\",I36-J36)","v":{"v":78226.62714434379,"d":"78,226.63"}},{"$f":"IFERROR(IF(AND(MONTH(F36)=7,D$21=2),2/(1+D$24)^(H36/360),IF(AND(MONTH(F36)=12,D$22=2),2/(1+D$24)^(H36/360),1/(1+D$24)^(H36/360))),\"\")","v":{"v":0.8713250441051255,"d":"0.87"}},{"$f":"IFERROR(1/(1+D$24)^(H36/360),\"\")","v":{"v":0.8713250441051255,"d":"0.87"}},null,{"$f":"IFERROR(J36+K36+L36+M36+N36,\"\")","v":3249.6146259609536},{"$f":"H36","v":107},{"$f":"IFERROR((1+D$30)^(U36/360),\"\")","v":{"v":1.0527876539878502,"d":"1.05"}},{"$f":"IFERROR(ROUND(T36/V36,2),\"\")","v":{"v":3086.68,"d":"3,086.68"}},{"$f":"L36/(1+$I$9)","v":{"v":8255.506367618724,"d":"8,255.51"}},{"$f":"L36/(1+$Q$28)","v":{"v":8255.506367618724,"d":"8,255.51"}}]
[null,2,null,{"$f":"IF(B37>$D$18,\"\",EDATE(D36,1))","v":"2024-12-30"},1,{"$f":"IF(E37=7,D37+1,D37)","v":"2024-12-30"},{"$f":"IF(B37>D$18,\"\",F37-F36)","v":30},{"$f":"IFERROR(G37+H36,\"\")","v":137},{"$f":"IF(B37>D$18,\"\",P36)","v":{"v":78226.62714434379,"d":"78,226.63"}},{"v":3046.8138722210115,"d":"3,046.81"},{"v":623.7901101284924,"d":"623.79"},{"v":2456.316092332402,"d":"2,456.32"},{"v":372.30917724,"d":"372.31"},0,{"v":6499.229251921906,"d":"6,499.23"},{"v":75179.81327212277,"d":"75,179.81"},{"v":1.676634063159524,"d":"1.68"},{"v":0.838317031579762,"d":"0.84"},null,6499.229251921906,137,{"v":1.0680818973226678,"d":"1.07"},{"v":6084.95,"d":"6,084.95"},{"$f":"IF(O37=\"\",0,L37/((1+$I$9)^B37))","v":{"v":2456.316092332402,"d":"2,456.32"}},{"$f":"IF(O37=\"\",0,L37/((1+$Q$28)^B37))","v":{"v":2456.316092332402,"d":"2,456.32"}}]
[null,3,null,"2025-01-30",4,"2025-01-30",31,168,{"v":75179.81327212277,"d":"75,179.81"},{"v":-182.85241114541327,"d":"-182.85"},{"v":619.5596540296076,"d":"619.56"},{"v":2440.598205836759,"d":"2,440.60"},{"v":372.30917724,"d":"372.31"},0,{"v":3249.614625960953,"d":"3,249.61"},{"v":75362.66568326819,"d":"75,362.67"},{"v":0.8055218375666697,"d":"0.81"},{"v":0.8055218375666697,"d":"0.81"},null,3249.614625960953,168,{"v":1.0841194042542022,"d":"1.08"},{"v":2997.47,"d":"2,997.47"},{"v":2440.598205836759,"d":"2,440.60"},{"v":2440.598205836759,"d":"2,440.60"}]
[null,4,null,"2025-02-28",5,"2025-02-28",29,197,{"v":75362.66568326819,"d":"75,362.67"},{"v":10.137985362448603,"d":"10.14"},{"v":580.8437354232991,"d":"580.84"},{"v":2286.3237279352056,"d":"2,286.32"},{"v":372.30917724,"d":"372.31"},0,{"v":3249.614625960953,"d":"3,249.61"},{"v":75352.52769790574,"d":"75,352.53"},{"v":0.7760049199701831,"d":"0.78"},{"v":0.7760049199701831,"d":"0.78"},null,3249.614625960953,197,{"v":1.0993401674857093,"d":"1.10"},{"v":2955.97,"d":"2,955.97"},{"v":2286.3237279352056,"d":"2,286.32"},{"v":2286.3237279352056,"d":"2,286.32"}]
[null,5,null,"2025-03-28",5,"2025-03-28",28,225,{"v":75352.52769790574,"d":"75,352.53"},{"v":110.5951468539372,"d":"110.60"},{"v":560.664882414919,"d":"560.66"},{"v":2206.045419452097,"d":"2,206.05"},{"v":372.30917724,"d":"372.31"},0,{"v":3249.614625960953,"d":"3,249.61"},{"v":75241.9325510518,"d":"75,241.93"},{"v":0.7485325570483379,"d":"0.75"},{"v":0.7485325570483379,"d":"0.75"},null,3249.614625960953,225,{"v":1.1142388137123884,"d":"1.11"},{"v":2916.44,"d":"2,916.44"},{"v":2206.045419452097,"d":"2,206.05"},{"v":2206.045419452097,"d":"2,206.05"}]
[null,6,null,"2025-04-28",1,"2025-04-28",31,256,{"v":75241.9325510518,"d":"75,241.93"},{"v":-185.38094628523595,"d":"-185.38"},{"v":620.0715813314555,"d":"620.07"},{"v":2442.614813674734,"d":"2,442.61"},{"v":372.30917724,"d":"372.31"},0,{"v":3249.614625960953,"d":"3,249.61"},{"v":75427.31349733703,"d":"75,427.31"},{"v":0.7192497564982208,"d":"0.72"},{"v":0.7192497564982208,"d":"0.72"},null,3249.614625960953,256,{"v":1.1309693778602226,"d":"1.13"},{"v":2873.3,"d":"2,873.30"},{"v":2442.614813674734,"d":"2,442.61"},{"v":2442.614813674734,"d":"2,442.61"}]
[null,7,null,"2025-05-28",3,"2025-05-28",30,286,{"v":75427.31349733703,"d":"75,427.31"},{"v":-92.58018509815042,"d":"-92.58"},{"v":601.4679900027138,"d":"601.47"},{"v":2368.41764381639,"d":"2,368.42"},{"v":372.30917724,"d":"372.31"},0,{"v":3249.614625960953,"d":"3,249.61"},{"v":75519.89368243518,"d":"75,519.89"},{"v":0.6920027433060997,"d":"0.69"},{"v":0.6920027433060997,"d":"0.69"},null,3249.614625960953,286,{"v":1.147399396585937,"d":"1.15"},{"v":2832.16,"d":"2,832.16"},{"v":2368.41764381639,"d":"2,368.42"},{"v":2368.41764381639,"d":"2,368.42"}]
[null,8,null,"2025-06-28",6,"2025-06-28",31,317,{"v":75519.89368243518,"d":"75,519.89"},{"v":-196.6952194114723,"d":"-196.70"},{"v":622.3622694151067,"d":"622.36"},{"v":2451.638398717319,"d":"2,451.64"},{"v":372.30917724,"d":"372.31"},0,{"v":3249.614625960953,"d":"3,249.61"},{"v":75716.58890184666,"d":"75,716.59"},{"v":0.6649314046962311,"d":"0.66"},{"v":0.6649314046962311,"d":"0.66"},null,3249.614625960953,317,{"v":1.1646278748722108,"d":"1.16"},{"v":2790.26,"d":"2,790.26"},{"v":2451.638398717319,"d":"2,451.64"},{"v":2451.638398717319,"d":"2,451.64"}]
[null,9,null,"2025-07-28",1,"2025-07-28",30,347,{"v":75716.58890184666,"d":"75,716.59"},{"v":3145.6444704630126,"d":"3,145.64"},{"v":603.7747127009014,"d":"603.77"},{"v":2377.500891517992,"d":"2,377.50"},{"v":372.30917724,"d":"372.31"},0,{"v":6499.229251921906,"d":"6,499.23"},{"v":72570.94443138364,"d":"72,570.94"},{"v":1.2794842181119557,"d":"1.28"},{"v":0.6397421090559778,"d":"0.64"},null,6499.229251921906,347,{"v":1.1815468632791668,"d":"1.18"},{"v":5500.61,"d":"5,500.61"},{"v":2377.500891517992,"d":"2,377.50"},{"v":2377.500891517992,"d":"2,377.50"}]
[null,10,null,"2025-08-28",4,"2025-08-28",31,378,{"v":72570.94443138364,"d":"72,570.94"},{"v":-76.65966949213396,"d":"-76.66"},{"v":598.0598683022025,"d":"598.06"},{"v":2355.905249910885,"d":"2,355.91"},{"v":372.30917724,"d":"372.31"},0,{"v":3249.614625960953,"d":"3,249.61"},{"v":72647.60410087577,"d":"72,647.60"},{"v":0.614715220904488,"d":"0.61"},{"v":0.614715220904488,"d":"0.61"},null,3249.614625960953,378,{"v":1.1992880740021195,"d":"1.20"},{"v":2709.62,"d":"2,709.62"},{"v":2355.905249910885,"d":"2,355.91"},{"v":2355.905249910885,"d":"2,355.91"}]
[null,11,null,"2025-09-28",7,"2025-09-29",32,410,{"v":72647.60410087577,"d":"72,647.60"},{"v":-176.51340741423564,"d":"-176.51"},{"v":618.0861841295973,"d":"618.09"},{"v":2435.7326720055917,"d":"2,435.73"},{"v":372.30917724,"d":"372.31"},0,{"v":3249.614625960953,"d":"3,249.61"},{"v":72824.11750829002,"d":"72,824.12"},{"v":0.5899075196370401,"d":"0.59"},{"v":0.5899075196370401,"d":"0.59"},null,3249.614625960953,410,{"v":1.2178810437154894,"d":"1.22"},{"v":2668.25,"d":"2,668.25"},{"v":2435.7326720055917,"d":"2,435.73"},{"v":2435.7326720055917,"d":"2,435.73"}]
[null,12,null,"2025-10-28",2,"2025-10-28",29,439,{"v":72824.11750829002,"d":"72,824.12"},{"v":106.71687711841616,"d":"106.72"},{"v":561.2783472946029,"d":"561.28"},{"v":2209.3102243079343,"d":"2,209.31"},{"v":372.30917724,"d":"372.31"},0,{"v":3249.614625960953,"d":"3,249.61"},{"v":72717.4006311716,"d":"72,717.40"},{"v":0.568291405914694,"d":"0.57"},{"v":0.568291405914694,"d":"0.57"},null,3249.614625960953,439,{"v":1.2349797866563432,"d":"1.23"},{"v":2631.31,"d":"2,631.31"},{"v":2209.3102243079343,"d":"2,209.31"},{"v":2209.3102243079343,"d":"2,209.31"}]
[null,13,null,"2025-11-28",5,"2025-11-28",31,470,{"$f":"IF(B48>D$18,\"\",P47)","v":{"v":72717.4006311716,"d":"72,717.40"}},{"$f":"IF(B48>D$18,\"\",O48-N48-M48-L48-K48)","v":{"v":-82.62109811772837,"d":"-82.62"}},{"v":599.2668193243163,"d":"599.27"},{"v":2360.6597275143654,"d":"2,360.66"},{"v":372.30917724,"d":"372.31"},0,{"v":3249.614625960953,"d":"3,249.61"},{"$f":"IF(B48>D$18,\"\",I48-J48)","v":{"v":72800.02172928932,"d":"72,800.02"}},{"v":0.5460596890213552,"d":"0.55"},{"v":0.5460596890213552,"d":"0.55"},null,{"$f":"IFERROR(J48+K48+L48+M48+N48,\"\")","v":3249.614625960953},470,{"v":1.2535233055929091,"d":"1.25"},{"v":2592.38,"d":"2,592.38"},{"v":2360.6597275143654,"d":"2,360.66"},{"$f":"IF(O48=\"\",0,L48/((1+$Q$28)^B48))","v":{"v":2360.6597275143654,"d":"2,360.66"}}]
[null,14,null,"2025-12-28",7,"2025-12-29",31,501,{"v":72800.02172928932,"d":"72,800.02"},{"v":3163.630476090481,"d":"3,163.63"},{"v":599.9477028851744,"d":"599.95"},{"v":2363.341895706251,"d":"2,363.34"},{"v":372.30917724,"d":"372.31"},0,{"v":6499.229251921906,"d":"6,499.23"},{"v":69636.39125319885,"d":"69,636.39"},{"v":1.0493953660768858,"d":"1.05"},{"v":0.5246976830384429,"d":"0.52"},null,6499.229251921906,501,{"v":1.2723452599324396,"d":"1.27"},{"v":5108.07,"d":"5,108.07"},{"v":2363.341895706251,"d":"2,363.34"},{"v":2363.341895706251,"d":"2,363.34"}]
[null,15,null,"2026-01-28",3,"2026-01-28",30,531,{"v":69636.39125319885,"d":"69,636.39"},{"v":135.43240055540946,"d":"135.43"},{"v":555.2903628150934,"d":"555.29"},{"v":2186.5826853504504,"d":"2,186.58"},{"v":372.30917724,"d":"372.31"},0,{"v":3249.614625960953,"d":"3,249.61"},{"v":69500.95885264344,"d":"69,500.96"},{"v":0.5048207980447957,"d":"0.50"},{"v":0.5048207980447957,"d":"0.50"},null,3249.614625960953,531,{"v":1.290829099420486,"d":"1.29"},{"v":2517.46,"d":"2,517.46"},{"v":2186.5826853504504,"d":"2,186.58"},{"v":2186.5826853504504,"d":"2,186.58"}]
[null,16,null,"2026-02-28",6,"2026-02-28",31,562,{"v":69500.95885264344,"d":"69,500.96"},{"v":48.30260547991395,"d":"48.30"},{"v":572.7600022842397,"d":"572.76"},{"v":2256.2428409567997,"d":"2,256.24"},{"v":372.30917724,"d":"372.31"},0,{"v":3249.614625960953,"d":"3,249.61"},{"v":69452.65624716353,"d":"69,452.66"},{"v":0.48507206887663745,"d":"0.49"},{"v":0.48507206887663745,"d":"0.49"},null,3249.614625960953,562,{"v":1.3102112092392884,"d":"1.31"},{"v":2480.22,"d":"2,480.22"},{"v":2256.2428409567997,"d":"2,256.24"},{"v":2256.2428409567997,"d":"2,256.24"}]
[null,17,null,"2026-03-28",6,"2026-03-28",28,590,{"v":69452.65624716353,"d":"69,452.66"},{"v":327.22006470540884,"d":"327.22"},{"v":516.7665443730294,"d":"516.77"},{"v":2033.318839642515,"d":"2,033.32"},{"v":372.30917724,"d":"372.31"},0,{"v":3249.614625960953,"d":"3,249.61"},{"v":69125.43618245811,"d":"69,125.44"},{"v":0.4678993995075549,"d":"0.47"},{"v":0.4678993995075549,"d":"0.47"},null,3249.614625960953,590,{"v":1.3279676543015393,"d":"1.33"},{"v":2447.06,"d":"2,447.06"},{"v":2033.318839642515,"d":"2,033.32"},{"v":2033.318839642515,"d":"2,033.32"}]
[null,18,null,"2026-04-28",2,"2026-04-28",31,621,{"v":69125.43618245811,"d":"69,125.44"},{"v":63.588073755368214,"d":"63.59"},{"v":569.6653059090552,"d":"569.67"},{"v":2244.05206905653,"d":"2,244.05"},{"v":372.30917724,"d":"372.31"},0,{"v":3249.614625960953,"d":"3,249.61"},{"v":69061.84810870275,"d":"69,061.85"},{"v":0.4495950456564311,"d":"0.45"},{"v":0.4495950456564311,"d":"0.45"},null,3249.614625960953,621,{"v":1.347907408466552,"d":"1.35"},{"v":2410.86,"d":"2,410.86"},{"v":2244.05206905653,"d":"2,244.05"},{"v":2244.05206905653,"d":"2,244.05"}]
[null,19,null,"2026-05-28",4,"2026-05-28",30,651,{"v":69061.84810870275,"d":"69,061.85"},{"v":158.05454300926294,"d":"158.05"},{"v":550.7088750984176,"d":"550.71"},{"v":2168.542030613273,"d":"2,168.54"},{"v":372.30917724,"d":"372.31"},0,{"v":3249.614625960953,"d":"3,249.61"},{"v":68903.79356569349,"d":"68,903.79"},{"v":0.43256323990406675,"d":"0.43"},{"v":0.43256323990406675,"d":"0.43"},null,3249.614625960953,651,{"v":1.3674889677865179,"d":"1.37"},{"v":2376.34,"d":"2,376.34"},{"v":2168.542030613273,"d":"2,168.54"},{"v":2168.542030613273,"d":"2,168.54"}]
[null,20,null,"2026-06-28",7,"2026-06-29",32,683,{"v":68903.79356569349,"d":"68,903.79"},{"v":-19.138372853399915,"d":"-19.14"},{"v":586.2338251091694,"d":"586.23"},{"v":2310.209996465184,"d":"2,310.21"},{"v":372.30917724,"d":"372.31"},0,{"v":3249.614625960953,"d":"3,249.61"},{"v":68922.93193854688,"d":"68,922.93"},{"v":0.4151065391914504,"d":"0.42"},{"v":0.4151065391914504,"d":"0.42"},null,3249.614625960953,683,{"v":1.3886896129964506,"d":"1.39"},{"v":2340.06,"d":"2,340.06"},{"v":2310.209996465184,"d":"2,310.21"},{"v":2310.209996465184,"d":"2,310.21"}]
[null,21,null,"2026-07-28",2,"2026-07-28",29,712,{"v":68922.93193854688,"d":"68,922.93"},{"v":3504.7518413553616,"d":"3,504.75"},{"v":531.2106847674776,"d":"531.21"},{"v":2090.9575485590667,"d":"2,090.96"},{"v":372.30917724,"d":"372.31"},0,{"v":6499.229251921906,"d":"6,499.23"},{"v":65418.18009719152,"d":"65,418.18"},{"v":0.799791394104074,"d":"0.80"},{"v":0.399895697052037,"d":"0.40"},null,6499.229251921906,712,{"v":1.4081864652052833,"d":"1.41"},{"v":4615.32,"d":"4,615.32"},{"v":2090.9575485590667,"d":"2,090.96"},{"v":2090.9575485590667,"d":"2,090.96"}]
[null,22,null,"2026-08-28",5,"2026-08-28",31,743,{"v":65418.18009719152,"d":"65,418.18"},{"v":214.4901358129331,"d":"214.49"},{"v":539.1136698033212,"d":"539.11"},{"v":2123.701643104699,"d":"2,123.70"},{"v":372.30917724,"d":"372.31"},0,{"v":3249.614625960953,"d":"3,249.61"},{"v":65203.689961378586,"d":"65,203.69"},{"v":0.38425166683937567,"d":"0.38"},{"v":0.38425166683937567,"d":"0.38"},null,3249.614625960953,743,{"v":1.4293307241363944,"d":"1.43"},{"v":2273.52,"d":"2,273.52"},{"v":2123.701643104699,"d":"2,123.70"},{"v":2123.701643104699,"d":"2,123.70"}]
[null,23,null,"2026-09-28",1,"2026-09-28",31,774,{"v":65203.689961378586,"d":"65,203.69"},{"v":223.22085282862895,"d":"223.22"},{"v":537.3460485689345,"d":"537.35"},{"v":2116.73854732339,"d":"2,116.74"},{"v":372.30917724,"d":"372.31"},0,{"v":3249.614625960953,"d":"3,249.61"},{"v":64980.46910854996,"d":"64,980.47"},{"v":0.36921963541314495,"d":"0.37"},{"v":0.36921963541314495,"d":"0.37"},null,3249.614625960953,774,{"v":1.450792469207866,"d":"1.45"},{"v":2239.89,"d":"2,239.89"},{"v":2116.73854732339,"d":"2,116.74"},{"v":2116.73854732339,"d":"2,116.74"}]
[null,24,null,"2026-10-28",3,"2026-10-28",30,804,{"v":64980.46910854996,"d":"64,980.47"},{"v":318.75533290485816,"d":"318.76"},{"v":518.1633858076203,"d":"518.16"},{"v":2040.3867300084748,"d":"2,040.39"},{"v":372.30917724,"d":"372.31"},0,{"v":3249.614625960953,"d":"3,249.61"},{"v":64661.7137756451,"d":"64,661.71"},{"v":0.3552326549713699,"d":"0.36"},{"v":0.3552326549713699,"d":"0.36"},null,3249.614625960953,804,{"v":1.4718686786109085,"d":"1.47"},{"v":2207.82,"d":"2,207.82"},{"v":2040.3867300084748,"d":"2,040.39"},{"v":2040.3867300084748,"d":"2,040.39"}]
[null,25,null,"2026-11-28",6,"2026-11-28",31,835,{"v":64661.7137756451,"d":"64,661.71"},{"v":245.28173077507233,"d":"245.28"},{"v":532.8796025442563,"d":"532.88"},{"v":2099.1441154016247,"d":"2,099.14"},{"v":372.30917724,"d":"372.31"},0,{"v":3249.614625960953,"d":"3,249.61"},{"v":64416.432044870024,"d":"64,416.43"},{"v":0.34133585531120036,"d":"0.34"},{"v":0.34133585531120036,"d":"0.34"},null,3249.614625960953,835,{"v":1.4939691413139102,"d":"1.49"},{"v":2175.16,"d":"2,175.16"},{"v":2099.1441154016247,"d":"2,099.14"},{"v":2099.1441154016247,"d":"2,099.14"}]
[null,26,null,"2026-12-28",1,"2026-12-28",30,865,{"v":64416.432044870024,"d":"64,416.43"},{"v":3590.5784334182517,"d":"3,590.58"},{"v":513.6656750547301,"d":"513.67"},{"v":2022.6759662089248,"d":"2,022.68"},{"v":372.30917724,"d":"372.31"},0,{"v":6499.229251921906,"d":"6,499.23"},{"v":60825.85361145177,"d":"60,825.85"},{"v":0.6568103669970972,"d":"0.66"},{"v":0.3284051834985486,"d":"0.33"},null,6499.229251921906,865,{"v":1.515672594517805,"d":"1.52"},{"v":4288.02,"d":"4,288.02"},{"v":2022.6759662089248,"d":"2,022.68"},{"v":2022.6759662089248,"d":"2,022.68"}]
[null,27,null,"2027-01-28",4,"2027-01-28",31,896,{"v":60825.85361145177,"d":"60,825.85"},{"v":401.4185595314318,"d":"401.42"},{"v":501.2681354123631,"d":"501.27"},{"v":1974.6187537771584,"d":"1,974.62"},{"v":372.30917724,"d":"372.31"},0,{"v":3249.614625960953,"d":"3,249.61"},{"v":60424.435051920336,"d":"60,424.44"},{"v":0.3155578819383686,"d":"0.32"},{"v":0.3155578819383686,"d":"0.32"},null,3249.614625960953,896,{"v":1.5384307835681459,"d":"1.54"},{"v":2112.29,"d":"2,112.29"},{"v":1974.6187537771584,"d":"1,974.62"},{"v":1974.6187537771584,"d":"1,974.62"}]
[null,28,null,"2027-02-28",7,"2027-03-01",32,928,{"v":60424.435051920336,"d":"60,424.44"},{"v":337.30042836755786,"d":"337.30"},{"v":514.0913998701011,"d":"514.09"},{"v":2025.9136204832944,"d":"2,025.91"},{"v":372.30917724,"d":"372.31"},0,{"v":3249.614625960953,"d":"3,249.61"},{"v":60087.13462355278,"d":"60,087.13"},{"v":0.3028230977627024,"d":"0.30"},{"v":0.3028230977627024,"d":"0.30"},null,3249.614625960953,928,{"v":1.5622815977178648,"d":"1.56"},{"v":2080.04,"d":"2,080.04"},{"v":2025.9136204832944,"d":"2,025.91"},{"v":2025.9136204832944,"d":"2,025.91"}]
[null,29,null,"2027-03-28",7,"2027-03-29",28,956,{"v":60087.13462355278,"d":"60,087.13"},{"v":671.0928709672526,"d":"671.09"},{"v":447.08183384934995,"d":"447.08"},{"v":1759.1307439043508,"d":"1,759.13"},{"v":372.30917724,"d":"372.31"},0,{"v":3249.614625960953,"d":"3,249.61"},{"v":59416.04175258553,"d":"59,416.04"},{"v":0.29210246206985907,"d":"0.29"},{"v":0.29210246206985907,"d":"0.29"},null,3249.614625960953,956,{"v":1.5834541897137377,"d":"1.58"},{"v":2052.23,"d":"2,052.23"},{"v":1759.1307439043508,"d":"1,759.13"},{"v":1759.1307439043508,"d":"1,759.13"}]
[null,30,null,"2027-04-28",3,"2027-04-28",30,986,{"v":59416.04175258553,"d":"59,416.04"},{"v":537.8498770250358,"d":"537.85"},{"v":473.79186066472636,"d":"473.79"},{"v":1865.6637110311913,"d":"1,865.66"},{"v":372.30917724,"d":"372.31"},0,{"v":3249.614625960953,"d":"3,249.61"},{"v":58878.19187556049,"d":"58,878.19"},{"v":0.2810368766239665,"d":"0.28"},{"v":0.2810368766239665,"d":"0.28"},null,3249.614625960953,986,{"v":1.6064576259672727,"d":"1.61"},{"v":2022.84,"d":"2,022.84"},{"v":1865.6637110311913,"d":"1,865.66"},{"v":1865.6637110311913,"d":"1,865.66"}]
[null,31,null,"2027-05-28",5,"2027-05-28",30,1016,{"v":58878.19187556049,"d":"58,878.19"},{"v":559.0272536126881,"d":"559.03"},{"v":469.50297021566007,"d":"469.50"},{"v":1848.7752248926051,"d":"1,848.78"},{"v":372.30917724,"d":"372.31"},0,{"v":3249.614625960953,"d":"3,249.61"},{"v":58319.164621947806,"d":"58,319.16"},{"v":0.27039048374630037,"d":"0.27"},{"v":0.27039048374630037,"d":"0.27"},null,3249.614625960953,1016,{"v":1.6297952418155874,"d":"1.63"},{"v":1993.88,"d":"1,993.88"},{"v":1848.7752248926051,"d":"1,848.78"},{"v":1848.7752248926051,"d":"1,848.78"}]
[null,32,null,"2027-06-28",1,"2027-06-28",31,1047,{"v":58319.164621947806,"d":"58,319.16"},{"v":503.4521198663768,"d":"503.45"},{"v":480.61041766204806,"d":"480.61"},{"v":1893.2429111925285,"d":"1,893.24"},{"v":372.30917724,"d":"372.31"},0,{"v":3249.614625960953,"d":"3,249.61"},{"v":57815.71250208143,"d":"57,815.71"},{"v":0.2598127332775505,"d":"0.26"},{"v":0.2598127332775505,"d":"0.26"},null,3249.614625960953,1047,{"v":1.6542670099010859,"d":"1.65"},{"v":1964.38,"d":"1,964.38"},{"v":1893.2429111925285,"d":"1,893.24"},{"v":1893.2429111925285,"d":"1,893.24"}]
[null,33,null,"2027-07-28",3,"2027-07-28",30,1077,{"v":57815.71250208143,"d":"57,815.71"},{"v":3850.4760916278187,"d":"3,850.48"},{"v":461.03061048872434,"d":"461.03"},{"v":1815.4133725653624,"d":"1,815.41"},{"v":372.30917724,"d":"372.31"},0,{"v":6499.229251921906,"d":"6,499.23"},{"v":53965.23641045361,"d":"53,965.24"},{"v":0.4999407300442115,"d":"0.50"},{"v":0.24997036502210576,"d":"0.25"},null,6499.229251921906,1077,{"v":1.678299170702318,"d":"1.68"},{"v":3872.51,"d":"3,872.51"},{"v":1815.4133725653624,"d":"1,815.41"},{"v":1815.4133725653624,"d":"1,815.41"}]
[null,34,null,"2027-08-28",6,"2027-08-28",31,1108,{"v":53965.23641045361,"d":"53,965.24"},{"v":680.6766573824655,"d":"680.68"},{"v":444.72953236882336,"d":"444.73"},{"v":1751.8992589696645,"d":"1,751.90"},{"v":372.30917724,"d":"372.31"},0,{"v":3249.614625960953,"d":"3,249.61"},{"v":53284.559753071146,"d":"53,284.56"},{"v":0.24019145524262156,"d":"0.24"},{"v":0.24019145524262156,"d":"0.24"},null,3249.614625960953,1108,{"v":1.7034992369620272,"d":"1.70"},{"v":1907.61,"d":"1,907.61"},{"v":1751.8992589696645,"d":"1,751.90"},{"v":1751.8992589696645,"d":"1,751.90"}]
[null,35,null,"2027-09-28",2,"2027-09-28",31,1139,{"v":53284.559753071146,"d":"53,284.56"},{"v":708.383270799779,"d":"708.38"},{"v":439.12005056780527,"d":"439.12"},{"v":1729.802127353369,"d":"1,729.80"},{"v":372.30917724,"d":"372.31"},0,{"v":3249.614625960953,"d":"3,249.61"},{"v":52576.17648227137,"d":"52,576.18"},{"v":0.23079509911691495,"d":"0.23"},{"v":0.23079509911691495,"d":"0.23"},null,3249.614625960953,1139,{"v":1.7290776882859604,"d":"1.73"},{"v":1879.39,"d":"1,879.39"},{"v":1729.802127353369,"d":"1,729.80"},{"v":1729.802127353369,"d":"1,729.80"}]
[null,36,null,"2027-10-28",4,"2027-10-28",30,1169,{"v":52576.17648227137,"d":"52,576.18"},{"v":807.1636926931681,"d":"807.16"},{"v":419.2498144844594,"d":"419.25"},{"v":1650.8919415433259,"d":"1,650.89"},{"v":372.30917724,"d":"372.31"},0,{"v":3249.614625960953,"d":"3,249.61"},{"v":51769.0127895782,"d":"51,769.01"},{"v":0.22205199277103044,"d":"0.22"},{"v":0.22205199277103044,"d":"0.22"},null,3249.614625960953,1169,{"v":1.7541966520288184,"d":"1.75"},{"v":1852.48,"d":"1,852.48"},{"v":1650.8919415433259,"d":"1,650.89"},{"v":1650.8919415433259,"d":"1,650.89"}]
[null,37,null,"2027-11-28",7,"2027-11-29",32,1201,{"v":51769.0127895782,"d":"51,769.01"},{"v":701.1402554298529,"d":"701.14"},{"v":440.45102336528356,"d":"440.45"},{"v":1735.7141699258168,"d":"1,735.71"},{"v":372.30917724,"d":"372.31"},0,{"v":3249.614625960953,"d":"3,249.61"},{"v":51067.872534148344,"d":"51,067.87"},{"v":0.21309077086668268,"d":"0.21"},{"v":0.21309077086668268,"d":"0.21"},null,3249.614625960953,1201,{"v":1.7813925576077223,"d":"1.78"},{"v":1824.2,"d":"1,824.20"},{"v":1735.7141699258168,"d":"1,735.71"},{"v":1735.7141699258168,"d":"1,735.71"}]
[null,38,null,"2027-12-28",2,"2027-12-28",29,1230,{"v":51067.872534148344,"d":"51,067.87"},{"v":4184.046355641506,"d":"4,184.05"},{"v":393.59613376097974,"d":"393.60"},{"v":1549.2775852794198,"d":"1,549.28"},{"v":372.30917724,"d":"372.31"},0,{"v":6499.229251921906,"d":"6,499.23"},{"v":46883.82617850684,"d":"46,883.83"},{"v":0.4105648757886062,"d":"0.41"},{"v":0.2052824378943031,"d":"0.21"},null,6499.229251921906,1230,{"v":1.8064028601955338,"d":"1.81"},{"v":3597.88,"d":"3,597.88"},{"v":1549.2775852794198,"d":"1,549.28"},{"v":1549.2775852794198,"d":"1,549.28"}]
[null,39,null,"2028-01-28",5,"2028-01-28",31,1261,{"v":46883.82617850684,"d":"46,883.83"},{"v":968.9220285407032,"d":"968.92"},{"v":386.37136569626085,"d":"386.37"},{"v":1522.0120544839892,"d":"1,522.01"},{"v":372.30917724,"d":"372.31"},0,{"v":3249.614625960953,"d":"3,249.61"},{"v":45914.90414996613,"d":"45,914.90"},{"v":0.19725173217723366,"d":"0.20"},{"v":0.19725173217723366,"d":"0.20"},null,3249.614625960953,1261,{"v":1.8335264342062427,"d":"1.83"},{"v":1772.33,"d":"1,772.33"},{"v":1522.0120544839892,"d":"1,522.01"},{"v":1522.0120544839892,"d":"1,522.01"}]
[null,40,null,"2028-02-28",1,"2028-02-28",31,1292,{"v":45914.90414996613,"d":"45,914.90"},{"v":1008.3615300795555,"d":"1,008.36"},{"v":378.38644300682205,"d":"378.39"},{"v":1490.557475634576,"d":"1,490.56"},{"v":372.30917724,"d":"372.31"},0,{"v":3249.614625960953,"d":"3,249.61"},{"v":44906.542619886575,"d":"44,906.54"},{"v":0.18953518988776039,"d":"0.19"},{"v":0.18953518988776039,"d":"0.19"},null,3249.614625960953,1292,{"v":1.8610572752133263,"d":"1.86"},{"v":1746.11,"d":"1,746.11"},{"v":1490.557475634576,"d":"1,490.56"},{"v":1490.557475634576,"d":"1,490.56"}]
[null,41,null,"2028-03-28",2,"2028-03-28",29,1321,{"v":44906.542619886575,"d":"44,906.54"},{"v":1168.83910501721,"d":"1,168.84"},{"v":346.10882887163496,"d":"346.11"},{"v":1362.3575148321083,"d":"1,362.36"},{"v":372.30917724,"d":"372.31"},0,{"v":3249.614625960953,"d":"3,249.61"},{"v":43737.70351486937,"d":"43,737.70"},{"v":0.1825900093592581,"d":"0.18"},{"v":0.1825900093592581,"d":"0.18"},null,3249.614625960953,1321,{"v":1.8871860503603612,"d":"1.89"},{"v":1721.94,"d":"1,721.94"},{"v":1362.3575148321083,"d":"1,362.36"},{"v":1362.3575148321083,"d":"1,362.36"}]
[null,42,null,"2028-04-28",5,"2028-04-28",31,1352,{"v":43737.70351486937,"d":"43,737.70"},{"v":1096.983426650133,"d":"1,096.98"},{"v":360.44405111298937,"d":"360.44"},{"v":1419.877970957831,"d":"1,419.88"},{"v":372.30917724,"d":"372.31"},0,{"v":3249.614625960953,"d":"3,249.61"},{"v":42640.720088219234,"d":"42,640.72"},{"v":0.17544703771939407,"d":"0.18"},{"v":0.17544703771939407,"d":"0.18"},null,3249.614625960953,1352,{"v":1.9155226034277018,"d":"1.92"},{"v":1696.46,"d":"1,696.46"},{"v":1419.877970957831,"d":"1,419.88"},{"v":1419.877970957831,"d":"1,419.88"}]
[null,43,null,"2028-05-28",7,"2028-05-29",31,1383,{"v":42640.720088219234,"d":"42,640.72"},{"v":1141.635605328147,"d":"1,141.64"},{"v":351.4037696503113,"d":"351.40"},{"v":1384.266073742495,"d":"1,384.27"},{"v":372.30917724,"d":"372.31"},0,{"v":3249.614625960953,"d":"3,249.61"},{"v":41499.084482891085,"d":"41,499.08"},{"v":0.1685835011046278,"d":"0.17"},{"v":0.1685835011046278,"d":"0.17"},null,3249.614625960953,1383,{"v":1.9442846366640936,"d":"1.94"},{"v":1671.37,"d":"1,671.37"},{"v":1384.266073742495,"d":"1,384.27"},{"v":1384.266073742495,"d":"1,384.27"}]
[null,44,null,"2028-06-28",3,"2028-06-28",30,1413,{"v":41499.084482891085,"d":"41,499.08"},{"v":1243.3146686206546,"d":"1,243.31"},{"v":330.91952733751464,"d":"330.92"},{"v":1303.071252762784,"d":"1,303.07"},{"v":372.30917724,"d":"372.31"},0,{"v":3249.614625960953,"d":"3,249.61"},{"v":40255.76981427043,"d":"40,255.77"},{"v":0.16219712858649807,"d":"0.16"},{"v":0.16219712858649807,"d":"0.16"},null,3249.614625960953,1413,{"v":1.9725299929167524,"d":"1.97"},{"v":1647.43,"d":"1,647.43"},{"v":1303.071252762784,"d":"1,303.07"},{"v":1303.071252762784,"d":"1,303.07"}]
[null,45,null,"2028-07-28",5,"2028-07-28",30,1443,{"v":40255.76981427043,"d":"40,255.77"},{"v":4541.883740941193,"d":"4,541.88"},{"v":321.0051615726176,"d":"321.01"},{"v":1264.0311721680953,"d":"1,264.03"},{"v":372.30917724,"d":"372.31"},0,{"v":6499.229251921906,"d":"6,499.23"},{"v":35713.88607332924,"d":"35,713.89"},{"v":0.31210537625953716,"d":"0.31"},{"v":0.15605268812976858,"d":"0.16"},null,6499.229251921906,1443,{"v":2.00118568011314,"d":"2.00"},{"v":3247.69,"d":"3,247.69"},{"v":1264.0311721680953,"d":"1,264.03"},{"v":1264.0311721680953,"d":"1,264.03"}]
[null,46,null,"2028-08-28",1,"2028-08-28",31,1474,{"v":35713.88607332924,"d":"35,713.89"},{"v":1423.5890264936052,"d":"1,423.59"},{"v":294.3194713659856,"d":"294.32"},{"v":1159.3969508613627,"d":"1,159.40"},{"v":372.30917724,"d":"372.31"},0,{"v":3249.614625960953,"d":"3,249.61"},{"v":34290.297046835636,"d":"34,290.30"},{"v":0.14994786383216827,"d":"0.15"},{"v":0.14994786383216827,"d":"0.15"},null,3249.614625960953,1474,{"v":2.0312339650775715,"d":"2.03"},{"v":1599.82,"d":"1,599.82"},{"v":1159.3969508613627,"d":"1,159.40"},{"v":1159.3969508613627,"d":"1,159.40"}]
[null,47,null,"2028-09-28",4,"2028-09-28",31,1505,{"v":34290.297046835636,"d":"34,290.30"},{"v":1481.53552780873,"d":"1,481.54"},{"v":282.5876209350432,"d":"282.59"},{"v":1113.1822999771803,"d":"1,113.18"},{"v":372.30917724,"d":"372.31"},0,{"v":3249.614625960953,"d":"3,249.61"},{"v":32808.761519026906,"d":"32,808.76"},{"v":0.14408186194865907,"d":"0.14"},{"v":0.14408186194865907,"d":"0.14"},null,3249.614625960953,1505,{"v":2.0617334322777525,"d":"2.06"},{"v":1576.16,"d":"1,576.16"},{"v":1113.1822999771803,"d":"1,113.18"},{"v":1113.1822999771803,"d":"1,113.18"}]
[null,48,null,"2028-10-28",6,"2028-10-28",30,1535,{"v":32808.761519026906,"d":"32,808.76"},{"v":1585.4886653723706,"d":"1,585.49"},{"v":261.62167165113453,"d":"261.62"},{"v":1030.195111697448,"d":"1,030.20"},{"v":372.30917724,"d":"372.31"},0,{"v":3249.614625960953,"d":"3,249.61"},{"v":31223.272853654536,"d":"31,223.27"},{"v":0.13862367394401676,"d":"0.14"},{"v":0.13862367394401676,"d":"0.14"},null,3249.6146259609527,1535,{"v":2.091685011483058,"d":"2.09"},{"v":1553.59,"d":"1,553.59"},{"v":1030.195111697448,"d":"1,030.20"},{"v":1030.195111697448,"d":"1,030.20"}]
[null,49,null,"2028-11-28",2,"2028-11-28",31,1566,{"v":31223.272853654536,"d":"31,223.27"},{"v":1606.3772610169672,"d":"1,606.38"},{"v":257.3121598062733,"d":"257.31"},{"v":1013.6160278977129,"d":"1,013.62"},{"v":372.30917724,"d":"372.31"},0,{"v":3249.614625960953,"d":"3,249.61"},{"v":29616.89559263757,"d":"29,616.90"},{"v":0.13320067749930103,"d":"0.13"},{"v":0.13320067749930103,"d":"0.13"},null,3249.614625960953,1566,{"v":2.1230921657044086,"d":"2.12"},{"v":1530.6,"d":"1,530.60"},{"v":1013.6160278977129,"d":"1,013.62"},{"v":1013.6160278977129,"d":"1,013.62"}]
[null,50,null,"2028-12-28",4,"2028-12-28",30,1596,{"v":29616.89559263757,"d":"29,616.90"},{"v":4960.780268549211,"d":"4,960.78"},{"v":236.16928452387296,"d":"236.17"},{"v":929.9705216088225,"d":"929.97"},{"v":372.30917724,"d":"372.31"},0,{"v":6499.229251921906,"d":"6,499.23"},{"v":24656.11532408836,"d":"24,656.12"},{"v":0.25630939296668476,"d":"0.26"},{"v":0.12815469648334238,"d":"0.13"},null,6499.229251921906,1596,{"v":2.1539351263731925,"d":"2.15"},{"v":3017.37,"d":"3,017.37"},{"v":929.9705216088225,"d":"929.97"},{"v":929.9705216088225,"d":"929.97"}]
[null,51,null,"2029-01-28",7,"2029-01-29",32,1628,{"v":24656.11532408836,"d":"24,656.12"},{"v":1840.8595696360414,"d":"1,840.86"},{"v":209.77435422321585,"d":"209.77"},{"v":826.6715248616958,"d":"826.67"},{"v":372.30917724,"d":"372.31"},0,{"v":3249.614625960953,"d":"3,249.61"},{"v":22815.25575445232,"d":"22,815.26"},{"v":0.12298283263767198,"d":"0.12"},{"v":0.12298283263767198,"d":"0.12"},null,3249.6146259609527,1628,{"v":2.187328313079016,"d":"2.19"},{"v":1485.65,"d":"1,485.65"},{"v":826.6715248616958,"d":"826.67"},{"v":826.6715248616958,"d":"826.67"}]
[null,52,null,"2029-02-28",3,"2029-02-28",30,1658,{"v":22815.25575445232,"d":"22,815.26"},{"v":1978.974364723791,"d":"1,978.97"},{"v":181.93205330735748,"d":"181.93"},{"v":716.3990306898049,"d":"716.40"},{"v":372.30917724,"d":"372.31"},0,{"v":3249.614625960953,"d":"3,249.61"},{"v":20836.281389728527,"d":"20,836.28"},{"v":0.11832392961683884,"d":"0.12"},{"v":0.11832392961683884,"d":"0.12"},null,3249.614625960953,1658,{"v":2.2191044564889886,"d":"2.22"},{"v":1464.38,"d":"1,464.38"},{"v":716.3990306898049,"d":"716.40"},{"v":716.3990306898049,"d":"716.40"}]
[null,53,null,"2029-03-28",3,"2029-03-28",28,1686,{"v":20836.281389728527,"d":"20,836.28"},{"v":2112.262043612141,"d":"2,112.26"},{"v":155.0335683783703,"d":"155.03"},{"v":610.0098367304421,"d":"610.01"},{"v":372.30917724,"d":"372.31"},0,{"v":3249.614625960953,"d":"3,249.61"},{"v":18724.019346116387,"d":"18,724.02"},{"v":0.11413498976205334,"d":"0.11"},{"v":0.11413498976205334,"d":"0.11"},null,3249.614625960953,1686,{"v":2.2491785438507668,"d":"2.25"},{"v":1444.8,"d":"1,444.80"},{"v":610.0098367304421,"d":"610.01"},{"v":610.0098367304421,"d":"610.01"}]
[null,54,null,"2029-04-28",6,"2029-04-28",31,1717,{"v":18724.019346116387,"d":"18,724.02"},{"v":2115.1533166997015,"d":"2,115.15"},{"v":154.30534399086028,"d":"154.31"},{"v":607.8467880303915,"d":"607.85"},{"v":372.30917724,"d":"372.31"},0,{"v":3249.614625960953,"d":"3,249.61"},{"v":16608.866029416684,"d":"16,608.87"},{"v":0.10966999741199313,"d":"0.11"},{"v":0.10966999741199313,"d":"0.11"},null,3249.614625960953,1717,{"v":2.2829505013923037,"d":"2.28"},{"v":1423.43,"d":"1,423.43"},{"v":607.8467880303915,"d":"607.85"},{"v":607.8467880303915,"d":"607.85"}]
[null,55,null,"2029-05-28",1,"2029-05-28",30,1747,{"v":16608.866029416684,"d":"16,608.87"},{"v":2223.34562531385,"d":"2,223.35"},{"v":132.4414300834179,"d":"132.44"},{"v":521.5183933236855,"d":"521.52"},{"v":372.30917724,"d":"372.31"},0,{"v":3249.614625960953,"d":"3,249.61"},{"v":14385.520404102834,"d":"14,385.52"},{"v":0.10551541850631108,"d":"0.11"},{"v":0.10551541850631108,"d":"0.11"},null,3249.614625960953,1747,{"v":2.3161157843982156,"d":"2.32"},{"v":1403.04,"d":"1,403.04"},{"v":521.5183933236855,"d":"521.52"},{"v":521.5183933236855,"d":"521.52"}]
[null,56,null,"2029-06-28",4,"2029-06-28",31,1778,{"v":14385.520404102834,"d":"14,385.52"},{"v":2291.7498132800906,"d":"2,291.75"},{"v":118.5516118847119,"d":"118.55"},{"v":467.00402355615114,"d":"467.00"},{"v":372.30917724,"d":"372.31"},0,{"v":3249.614625960953,"d":"3,249.61"},{"v":12093.770590822744,"d":"12,093.77"},{"v":0.1013876261665012,"d":"0.10"},{"v":0.1013876261665012,"d":"0.10"},null,3249.614625960953,1778,{"v":2.3508928207281383,"d":"2.35"},{"v":1382.29,"d":"1,382.29"},{"v":467.00402355615114,"d":"467.00"},{"v":467.00402355615114,"d":"467.00"}]
[null,57,null,"2029-07-28",6,"2029-07-28",30,1808,{"v":12093.770590822744,"d":"12,093.77"},{"v":5650.738253123904,"d":"5,650.74"},{"v":96.437425006167,"d":"96.44"},{"v":379.7443965518353,"d":"379.74"},{"v":372.30917724,"d":"372.31"},0,{"v":6499.229251921906,"d":"6,499.23"},{"v":6443.03233769884,"d":"6,443.03"},{"v":0.19509360916880805,"d":"0.20"},{"v":0.09754680458440403,"d":"0.10"},null,6499.229251921906,1808,{"v":2.3850451274331963,"d":"2.39"},{"v":2724.99,"d":"2,724.99"},{"v":379.7443965518353,"d":"379.74"},{"v":379.7443965518353,"d":"379.74"}]
[null,58,null,"2029-08-28",2,"2029-08-28",31,1839,{"v":6443.03233769884,"d":"6,443.03"},{"v":2615.0449403286907,"d":"2,615.04"},{"v":53.09727056114505,"d":"53.10"},{"v":209.16323783111736,"d":"209.16"},{"v":372.30917724,"d":"372.31"},0,{"v":3249.614625960953,"d":"3,249.61"},{"v":3827.987397370149,"d":"3,827.99"},{"v":0.0937307466239994,"d":"0.09"},{"v":0.0937307466239994,"d":"0.09"},null,3249.614625960953,1839,{"v":2.4208571544501445,"d":"2.42"},{"v":1342.34,"d":"1,342.34"},{"v":209.16323783111736,"d":"209.16"},{"v":209.16323783111736,"d":"209.16"}]
[null,59,null,"2029-09-28",5,"2029-09-28",31,1870,{"v":3827.987397370149,"d":"3,827.99"},{"v":2721.489077122231,"d":"2,721.49"},{"v":31.5465873659436,"d":"31.55"},{"v":124.26978423277899,"d":"124.27"},{"v":372.30917724,"d":"372.31"},0,{"v":3249.614625960953,"d":"3,249.61"},{"v":1106.4983202479184,"d":"1,106.50"},{"v":0.09006397390588651,"d":"0.09"},{"v":0.09006397390588651,"d":"0.09"},null,3249.614625960953,1870,{"v":2.457206907677935,"d":"2.46"},{"v":1322.48,"d":"1,322.48"},{"v":124.26978423277899,"d":"124.27"},{"v":124.26978423277899,"d":"124.27"}]
[null,60,null,"2029-10-28",7,"2029-10-29",31,1901,{"v":1106.4983202479184,"d":"1,106.50"},{"v":1106.4983202479184,"d":"1,106.50"},{"v":9.118694056817326,"d":"9.12"},{"v":35.92078375326092,"d":"35.92"},{"v":372.30917724,"d":"372.31"},0,{"v":1523.8469752979966,"d":"1,523.85"},0,{"v":0.08654064635011964,"d":"0.09"},{"v":0.08654064635011964,"d":"0.09"},null,1523.8469752979966,1901,{"v":2.4941024612051326,"d":"2.49"},610.98,{"v":35.92078375326092,"d":"35.92"},{"v":35.92078375326092,"d":"35.92"}]
[null,61,null,"","","","","","","","","","","","","","","",null,"","","","",0,0]
[null,62,null,"","","","","","","","","","","","","","","",null,"","","","",0,0]
[null,63,null,"","","","","","","","","","","","","","","",null,"","","","",0,0]
[null,64,null,"","","","","","","","","","","","","","","",null,"","","","",0,0]
[null,65,null,"",{"$f":"IF(B100<=$D$18,WEEKDAY(D100,2),\"\")","v":""},"","","","",{"$f":"IF(B100>D$18,\"\",O100-N100-M100-L100-K100)","v":""},{"$f":"IF(B100>D$18,\"\",((1+D$23)^(G100/360)-1)*I100)","v":""},{"$f":"IF(B100>D$18,\"\",((1+D$13)^(G100/30)-1)*I100)","v":""},{"$f":"IF(B100>D$18,\"\",D$25*D$26)","v":""},{"$f":"IF(B100>D$18,\"\",D$27)","v":""},{"$f":"IF(B100>D$18,\"\",IF(B100=D$18,I100+K100+L100+M100+N100,IF(AND(D$21=2,MONTH(F100)=7),2*D$28,IF(AND(D$22=2,MONTH(F100)=12),2*D$28,D$28))))","v":""},{"$f":"IF(B100>D$18,\"\",I100-J100)","v":""},{"$f":"IFERROR(IF(AND(MONTH(F100)=7,D$21=2),2/(1+D$24)^(H100/360),IF(AND(MONTH(F100)=12,D$22=2),2/(1+D$24)^(H100/360),1/(1+D$24)^(H100/360))),\"\")","v":""},{"$f":"IFERROR(1/(1+D$24)^(H100/360),\"\")","v":""},null,"",{"$f":"H100","v":""},{"$f":"IFERROR((1+D$30)^(U100/360),\"\")","v":""},{"$f":"IFERROR(ROUND(T100/V100,2),\"\")","v":""},0,0]
[null,66,null,{"$f":"IF(B101>$D$18,\"\",EDATE(D100,1))","v":""},"",{"$f":"IF(E101=7,D101+1,D101)","v":""},{"$f":"IF(B101>D$18,\"\",F101-F100)","v":""},{"$f":"IFERROR(G101+H100,\"\")","v":""},{"$f":"IF(B101>D$18,\"\",P100)","v":""},"","","","","","","","","",null,{"$f":"IFERROR(J101+K101+L101+M101+N101,\"\")","v":""},"","","",{"$f":"IF(O101=\"\",0,L101/((1+$I$9)^B101))","v":0},0]
[null,67,null,"","","","","","","","","","","","","","","",null,"","","","",0,{"$f":"IF(O102=\"\",0,L102/((1+$Q$28)^B102))","v":0}]
[null,68,null,"","","","","","","","","","","","","","","",null,"","","","",0,0]
[null,69,null,"","","","","","","","","","","","","","","",null,"","","","",0,0]
[null,70,null,"","","","","","","","","","","","","","","",null,"","","","",0,0]
[null,71,null,"","","","","","","","","","","","","","","",null,"","","","",0,0]
[null,72,null,"","","","","","","","","","","","","","","",null,"","","","",0,0]
[null,73,null,"","","","","","","","","","","","","","","",null,"","","","",0,0]
[null,74,null,"","","","","","","","","","","","","","","",null,"","","","",0,0]
[null,75,null,"","","","","","","","","","","","","","","",null,"","","","",0,0]
[null,76,null,"","","","","","","","","","","","","","","",null,"","","","",0,0]
[null,77,null,"","","","","","","","","","","","","","","",null,"","","","",0,0]
[null,78,null,"","","","","","","","","","","","","","","",null,"","","","",0,0]
[null,79,null,"","","","","","","","","","","","","","","",null,"","","","",0,0]
[null,80,null,"","","","","","","","","","","","","","","",null,"","","","",0,0]
[null,81,null,"","","","","","","","","","","","","","","",null,"","","","",0,0]
[null,82,null,"","","","","","","","","","","","","","","",null,"","","","",0,0]
[null,83,null,"","","","","","","","","","","","","","","",null,"","","","",0,0]
[null,84,null,"","","","","","","","","","","","","","","",null,"","","","",0,0]
[null,85,null,"","","","","","","","","","","","","","","",null,"","","","",0,0]
[null,86,null,"","","","","","","","","","","","","","","",null,"","","","",0,0]
[null,87,null,"","","","","","","","","","","","","","","",null,"","","","",0,0]
[null,88,null,"","","","","","","","","","","","","","","",null,"","","","",0,0]
[null,89,null,"","","","","","","","","","","","","","","",null,"","","","",0,0]
[null,90,null,"","","","","","","","","","","","","","","",null,"","","","",0,0]
[null,91,null,"","","","","","","","","","","","","","","",null,"","","","",0,0]
[null,92,null,"","","","","","","","","","","","","","","",null,"","","","",0,0]
[null,93,null,"","","","","","","","","","","","","","","",null,"","","","",0,0]
[null,94,null,"","","","","","","","","","","","","","","",null,"","","","",0,0]
[null,95,null,"","","","","","","","","","","","","","","",null,"","","","",0,0]
[null,96,null,"","","","","","","","","","","","","","","",null,"","","","",0,0]
[null,97,null,"","","","","","","","","","","","","","","",null,"","","","",0,0]
[null,98,null,"","","","","","","","","","","","","","","",null,"","","","",0,0]
[null,99,null,"","","","","","","","","","","","","","","",null,"","","","",0,0]
[null,100,null,"","","","","","","","","","","","","","","",null,"","","","",0,0]
[null,101,null,"","","","","","","","","","","","","","","",null,"","","","",0,0]
[null,102,null,"","","","","","","","","","","","","","","",null,"","","","",0,0]
[null,103,null,"","","","","","","","","","","","","","","",null,"","","","",0,0]
[null,104,null,"","","","","","","","","","","","","","","",null,"","","","",0,0]
[null,105,null,"","","","","","","","","","","","","","","",null,"","","","",0,0]
[null,106,null,"","","","","","","","","","","","","","","",null,"","","","",0,0]
[null,107,null,"","","","","","","","","","","","","","","",null,"","","","",0,0]
[null,108,null,"","","","","","","","","","","","","","","",null,"","","","",0,0]
[null,109,null,"","","","","","","","","","","","","","","",null,"","","","",0,0]
[null,110,null,"","","","","","","","","","","","","","","",null,"","","","",0,0]
[null,111,null,"","","","","","","","","","","","","","","",null,"","","","",0,0]
[null,112,null,"","","","","","","","","","","","","","","",null,"","","","",0,0]
[null,113,null,"","","","","","","","","","","","","","","",null,"","","","",0,0]
[null,114,null,"","","","","","","","","","","","","","","",null,"","","","",0,0]
[null,115,null,"","","","","","","","","","","","","","","",null,"","","","",0,0]
[null,116,null,"","","","","","","","","","","","","","","",null,"","","","",0,0]
[null,117,null,"","","","","","","","","","","","","","","",null,"","","","",0,0]
[null,118,null,"","","","","","","","","","","","","","","",null,"","","","",0,0]
[null,119,null,"","","","","","","","","","","","","","","",null,"","","","",0,0]
[null,120,null,"","","","","","","","","","","","","","","",null,"","","","",0,0]
[null,121,null,"","","","","","","","","","","","","","","",null,"","","","",0,0]
[null,122,null,"","","","","","","","","","","","","","","",null,"","","","",0,0]
[null,123,null,"","","","","","","","","","","","","","","",null,"","","","",0,0]
[null,124,null,"","","","","","","","","","","","","","","",null,"","","","",0,0]
[null,125,null,"","","","","","","","","","","","","","","",null,"","","","",0,0]
[null,126,null,"","","","","","","","","","","","","","","",null,"","","","",0,0]
[null,127,null,"","","","","","","","","","","","","","","",null,"","","","",0,0]
[null,128,null,"","","","","","","","","","","","","","","",null,"","","","",0,0]
[null,129,null,"",{"$f":"IF(B164<=$D$18,WEEKDAY(D164,2),\"\")","v":""},"","","","",{"$f":"IF(B164>D$18,\"\",O164-N164-M164-L164-K164)","v":""},{"$f":"IF(B164>D$18,\"\",((1+D$23)^(G164/360)-1)*I164)","v":""},{"$f":"IF(B164>D$18,\"\",((1+D$13)^(G164/30)-1)*I164)","v":""},{"$f":"IF(B164>D$18,\"\",D$25*D$26)","v":""},{"$f":"IF(B164>D$18,\"\",D$27)","v":""},{"$f":"IF(B164>D$18,\"\",IF(B164=D$18,I164+K164+L164+M164+N164,IF(AND(D$21=2,MONTH(F164)=7),2*D$28,IF(AND(D$22=2,MONTH(F164)=12),2*D$28,D$28))))","v":""},{"$f":"IF(B164>D$18,\"\",I164-J164)","v":""},{"$f":"IFERROR(IF(AND(MONTH(F164)=7,D$21=2),2/(1+D$24)^(H164/360),IF(AND(MONTH(F164)=12,D$22=2),2/(1+D$24)^(H164/360),1/(1+D$24)^(H164/360))),\"\")","v":""},{"$f":"IFERROR(1/(1+D$24)^(H164/360),\"\")","v":""},null,"",{"$f":"H164","v":""},{"$f":"IFERROR((1+D$30)^(U164/360),\"\")","v":""},{"$f":"IFERROR(ROUND(T164/V164,2),\"\")","v":""},0,0]
[null,130,null,{"$f":"IF(B165>$D$18,\"\",EDATE(D164,1))","v":""},"",{"$f":"IF(E165=7,D165+1,D165)","v":""},{"$f":"IF(B165>D$18,\"\",F165-F164)","v":""},{"$f":"IFERROR(G165+H164,\"\")","v":""},{"$f":"IF(B165>D$18,\"\",P164)","v":""},"","","","","","","","","",null,{"$f":"IFERROR(J165+K165+L165+M165+N165,\"\")","v":""},"","","",{"$f":"IF(O165=\"\",0,L165/((1+$I$9)^B165))","v":0},0]
[null,131,null,"","","","","","","","","","","","","","","",null,"","","","",0,{"$f":"IF(O166=\"\",0,L166/((1+$Q$28)^B166))","v":0}]
[null,132,null,"","","","","","","","","","","","","","","",null,"","","","",0,0]
[null,133,null,"","","","","","","","","","","","","","","",null,"","","","",0,0]
[null,134,null,"","","","","","","","","","","","","","","",null,"","","","",0,0]
[null,135,null,"","","","","","","","","","","","","","","",null,"","","","",0,0]
[null,136,null,"","","","","","","","","","","","","","","",null,"","","","",0,0]
[null,137,null,"","","","","","","","","","","","","","","",null,"","","","",0,0]
[null,138,null,"","","","","","","","","","","","","","","",null,"","","","",0,0]
[null,139,null,"","","","","","","","","","","","","","","",null,"","","","",0,0]
[null,140,null,"","","","","","","","","","","","","","","",null,"","","","",0,0]
[null,141,null,"","","","","","","","","","","","","","","",null,"","","","",0,0]
[null,142,null,"","","","","","","","","","","","","","","",null,"","","","",0,0]
[null,143,null,"","","","","","","","","","","","","","","",null,"","","","",0,0]
[null,144,null,"","","","","","","","","","","","","","","",null,"","","","",0,0]
[null,145,null,"","","","","","","","","","","","","","","",null,"","","","",0,0]
[null,146,null,"","","","","","","","","","","","","","","",null,"","","","",0,0]
[null,147,null,"","","","","","","","","","","","","","","",null,"","","","",0,0]
[null,148,null,"","","","","","","","","","","","","","","",null,"","","","",0,0]
[null,149,null,"","","","","","","","","","","","","","","",null,"","","","",0,0]
[null,150,null,"","","","","","","","","","","","","","","",null,"","","","",0,0]
[null,151,null,"","","","","","","","","","","","","","","",null,"","","","",0,0]
[null,152,null,"","","","","","","","","","","","","","","",null,"","","","",0,0]
[null,153,null,"","","","","","","","","","","","","","","",null,"","","","",0,0]
[null,154,null,"","","","","","","","","","","","","","","",null,"","","","",0,0]
[null,155,null,"","","","","","","","","","","","","","","",null,"","","","",0,0]
[null,156,null,"","","","","","","","","","","","","","","",null,"","","","",0,0]
[null,157,null,"","","","","","","","","","","","","","","",null,"","","","",0,0]
[null,158,null,"","","","","","","","","","","","","","","",null,"","","","",0,0]
[null,159,null,"","","","","","","","","","","","","","","",null,"","","","",0,0]
[null,160,null,"","","","","","","","","","","","","","","",null,"","","","",0,0]
[null,161,null,"","","","","","","","","","","","","","","",null,"","","","",0,0]
[null,162,null,"","","","","","","","","","","","","","","",null,"","","","",0,0]
[null,163,null,"","","","","","","","","","","","","","","",null,"","","","",0,0]
[null,164,null,"","","","","","","","","","","","","","","",null,"","","","",0,0]
[null,165,null,"","","","","","","","","","","","","","","",null,"","","","",0,0]
[null,166,null,"","","","","","","","","","","","","","","",null,"","","","",0,0]
[null,167,null,"","","","","","","","","","","","","","","",null,"","","","",0,0]
[null,168,null,"","","","","","","","","","","","","","","",null,"","","","",0,0]
[null,169,null,"","","","","","","","","","","","","","","",null,"","","","",0,0]
[null,170,null,"","","","","","","","","","","","","","","",null,"","","","",0,0]
[null,171,null,"","","","","","","","","","","","","","","",null,"","","","",0,0]
[null,172,null,"","","","","","","","","","","","","","","",null,"","","","",0,0]
[null,173,null,"","","","","","","","","","","","","","","",null,"","","","",0,0]
[null,174,null,"","","","","","","","","","","","","","","",null,"","","","",0,0]
[null,175,null,"","","","","","","","","","","","","","","",null,"","","","",0,0]
[null,176,null,"","","","","","","","","","","","","","","",null,"","","","",0,0]
[null,177,null,"","","","","","","","","","","","","","","",null,"","","","",0,0]
[null,178,null,"","","","","","","","","","","","","","","",null,"","","","",0,0]
[null,179,null,"","","","","","","","","","","","","","","",null,"","","","",0,0]
[null,180,null,"","","","","","","","","","","","","","","",null,"","","","",0,0]
[null,181,null,"","","","","","","","","","","","","","","",null,"","","","",0,0]
[null,182,null,"","","","","","","","","","","","","","","",null,"","","","",0,0]
[null,183,null,"","","","","","","","","","","","","","","",null,"","","","",0,0]
[null,184,null,"","","","","","","","","","","","","","","",null,"","","","",0,0]
[null,185,null,"","","","","","","","","","","","","","","",null,"","","","",0,0]
[null,186,null,"","","","","","","","","","","","","","","",null,"","","","",0,0]
[null,187,null,"","","","","","","","","","","","","","","",null,"","","","",0,0]
[null,188,null,"","","","","","","","","","","","","","","",null,"","","","",0,0]
[null,189,null,"","","","","","","","","","","","","","","",null,"","","","",0,0]
[null,190,null,"","","","","","","","","","","","","","","",null,"","","","",0,0]
[null,191,null,"","","","","","","","","","","","","","","",null,"","","","",0,0]
[null,192,null,"","","","","","","","","","","","","","","",null,"","","","",0,0]
[null,193,null,"",{"$f":"IF(B228<=$D$18,WEEKDAY(D228,2),\"\")","v":""},"","","","",{"$f":"IF(B228>D$18,\"\",O228-N228-M228-L228-K228)","v":""},{"$f":"IF(B228>D$18,\"\",((1+D$23)^(G228/360)-1)*I228)","v":""},{"$f":"IF(B228>D$18,\"\",((1+D$13)^(G228/30)-1)*I228)","v":""},{"$f":"IF(B228>D$18,\"\",D$25*D$26)","v":""},{"$f":"IF(B228>D$18,\"\",D$27)","v":""},{"$f":"IF(B228>D$18,\"\",IF(B228=D$18,I228+K228+L228+M228+N228,IF(AND(D$21=2,MONTH(F228)=7),2*D$28,IF(AND(D$22=2,MONTH(F228)=12),2*D$28,D$28))))","v":""},{"$f":"IF(B228>D$18,\"\",I228-J228)","v":""},{"$f":"IFERROR(IF(AND(MONTH(F228)=7,D$21=2),2/(1+D$24)^(H228/360),IF(AND(MONTH(F228)=12,D$22=2),2/(1+D$24)^(H228/360),1/(1+D$24)^(H228/360))),\"\")","v":""},{"$f":"IFERROR(1/(1+D$24)^(H228/360),\"\")","v":""},null,"",{"$f":"H228","v":""},{"$f":"IFERROR((1+D$30)^(U228/360),\"\")","v":""},{"$f":"IFERROR(ROUND(T228/V228,2),\"\")","v":""},0,0]
[null,194,null,{"$f":"IF(B229>$D$18,\"\",EDATE(D228,1))","v":""},"",{"$f":"IF(E229=7,D229+1,D229)","v":""},{"$f":"IF(B229>D$18,\"\",F229-F228)","v":""},{"$f":"IFERROR(G229+H228,\"\")","v":""},{"$f":"IF(B229>D$18,\"\",P228)","v":""},"","","","","","","","","",null,{"$f":"IFERROR(J229+K229+L229+M229+N229,\"\")","v":""},"","","",{"$f":"IF(O229=\"\",0,L229/((1+$I$9)^B229))","v":0},0]
[null,195,null,"","","","","","","","","","","","","","","",null,"","","","",0,{"$f":"IF(O230=\"\",0,L230/((1+$Q$28)^B230))","v":0}]
[null,196,null,"","","","","","","","","","","","","","","",null,"","","","",0,0]
[null,197,null,"","","","","","","","","","","","","","","",null,"","","","",0,0]
[null,198,null,"","","","","","","","","","","","","","","",null,"","","","",0,0]
[null,199,null,"","","","","","","","","","","","","","","",null,"","","","",0,0]
[null,200,null,"","","","","","","","","","","","","","","",null,"","","","",0,0]
[null,201,null,"","","","","","","","","","","","","","","",null,"","","","",0,0]
[null,202,null,"","","","","","","","","","","","","","","",null,"","","","",0,0]
[null,203,null,"","","","","","","","","","","","","","","",null,"","","","",0,0]
[null,204,null,"","","","","","","","","","","","","","","",null,"","","","",0,0]
[null,205,null,"","","","","","","","","","","","","","","",null,"","","","",0,0]
[null,206,null,"","","","","","","","","","","","","","","",null,"","","","",0,0]
[null,207,null,"","","","","","","","","","","","","","","",null,"","","","",0,0]
[null,208,null,"","","","","","","","","","","","","","","",null,"","","","",0,0]
[null,209,null,"","","","","","","","","","","","","","","",null,"","","","",0,0]
[null,210,null,"","","","","","","","","","","","","","","",null,"","","","",0,0]
[null,211,null,"","","","","","","","","","","","","","","",null,"","","","",0,0]
[null,212,null,"","","","","","","","","","","","","","","",null,"","","","",0,0]
[null,213,null,"","","","","","","","","","","","","","","",null,"","","","",0,0]
[null,214,null,"","","","","","","","","","","","","","","",null,"","","","",0,0]
[null,215,null,"","","","","","","","","","","","","","","",null,"","","","",0,0]
[null,216,null,"","","","","","","","","","","","","","","",null,"","","","",0,0]
[null,217,null,"","","","","","","","","","","","","","","",null,"","","","",0,0]
[null,218,null,"","","","","","","","","","","","","","","",null,"","","","",0,0]
[null,219,null,"","","","","","","","","","","","","","","",null,"","","","",0,0]
[null,220,null,"","","","","","","","","","","","","","","",null,"","","","",0,0]
[null,221,null,"","","","","","","","","","","","","","","",null,"","","","",0,0]
[null,222,null,"","","","","","","","","","","","","","","",null,"","","","",0,0]
[null,223,null,"","","","","","","","","","","","","","","",null,"","","","",0,0]
[null,224,null,"","","","","","","","","","","","","","","",null,"","","","",0,0]
[null,225,null,"","","","","","","","","","","","","","","",null,"","","","",0,0]
[null,226,null,"","","","","","","","","","","","","","","",null,"","","","",0,0]
[null,227,null,"","","","","","","","","","","","","","","",null,"","","","",0,0]
[null,228,null,"","","","","","","","","","","","","","","",null,"","","","",0,0]
[null,229,null,"","","","","","","","","","","","","","","",null,"","","","",0,0]
[null,230,null,"","","","","","","","","","","","","","","",null,"","","","",0,0]
[null,231,null,"","","","","","","","","","","","","","","",null,"","","","",0,0]
[null,232,null,"","","","","","","","","","","","","","","",null,"","","","",0,0]
[null,233,null,"","","","","","","","","","","","","","","",null,"","","","",0,0]
[null,234,null,"","","","","","","","","","","","","","","",null,"","","","",0,0]
[null,235,null,"","","","","","","","","","","","","","","",null,"","","","",0,0]
[null,236,null,"","","","","","","","","","","","","","","",null,"","","","",0,0]
[null,237,null,"","","","","","","","","","","","","","","",null,"","","","",0,0]
[null,238,null,"","","","","","","","","","","","","","","",null,"","","","",0,0]
[null,239,null,"","","","","","","","","","","","","","","",null,"","","","",0,0]
[null,240,null,"","","","","","","","","","","","","","","",null,"","","","",0,0]
[null,241,null,"","","","","","","","","","","","","","","",null,"","","","",0,0]
[null,242,null,"","","","","","","","","","","","","","","",null,"","","","",0,0]
[null,243,null,"","","","","","","","","","","","","","","",null,"","","","",0,0]
[null,244,null,"","","","","","","","","","","","","","","",null,"","","","",0,0]
[null,245,null,"","","","","","","","","","","","","","","",null,"","","","",0,0]
[null,246,null,"","","","","","","","","","","","","","","",null,"","","","",0,0]
[null,247,null,"","","","","","","","","","","","","","","",null,"","","","",0,0]
[null,248,null,"","","","","","","","","","","","","","","",null,"","","","",0,0]
[null,249,null,"","","","","","","","","","","","","","","",null,"","","","",0,0]
[null,250,null,"","","","","","","","","","","","","","","",null,"","","","",0,0]
[null,251,null,"","","","","","","","","","","","","","","",null,"","","","",0,0]
[null,252,null,"","","","","","","","","","","","","","","",null,"","","","",0,0]
[null,253,null,"","","","","","","","","","","","","","","",null,"","","","",0,0]
[null,254,null,"","","","","","","","","","","","","","","",null,"","","","",0,0]
[null,255,null,"","","","","","","","","","","","","","","",null,"","","","",0,0]
[null,256,null,"","","","","","","","","","","","","","","",null,"","","","",0,0]
[null,257,null,"",{"$f":"IF(B292<=$D$18,WEEKDAY(D292,2),\"\")","v":""},"","","","",{"$f":"IF(B292>D$18,\"\",O292-N292-M292-L292-K292)","v":""},{"$f":"IF(B292>D$18,\"\",((1+D$23)^(G292/360)-1)*I292)","v":""},{"$f":"IF(B292>D$18,\"\",((1+D$13)^(G292/30)-1)*I292)","v":""},{"$f":"IF(B292>D$18,\"\",D$25*D$26)","v":""},{"$f":"IF(B292>D$18,\"\",D$27)","v":""},{"$f":"IF(B292>D$18,\"\",IF(B292=D$18,I292+K292+L292+M292+N292,IF(AND(D$21=2,MONTH(F292)=7),2*D$28,IF(AND(D$22=2,MONTH(F292)=12),2*D$28,D$28))))","v":""},{"$f":"IF(B292>D$18,\"\",I292-J292)","v":""},{"$f":"IFERROR(IF(AND(MONTH(F292)=7,D$21=2),2/(1+D$24)^(H292/360),IF(AND(MONTH(F292)=12,D$22=2),2/(1+D$24)^(H292/360),1/(1+D$24)^(H292/360))),\"\")","v":""},{"$f":"IFERROR(1/(1+D$24)^(H292/360),\"\")","v":""},null,"",{"$f":"H292","v":""},{"$f":"IFERROR((1+D$30)^(U292/360),\"\")","v":""},{"$f":"IFERROR(ROUND(T292/V292,2),\"\")","v":""},0,0]
[null,258,null,{"$f":"IF(B293>$D$18,\"\",EDATE(D292,1))","v":""},"",{"$f":"IF(E293=7,D293+1,D293)","v":""},{"$f":"IF(B293>D$18,\"\",F293-F292)","v":""},{"$f":"IFERROR(G293+H292,\"\")","v":""},{"$f":"IF(B293>D$18,\"\",P292)","v":""},"","","","","","","","","",null,{"$f":"IFERROR(J293+K293+L293+M293+N293,\"\")","v":""},"","","",{"$f":"IF(O293=\"\",0,L293/((1+$I$9)^B293))","v":0},0]
[null,259,null,"","","","","","","","","","","","","","","",null,"","","","",0,{"$f":"IF(O294=\"\",0,L294/((1+$Q$28)^B294))","v":0}]
[null,260,null,"","","","","","","","","","","","","","","",null,"","","","",0,0]
[null,261,null,"","","","","","","","","","","","","","","",null,"","","","",0,0]
[null,262,null,"","","","","","","","","","","","","","","",null,"","","","",0,0]
[null,263,null,"","","","","","","","","","","","","","","",null,"","","","",0,0]
[null,264,null,"","","","","","","","","","","","","","","",null,"","","","",0,0]
[null,265,null,"","","","","","","","","","","","","","","",null,"","","","",0,0]
[null,266,null,"","","","","","","","","","","","","","","",null,"","","","",0,0]
[null,267,null,"","","","","","","","","","","","","","","",null,"","","","",0,0]
[null,268,null,"","","","","","","","","","","","","","","",null,"","","","",0,0]
[null,269,null,"","","","","","","","","","","","","","","",null,"","","","",0,0]
[null,270,null,"","","","","","","","","","","","","","","",null,"","","","",0,0]
[null,271,null,"","","","","","","","","","","","","","","",null,"","","","",0,0]
[null,272,null,"","","","","","","","","","","","","","","",null,"","","","",0,0]
[null,273,null,"","","","","","","","","","","","","","","",null,"","","","",0,0]
[null,274,null,"","","","","","","","","","","","","","","",null,"","","","",0,0]
[null,275,null,"","","","","","","","","","","","","","","",null,"","","","",0,0]
[null,276,null,"","","","","","","","","","","","","","","",null,"","","","",0,0]
[null,277,null,"","","","","","","","","","","","","","","",null,"","","","",0,0]
[null,278,null,"","","","","","","","","","","","","","","",null,"","","","",0,0]
[null,279,null,"","","","","","","","","","","","","","","",null,"","","","",0,0]
[null,280,null,"","","","","","","","","","","","","","","",null,"","","","",0,0]
[null,281,null,"","","","","","","","","","","","","","","",null,"","","","",0,0]
[null,282,null,"","","","","","","","","","","","","","","",null,"","","","",0,0]
[null,283,null,"","","","","","","","","","","","","","","",null,"","","","",0,0]
[null,284,null,"","","","","","","","","","","","","","","",null,"","","","",0,0]
[null,285,null,"","","","","","","","","","","","","","","",null,"","","","",0,0]
[null,286,null,"","","","","","","","","","","","","","","",null,"","","","",0,0]
[null,287,null,"","","","","","","","","","","","","","","",null,"","","","",0,0]
[null,288,null,"","","","","","","","","","","","","","","",null,"","","","",0,0]
[null,289,null,"","","","","","","","","","","","","","","",null,"","","","",0,0]
[null,290,null,"","","","","","","","","","","","","","","",null,"","","","",0,0]
[null,291,null,"","","","","","","","","","","","","","","",null,"","","","",0,0]
[null,292,null,"","","","","","","","","","","","","","","",null,"","","","",0,0]
[null,293,null,"","","","","","","","","","","","","","","",null,"","","","",0,0]
[null,294,null,"","","","","","","","","","","","","","","",null,"","","","",0,0]
[null,295,null,"","","","","","","","","","","","","","","",null,"","","","",0,0]
[null,296,null,"","","","","","","","","","","","","","","",null,"","","","",0,0]
[null,297,null,"","","","","","","","","","","","","","","",null,"","","","",0,0]
[null,298,null,"","","","","","","","","","","","","","","",null,"","","","",0,0]
[null,299,null,"","","","","","","","","","","","","","","",null,"","","","",0,0]
[null,300,null,"","","","","","","","","","","","","","","",null,"","","","",0,0]
[null,301,null,"","","","","","","","","","","","","","","",null,"","","","",0,0]
[null,302,null,"","","","","","","","","","","","","","","",null,"","","","",0,0]
[null,303,null,"","","","","","","","","","","","","","","",null,"","","","",0,0]
[null,304,null,"","","","","","","","","","","","","","","",null,"","","","",0,0]
[null,305,null,"","","","","","","","","","","","","","","",null,"","","","",0,0]
[null,306,null,"","","","","","","","","","","","","","","",null,"","","","",0,0]
[null,307,null,"","","","","","","","","","","","","","","",null,"","","","",0,0]
[null,308,null,"","","","","","","","","","","","","","","",null,"","","","",0,0]
[null,309,null,"","","","","","","","","","","","","","","",null,"","","","",0,0]
[null,310,null,"","","","","","","","","","","","","","","",null,"","","","",0,0]
[null,311,null,"","","","","","","","","","","","","","","",null,"","","","",0,0]
[null,312,null,"","","","","","","","","","","","","","","",null,"","","","",0,0]
[null,313,null,"","","","","","","","","","","","","","","",null,"","","","",0,0]
[null,314,null,"","","","","","","","","","","","","","","",null,"","","","",0,0]
[null,315,null,"","","","","","","","","","","","","","","",null,"","","","",0,0]
[null,316,null,"","","","","","","","","","","","","","","",null,"","","","",0,0]
[null,317,null,"","","","","","","","","","","","","","","",null,"","","","",0,0]
[null,318,null,"","","","","","","","","","","","","","","",null,"","","","",0,0]
[null,319,null,"","","","","","","","","","","","","","","",null,"","","","",0,0]
[null,320,null,"","","","","","","","","","","","","","","",null,"","","","",0,0]
[null,321,null,"",{"$f":"IF(B356<=$D$18,WEEKDAY(D356,2),\"\")","v":""},"","","","",{"$f":"IF(B356>D$18,\"\",O356-N356-M356-L356-K356)","v":""},{"$f":"IF(B356>D$18,\"\",((1+D$23)^(G356/360)-1)*I356)","v":""},{"$f":"IF(B356>D$18,\"\",((1+D$13)^(G356/30)-1)*I356)","v":""},{"$f":"IF(B356>D$18,\"\",D$25*D$26)","v":""},{"$f":"IF(B356>D$18,\"\",D$27)","v":""},{"$f":"IF(B356>D$18,\"\",IF(B356=D$18,I356+K356+L356+M356+N356,IF(AND(D$21=2,MONTH(F356)=7),2*D$28,IF(AND(D$22=2,MONTH(F356)=12),2*D$28,D$28))))","v":""},{"$f":"IF(B356>D$18,\"\",I356-J356)","v":""},{"$f":"IFERROR(IF(AND(MONTH(F356)=7,D$21=2),2/(1+D$24)^(H356/360),IF(AND(MONTH(F356)=12,D$22=2),2/(1+D$24)^(H356/360),1/(1+D$24)^(H356/360))),\"\")","v":""},{"$f":"IFERROR(1/(1+D$24)^(H356/360),\"\")","v":""},null,"",{"$f":"H356","v":""},{"$f":"IFERROR((1+D$30)^(U356/360),\"\")","v":""},{"$f":"IFERROR(ROUND(T356/V356,2),\"\")","v":""},0,0]
[null,322,null,{"$f":"IF(B357>$D$18,\"\",EDATE(D356,1))","v":""},"",{"$f":"IF(E357=7,D357+1,D357)","v":""},{"$f":"IF(B357>D$18,\"\",F357-F356)","v":""},{"$f":"IFERROR(G357+H356,\"\")","v":""},{"$f":"IF(B357>D$18,\"\",P356)","v":""},"","","","","","","","","",null,{"$f":"IFERROR(J357+K357+L357+M357+N357,\"\")","v":""},"","","",{"$f":"IF(O357=\"\",0,L357/((1+$I$9)^B357))","v":0},0]
[null,323,null,"","","","","","","","","","","","","","","",null,"","","","",0,{"$f":"IF(O358=\"\",0,L358/((1+$Q$28)^B358))","v":0}]
[null,324,null,"","","","","","","","","","","","","","","",null,"","","","",0,0]
[null,325,null,"","","","","","","","","","","","","","","",null,"","","","",0,0]
[null,326,null,"","","","","","","","","","","","","","","",null,"","","","",0,0]
[null,327,null,"","","","","","","","","","","","","","","",null,"","","","",0,0]
[null,328,null,"","","","","","","","","","","","","","","",null,"","","","",0,0]
[null,329,null,"","","","","","","","","","","","","","","",null,"","","","",0,0]
[null,330,null,"","","","","","","","","","","","","","","",null,"","","","",0,0]
[null,331,null,"","","","","","","","","","","","","","","",null,"","","","",0,0]
[null,332,null,"","","","","","","","","","","","","","","",null,"","","","",0,0]
[null,333,null,"","","","","","","","","","","","","","","",null,"","","","",0,0]
[null,334,null,"","","","","","","","","","","","","","","",null,"","","","",0,0]
[null,335,null,"","","","","","","","","","","","","","","",null,"","","","",0,0]
[null,336,null,"","","","","","","","","","","","","","","",null,"","","","",0,0]
[null,337,null,"","","","","","","","","","","","","","","",null,"","","","",0,0]
[null,338,null,"","","","","","","","","","","","","","","",null,"","","","",0,0]
[null,339,null,"","","","","","","","","","","","","","","",null,"","","","",0,0]
[null,340,null,"","","","","","","","","","","","","","","",null,"","","","",0,0]
[null,341,null,"","","","","","","","","","","","","","","",null,"","","","",0,0]
[null,342,null,"","","","","","","","","","","","","","","",null,"","","","",0,0]
[null,343,null,"","","","","","","","","","","","","","","",null,"","","","",0,0]
[null,344,null,"","","","","","","","","","","","","","","",null,"","","","",0,0]
[null,345,null,"","","","","","","","","","","","","","","",null,"","","","",0,0]
[null,346,null,"","","","","","","","","","","","","","","",null,"","","","",0,0]
[null,347,null,"","","","","","","","","","","","","","","",null,"","","","",0,0]
[null,348,null,"","","","","","","","","","","","","","","",null,"","","","",0,0]
[null,349,null,"","","","","","","","","","","","","","","",null,"","","","",0,0]
[null,350,null,"","","","","","","","","","","","","","","",null,"","","","",0,0]
[null,351,null,"","","","","","","","","","","","","","","",null,"","","","",0,0]
[null,352,null,"","","","","","","","","","","","","","","",null,"","","","",0,0]
[null,353,null,"","","","","","","","","","","","","","","",null,"","","","",0,0]
[null,354,null,"","","","","","","","","","","","","","","",null,"","","","",0,0]
[null,355,null,"","","","","","","","","","","","","","","",null,"","","","",0,0]
[null,356,null,"","","","","","","","","","","","","","","",null,"","","","",0,0]
[null,357,null,"","","","","","","","","","","","","","","",null,"","","","",0,0]
[null,358,null,"","","","","","","","","","","","","","","",null,"","","","",0,0]
[null,359,null,"","","","","","","","","","","","","","","",null,"","","","",0,0]
[null,360,null,"","","","","","","","","","","","","","","",null,"","","","",0,0]

{"sheet":"TarifarioBD","index":4,"n_rows":14,"n_cols":18,"rows_kept":14,"hidden":true}
["TARIFA","PRODUCTO","TIPO_SEGURO","Valor","Columna1","Columna2",{"$nulls":3},"TARIFA","PRODUCTO","TIPO_SEGURO",null,"TIPO_SEGURO","Valor",null,"Cuota Julio","Cuota Diciembre"]
["TARIFA TITULAR","Préstamos Vehiculares (Clientes)","Seguro de Vida",{"v":0.0314,"d":"3.1400%"},{"$f":"+CONCATENATE(TarifarioPrincipal[[#This Row],[TARIFA]],TarifarioPrincipal[[#This Row],[PRODUCTO]],TarifarioPrincipal[[#This Row],[TIPO_SEGURO]])","v":"TARIFA TITULARPréstamos Vehiculares (Clientes)Seguro de Vida"},{"$f":"+TarifarioPrincipal[[#This Row],[Valor]]","v":{"v":0.0314,"d":"3.1400%"}},{"$nulls":3},"TARIFA TITULAR","Préstamos Vehiculares (Clientes)","Seguro de Vida",null,"Seguro Endosado",{"v":0,"d":"0.0000%"},null,1,1]
["TARIFA TITULAR","Préstamos Vehiculares (Empleados)","Seguro de Vida",{"v":0.015300000000000001,"d":"1.5300%"},{"$f":"+CONCATENATE(TarifarioPrincipal[[#This Row],[TARIFA]],TarifarioPrincipal[[#This Row],[PRODUCTO]],TarifarioPrincipal[[#This Row],[TIPO_SEGURO]])","v":"TARIFA TITULARPréstamos Vehiculares (Empleados)Seguro de Vida"},{"$f":"+TarifarioPrincipal[[#This Row],[Valor]]","v":{"v":0.015300000000000001,"d":"1.5300%"}},{"$nulls":3},"TARIFA TITULAR + CONYUGE","Préstamos Vehiculares (Empleados)","Seguro de Desgravamen",null,"PC - Auto y 4x4 sin GPS Lima",{"v":0.003544,"d":"0.3544%"},null,2,2]
["TARIFA TITULAR","Préstamos Vehiculares (Clientes)","Seguro de Desgravamen",{"v":0.001045,"d":"0.1045%"},{"$f":"+CONCATENATE(TarifarioPrincipal[[#This Row],[TARIFA]],TarifarioPrincipal[[#This Row],[PRODUCTO]],TarifarioPrincipal[[#This Row],[TIPO_SEGURO]])","v":"TARIFA TITULARPréstamos Vehiculares (Clientes)Seguro de Desgravamen"},{"$f":"+TarifarioPrincipal[[#This Row],[Valor]]","v":{"v":0.001045,"d":"0.1045%"}},{"$nulls":5},"Seguro de Desgravamen con Devolución",null,"PC - Auto y 4x4 sin GPS Provincia",{"v":2.735E-3,"d":"0.2735%"}]
["TARIFA TITULAR","Préstamos Vehiculares (Empleados)","Seguro de Desgravamen",{"v":0.00051,"d":"0.0510%"},{"$f":"+CONCATENATE(TarifarioPrincipal[[#This Row],[TARIFA]],TarifarioPrincipal[[#This Row],[PRODUCTO]],TarifarioPrincipal[[#This Row],[TIPO_SEGURO]])","v":"TARIFA TITULARPréstamos Vehiculares (Empleados)Seguro de Desgravamen"},{"$f":"+TarifarioPrincipal[[#This Row],[Valor]]","v":{"v":0.00051,"d":"0.0510%"}},{"$nulls":7},"PC - Auto/4x4 con GPS Lima/Valor >50k",{"v":0.004001,"d":"0.4001%"}]
["TARIFA TITULAR","Préstamos Vehiculares (Clientes)","Seguro de Desgravamen con Devolución",{"v":1.358E-3,"d":"0.1358%"},{"$f":"+CONCATENATE(TarifarioPrincipal[[#This Row],[TARIFA]],TarifarioPrincipal[[#This Row],[PRODUCTO]],TarifarioPrincipal[[#This Row],[TIPO_SEGURO]])","v":"TARIFA TITULARPréstamos Vehiculares (Clientes)Seguro de Desgravamen con Devolución"},{"$f":"+TarifarioPrincipal[[#This Row],[Valor]]","v":{"v":1.358E-3,"d":"0.1358%"}},{"$nulls":7},"PC - Auto/4x4 con GPS Prov/Valor >50k",{"v":3.444E-3,"d":"0.3444%"}]
["TARIFA TITULAR","Préstamos Vehiculares (Empleados)","Seguro de Desgravamen con Devolución",{"v":0.00102,"d":"0.1020%"},{"$f":"+CONCATENATE(TarifarioPrincipal[[#This Row],[TARIFA]],TarifarioPrincipal[[#This Row],[PRODUCTO]],TarifarioPrincipal[[#This Row],[TIPO_SEGURO]])","v":"TARIFA TITULARPréstamos Vehiculares (Empleados)Seguro de Desgravamen con Devolución"},{"$f":"+TarifarioPrincipal[[#This Row],[Valor]]","v":{"v":0.00102,"d":"0.1020%"}},{"$nulls":7},"PC - Auto y 4x4 Med. Riesgo Lima con GPS",{"v":0.005064,"d":"0.5064%"}]
["TARIFA TITULAR + CONYUGE","Préstamos Vehiculares (Clientes)","Seguro de Vida",{"v":0.0628,"d":"6.2800%"},{"$f":"+CONCATENATE(TarifarioPrincipal[[#This Row],[TARIFA]],TarifarioPrincipal[[#This Row],[PRODUCTO]],TarifarioPrincipal[[#This Row],[TIPO_SEGURO]])","v":"TARIFA TITULAR + CONYUGEPréstamos Vehiculares (Clientes)Seguro de Vida"},{"$f":"+TarifarioPrincipal[[#This Row],[Valor]]","v":{"v":0.0628,"d":"6.2800%"}},{"$nulls":7},"PC - Auto y 4x4 Med. Riesgo Provincia con GPS",{"v":0.00395,"d":"0.3950%"}]
["TARIFA TITULAR + CONYUGE","Préstamos Vehiculares (Empleados)","Seguro de Vida",{"v":0.030600000000000002,"d":"3.0600%"},{"$f":"+CONCATENATE(TarifarioPrincipal[[#This Row],[TARIFA]],TarifarioPrincipal[[#This Row],[PRODUCTO]],TarifarioPrincipal[[#This Row],[TIPO_SEGURO]])","v":"TARIFA TITULAR + CONYUGEPréstamos Vehiculares (Empleados)Seguro de Vida"},{"$f":"+TarifarioPrincipal[[#This Row],[Valor]]","v":{"v":0.030600000000000002,"d":"3.0600%"}},{"$nulls":7},"PC - Vehic. Chinos (Autos y Rurales) Lima",{"v":0.003747,"d":"0.3747%"}]
["TARIFA TITULAR + CONYUGE","Préstamos Vehiculares (Clientes)","Seguro de Desgravamen",{"v":0.00209,"d":"0.2090%"},{"$f":"+CONCATENATE(TarifarioPrincipal[[#This Row],[TARIFA]],TarifarioPrincipal[[#This Row],[PRODUCTO]],TarifarioPrincipal[[#This Row],[TIPO_SEGURO]])","v":"TARIFA TITULAR + CONYUGEPréstamos Vehiculares (Clientes)Seguro de Desgravamen"},{"$f":"+TarifarioPrincipal[[#This Row],[Valor]]","v":{"v":0.00209,"d":"0.2090%"}},{"$nulls":7},"PC - Vehic. Chinos (Autos y Rurales) Provincia",{"v":0.003747,"d":"0.3747%"}]
["TARIFA TITULAR + CONYUGE","Préstamos Vehiculares (Empleados)","Seguro de Desgravamen",{"v":0.00102,"d":"0.1020%"},{"$f":"+CONCATENATE(TarifarioPrincipal[[#This Row],[TARIFA]],TarifarioPrincipal[[#This Row],[PRODUCTO]],TarifarioPrincipal[[#This Row],[TIPO_SEGURO]])","v":"TARIFA TITULAR + CONYUGEPréstamos Vehiculares (Empleados)Seguro de Desgravamen"},{"$f":"+TarifarioPrincipal[[#This Row],[Valor]]","v":{"v":0.00102,"d":"0.1020%"}},{"$nulls":7},"PC - Camionetas Pick up/sin GPS/ Lima",{"v":0.004608,"d":"0.4608%"}]
["TARIFA TITULAR + CONYUGE","Préstamos Vehiculares (Clientes)","Seguro de Desgravamen con Devolución",{"v":0.002716,"d":"0.2716%"},{"$f":"+CONCATENATE(TarifarioPrincipal[[#This Row],[TARIFA]],TarifarioPrincipal[[#This Row],[PRODUCTO]],TarifarioPrincipal[[#This Row],[TIPO_SEGURO]])","v":"TARIFA TITULAR + CONYUGEPréstamos Vehiculares (Clientes)Seguro de Desgravamen con Devolución"},{"$f":"+TarifarioPrincipal[[#This Row],[Valor]]","v":{"v":0.002716,"d":"0.2716%"}},{"$nulls":7},"PC - Camionetas Pick up/sin GPS/ Provincia",{"v":0.004608,"d":"0.4608%"}]
["TARIFA TITULAR + CONYUGE","Préstamos Vehiculares (Empleados)","Seguro de Desgravamen con Devolución",{"v":0.00204,"d":"0.2040%"},{"$f":"+CONCATENATE(TarifarioPrincipal[[#This Row],[TARIFA]],TarifarioPrincipal[[#This Row],[PRODUCTO]],TarifarioPrincipal[[#This Row],[TIPO_SEGURO]])","v":"TARIFA TITULAR + CONYUGEPréstamos Vehiculares (Empleados)Seguro de Desgravamen con Devolución"},{"$f":"+TarifarioPrincipal[[#This Row],[Valor]]","v":{"v":0.00204,"d":"0.2040%"}},{"$nulls":7},"PC - Camionetas Pick up/con GPS/ Lima",{"v":0.005317,"d":"0.5317%"}]
[{"$nulls":13},"Camionetas Pick up/con GPS/ Provincia",{"v":0.005317,"d":"0.5317%"}]

{"sheet":"CostoCapBD","index":5,"n_rows":3,"n_cols":2,"rows_kept":3,"hidden":true}
["TARIFA","CostoCapital"]
["TARIFA TITULAR",{"v":0.002871,"d":"0.2871%"}]
["TARIFA TITULAR + CONYUGE",{"v":0.002871,"d":"0.2871%"}]